Mojolicious-Plugin-Export v0.008 Perl 5 v5.40.3 x86_64-linux-ld

Status
Pass
From
Andreas J. König (ANDK)
Dist
Mojolicious-Plugin-Export v0.008
Platform
Perl 5 v5.40.3 x86_64-linux-ld
Date
2025-08-08 11:59:31
ID
24b16a96-744f-11f0-9fb9-d79effb85fa0
This distribution has been tested as part of the CPAN Testers
project, supporting the Perl programming language.  See
http://wiki.cpantesters.org/ for more information or email
questions to cpan-testers-discuss@perl.org


--
Dear Doug Bell,

This is a computer-generated report for Mojolicious-Plugin-Export-0.008
on perl 5.40.3, created by CPAN-Reporter-1.2020.

Thank you for uploading your work to CPAN.  Congratulations!
All tests were successful.

Sections of this report:

    * Tester comments
    * Program output
    * Prerequisites
    * Environment and other context

------------------------------
TESTER COMMENTS
------------------------------

Additional comments from tester:

this report is from an automated smoke testing program
and was not reviewed by a human for accuracy

------------------------------
PROGRAM OUTPUT
------------------------------

Output from '/usr/bin/make test':

PERL_DL_NONLAZY=1 "/tmp/basesmoker-reloperl-oQgT/bin/perl" "-MExtUtils::Command::MM" "-MTest::Harness" "-e" "undef *Test::Harness::Switches; test_harness(0, 'blib/lib', 'blib/arch')" t/*.t
t/00-compile.t ......... ok
# 
# Versions for all modules listed in MYMETA.json (including optional ones):
# 
# === Configure Requires ===
# 
#     Module              Want Have
#     ------------------- ---- ----
#     ExtUtils::MakeMaker  any 7.76
# 
# === Build Requires ===
# 
#     Module              Want Have
#     ------------------- ---- ----
#     ExtUtils::MakeMaker  any 7.76
# 
# === Test Requires ===
# 
#     Module              Want     Have
#     ------------------- ---- --------
#     ExtUtils::MakeMaker  any     7.76
#     File::Spec           any     3.91
#     IO::Handle           any     1.55
#     IPC::Open3           any     1.22
#     Test::More           any 1.302214
# 
# === Test Recommends ===
# 
#     Module         Want     Have
#     ---------- -------- --------
#     CPAN::Meta 2.120900 2.150010
# 
# === Runtime Requires ===
# 
#     Module      Want Have
#     ----------- ---- ----
#     Mojolicious    8 9.41
# 
t/00-report-prereqs.t .. ok
[2025-08-08 11:59:05.26384] [3271113] [trace] [09wOSjGj0ZTw] GET "/"
[2025-08-08 11:59:05.26537] [3271113] [trace] [09wOSjGj0ZTw] Rendering template "index.html.ep" from DATA section
[2025-08-08 11:59:05.26644] [3271113] [trace] [09wOSjGj0ZTw] 200 OK (0.002583s, 387.147/s)
[2025-08-08 11:59:05.26994] [3271113] [trace] [CUdViGPY8jfV] GET "/docs"
[2025-08-08 11:59:05.27049] [3271113] [trace] [CUdViGPY8jfV] Rendering template "docs.html.ep" from DATA section
[2025-08-08 11:59:05.27117] [3271113] [trace] [CUdViGPY8jfV] 200 OK (0.001222s, 818.331/s)
[2025-08-08 11:59:05.27366] [3271113] [trace] [t-JpTiNnSnqW] GET "/about"
[2025-08-08 11:59:05.27423] [3271113] [trace] [t-JpTiNnSnqW] Rendering template "about.html.ep" from DATA section
[2025-08-08 11:59:05.27492] [3271113] [trace] [t-JpTiNnSnqW] 200 OK (0.001239s, 807.103/s)
[2025-08-08 11:59:05.27739] [3271113] [trace] [yIHdRaAPte2W] GET "/NOT_FOUND"
[2025-08-08 11:59:05.27794] [3271113] [trace] [yIHdRaAPte2W] Template "not_found.development.html.ep" not found
[2025-08-08 11:59:05.27816] [3271113] [trace] [yIHdRaAPte2W] Template "not_found.html.ep" not found
[2025-08-08 11:59:05.27837] [3271113] [trace] [yIHdRaAPte2W] Rendering template "mojo/debug.html.ep"
[2025-08-08 11:59:05.29304] [3271113] [trace] Your secret passphrase needs to be changed (see FAQ for more)
[2025-08-08 11:59:05.29614] [3271113] [trace] [yIHdRaAPte2W] 404 Not Found (0.018727s, 53.399/s)
[2025-08-08 11:59:05.29890] [3271113] [trace] [MxgYqcp2oXMF] GET "/redirect"
[2025-08-08 11:59:05.29928] [3271113] [trace] [MxgYqcp2oXMF] Routing to a callback
[2025-08-08 11:59:05.29954] [3271113] [trace] [MxgYqcp2oXMF] 302 Found (0.000629s, 1589.825/s)
[2025-08-08 11:59:05.30357] [3271113] [trace] [vipU9RXVuShF] GET "/docs/more"
[2025-08-08 11:59:05.30394] [3271113] [trace] [vipU9RXVuShF] Routing to a callback
[2025-08-08 11:59:05.30414] [3271113] [trace] [vipU9RXVuShF] Rendering inline template "2da2aed28011bbc3541e0de248c276ca"
[2025-08-08 11:59:05.30483] [3271113] [trace] [vipU9RXVuShF] 200 OK (0.001246s, 802.568/s)
Mojo::File::spurt is deprecated in favor of Mojo::File::spew at /tmp/loop_over_bdir-702062-GQOSHc/Mojolicious-Plugin-Export-0.008-0/blib/lib/Mojolicious/Plugin/Export.pm line 277.
Mojo::File::spurt is deprecated in favor of Mojo::File::spew at /tmp/loop_over_bdir-702062-GQOSHc/Mojolicious-Plugin-Export-0.008-0/blib/lib/Mojolicious/Plugin/Export.pm line 277.
Mojo::File::spurt is deprecated in favor of Mojo::File::spew at /tmp/loop_over_bdir-702062-GQOSHc/Mojolicious-Plugin-Export-0.008-0/blib/lib/Mojolicious/Plugin/Export.pm line 277.
Mojo::File::spurt is deprecated in favor of Mojo::File::spew at /tmp/loop_over_bdir-702062-GQOSHc/Mojolicious-Plugin-Export-0.008-0/blib/lib/Mojolicious/Plugin/Export.pm line 277.
Mojo::File::spurt is deprecated in favor of Mojo::File::spew at /tmp/loop_over_bdir-702062-GQOSHc/Mojolicious-Plugin-Export-0.008-0/blib/lib/Mojolicious/Plugin/Export.pm line 277.
Mojo::File::spurt is deprecated in favor of Mojo::File::spew at t/command.t line 80.
[2025-08-08 11:59:05.31773] [3271113] [trace] [40eomW8QfgC2] GET "/"
[2025-08-08 11:59:05.31803] [3271113] [trace] [40eomW8QfgC2] Rendering cached template "index.html.ep" from DATA section
[2025-08-08 11:59:05.31824] [3271113] [trace] [40eomW8QfgC2] 200 OK (0.0005s, 2000.000/s)
[2025-08-08 11:59:05.32113] [3271113] [trace] [RI3W6CrzxjCi] GET "/docs"
[2025-08-08 11:59:05.32143] [3271113] [trace] [RI3W6CrzxjCi] Rendering cached template "docs.html.ep" from DATA section
[2025-08-08 11:59:05.32160] [3271113] [trace] [RI3W6CrzxjCi] 200 OK (0.00046s, 2173.913/s)
[2025-08-08 11:59:05.32393] [3271113] [trace] [P0-mmRlJtnim] GET "/about"
[2025-08-08 11:59:05.32421] [3271113] [trace] [P0-mmRlJtnim] Rendering cached template "about.html.ep" from DATA section
[2025-08-08 11:59:05.32438] [3271113] [trace] [P0-mmRlJtnim] 200 OK (0.000445s, 2247.191/s)
[2025-08-08 11:59:05.32672] [3271113] [trace] [LE4ZqTSph4oT] GET "/NOT_FOUND"
[2025-08-08 11:59:05.32717] [3271113] [trace] [LE4ZqTSph4oT] Template "not_found.development.html.ep" not found
[2025-08-08 11:59:05.32733] [3271113] [trace] [LE4ZqTSph4oT] Template "not_found.html.ep" not found
[2025-08-08 11:59:05.32742] [3271113] [trace] [LE4ZqTSph4oT] Rendering cached template "mojo/debug.html.ep"
[2025-08-08 11:59:05.33132] [3271113] [trace] [LE4ZqTSph4oT] 404 Not Found (0.004576s, 218.531/s)
[2025-08-08 11:59:05.33397] [3271113] [trace] [3qv1HhFEhxYj] GET "/redirect"
[2025-08-08 11:59:05.33416] [3271113] [trace] [3qv1HhFEhxYj] Routing to a callback
[2025-08-08 11:59:05.33435] [3271113] [trace] [3qv1HhFEhxYj] 302 Found (0.000375s, 2666.667/s)
[2025-08-08 11:59:05.33833] [3271113] [trace] [5Yg3mvA1_G2k] GET "/docs/more"
[2025-08-08 11:59:05.33851] [3271113] [trace] [5Yg3mvA1_G2k] Routing to a callback
[2025-08-08 11:59:05.33865] [3271113] [trace] [5Yg3mvA1_G2k] Rendering cached inline template "2da2aed28011bbc3541e0de248c276ca"
[2025-08-08 11:59:05.33892] [3271113] [trace] [5Yg3mvA1_G2k] 200 OK (0.000575s, 1739.130/s)
Mojo::File::spurt is deprecated in favor of Mojo::File::spew at /tmp/loop_over_bdir-702062-GQOSHc/Mojolicious-Plugin-Export-0.008-0/blib/lib/Mojolicious/Plugin/Export.pm line 277.
Mojo::File::spurt is deprecated in favor of Mojo::File::spew at /tmp/loop_over_bdir-702062-GQOSHc/Mojolicious-Plugin-Export-0.008-0/blib/lib/Mojolicious/Plugin/Export.pm line 277.
Mojo::File::spurt is deprecated in favor of Mojo::File::spew at /tmp/loop_over_bdir-702062-GQOSHc/Mojolicious-Plugin-Export-0.008-0/blib/lib/Mojolicious/Plugin/Export.pm line 277.
Mojo::File::spurt is deprecated in favor of Mojo::File::spew at /tmp/loop_over_bdir-702062-GQOSHc/Mojolicious-Plugin-Export-0.008-0/blib/lib/Mojolicious/Plugin/Export.pm line 277.
Mojo::File::spurt is deprecated in favor of Mojo::File::spew at /tmp/loop_over_bdir-702062-GQOSHc/Mojolicious-Plugin-Export-0.008-0/blib/lib/Mojolicious/Plugin/Export.pm line 277.
[2025-08-08 11:59:05.34905] [3271113] [trace] [QXznlo9hTc_U] GET "/"
[2025-08-08 11:59:05.34937] [3271113] [trace] [QXznlo9hTc_U] Rendering cached template "index.html.ep" from DATA section
[2025-08-08 11:59:05.34955] [3271113] [trace] [QXznlo9hTc_U] 200 OK (0.000497s, 2012.072/s)
[2025-08-08 11:59:05.35244] [3271113] [trace] [9GmRlrWA19jU] GET "/docs"
[2025-08-08 11:59:05.35272] [3271113] [trace] [9GmRlrWA19jU] Rendering cached template "docs.html.ep" from DATA section
[2025-08-08 11:59:05.35290] [3271113] [trace] [9GmRlrWA19jU] 200 OK (0.000448s, 2232.143/s)
[2025-08-08 11:59:05.35520] [3271113] [trace] [grgXPtd8xF_8] GET "/about"
[2025-08-08 11:59:05.35546] [3271113] [trace] [grgXPtd8xF_8] Rendering cached template "about.html.ep" from DATA section
[2025-08-08 11:59:05.35564] [3271113] [trace] [grgXPtd8xF_8] 200 OK (0.000453s, 2207.506/s)
[2025-08-08 11:59:05.35799] [3271113] [trace] [Me0EIM_sM20y] GET "/NOT_FOUND"
[2025-08-08 11:59:05.35846] [3271113] [trace] [Me0EIM_sM20y] Template "not_found.development.html.ep" not found
[2025-08-08 11:59:05.35861] [3271113] [trace] [Me0EIM_sM20y] Template "not_found.html.ep" not found
[2025-08-08 11:59:05.35871] [3271113] [trace] [Me0EIM_sM20y] Rendering cached template "mojo/debug.html.ep"
[2025-08-08 11:59:05.36240] [3271113] [trace] [Me0EIM_sM20y] 404 Not Found (0.004382s, 228.206/s)
[2025-08-08 11:59:05.36502] [3271113] [trace] [ZWm1FrRTkhwY] GET "/redirect"
[2025-08-08 11:59:05.36523] [3271113] [trace] [ZWm1FrRTkhwY] Routing to a callback
[2025-08-08 11:59:05.36542] [3271113] [trace] [ZWm1FrRTkhwY] 302 Found (0.000389s, 2570.694/s)
[2025-08-08 11:59:05.36929] [3271113] [trace] [bM9RQ7JVLTLJ] GET "/docs/more"
[2025-08-08 11:59:05.36947] [3271113] [trace] [bM9RQ7JVLTLJ] Routing to a callback
[2025-08-08 11:59:05.36961] [3271113] [trace] [bM9RQ7JVLTLJ] Rendering cached inline template "2da2aed28011bbc3541e0de248c276ca"
[2025-08-08 11:59:05.36976] [3271113] [trace] [bM9RQ7JVLTLJ] 200 OK (0.000467s, 2141.328/s)
Mojo::File::spurt is deprecated in favor of Mojo::File::spew at /tmp/loop_over_bdir-702062-GQOSHc/Mojolicious-Plugin-Export-0.008-0/blib/lib/Mojolicious/Plugin/Export.pm line 277.
Mojo::File::spurt is deprecated in favor of Mojo::File::spew at /tmp/loop_over_bdir-702062-GQOSHc/Mojolicious-Plugin-Export-0.008-0/blib/lib/Mojolicious/Plugin/Export.pm line 277.
Mojo::File::spurt is deprecated in favor of Mojo::File::spew at /tmp/loop_over_bdir-702062-GQOSHc/Mojolicious-Plugin-Export-0.008-0/blib/lib/Mojolicious/Plugin/Export.pm line 277.
Mojo::File::spurt is deprecated in favor of Mojo::File::spew at /tmp/loop_over_bdir-702062-GQOSHc/Mojolicious-Plugin-Export-0.008-0/blib/lib/Mojolicious/Plugin/Export.pm line 277.
Mojo::File::spurt is deprecated in favor of Mojo::File::spew at /tmp/loop_over_bdir-702062-GQOSHc/Mojolicious-Plugin-Export-0.008-0/blib/lib/Mojolicious/Plugin/Export.pm line 277.
[2025-08-08 11:59:05.37946] [3271113] [trace] [plBoIdoizH3c] GET "/docs"
[2025-08-08 11:59:05.37975] [3271113] [trace] [plBoIdoizH3c] Rendering cached template "docs.html.ep" from DATA section
[2025-08-08 11:59:05.37993] [3271113] [trace] [plBoIdoizH3c] 200 OK (0.000464s, 2155.172/s)
[2025-08-08 11:59:05.38246] [3271113] [trace] [GjooakB9J61j] GET "/docs/more"
[2025-08-08 11:59:05.38265] [3271113] [trace] [GjooakB9J61j] Routing to a callback
[2025-08-08 11:59:05.38280] [3271113] [trace] [GjooakB9J61j] Rendering cached inline template "2da2aed28011bbc3541e0de248c276ca"
[2025-08-08 11:59:05.38295] [3271113] [trace] [GjooakB9J61j] 200 OK (0.000478s, 2092.050/s)
Mojo::File::spurt is deprecated in favor of Mojo::File::spew at /tmp/loop_over_bdir-702062-GQOSHc/Mojolicious-Plugin-Export-0.008-0/blib/lib/Mojolicious/Plugin/Export.pm line 277.
Mojo::File::spurt is deprecated in favor of Mojo::File::spew at /tmp/loop_over_bdir-702062-GQOSHc/Mojolicious-Plugin-Export-0.008-0/blib/lib/Mojolicious/Plugin/Export.pm line 277.
[2025-08-08 11:59:05.39109] [3271113] [trace] [dk7Z1uzaod5_] GET "/"
[2025-08-08 11:59:05.39145] [3271113] [trace] [dk7Z1uzaod5_] Rendering cached template "index.html.ep" from DATA section
[2025-08-08 11:59:05.39165] [3271113] [trace] [dk7Z1uzaod5_] 200 OK (0.000555s, 1801.802/s)
[2025-08-08 11:59:05.39475] [3271113] [trace] [gx-ElWfPt14Z] GET "/docs"
[2025-08-08 11:59:05.39502] [3271113] [trace] [gx-ElWfPt14Z] Rendering cached template "docs.html.ep" from DATA section
[2025-08-08 11:59:05.39520] [3271113] [trace] [gx-ElWfPt14Z] 200 OK (0.00043s, 2325.581/s)
[2025-08-08 11:59:05.39752] [3271113] [trace] [dSCYRiGJgo5a] GET "/about"
[2025-08-08 11:59:05.39778] [3271113] [trace] [dSCYRiGJgo5a] Rendering cached template "about.html.ep" from DATA section
[2025-08-08 11:59:05.39795] [3271113] [trace] [dSCYRiGJgo5a] 200 OK (0.000416s, 2403.846/s)
[2025-08-08 11:59:05.40030] [3271113] [trace] [ZewpLkO1v93s] GET "/NOT_FOUND"
[2025-08-08 11:59:05.40077] [3271113] [trace] [ZewpLkO1v93s] Template "not_found.development.html.ep" not found
[2025-08-08 11:59:05.40092] [3271113] [trace] [ZewpLkO1v93s] Template "not_found.html.ep" not found
[2025-08-08 11:59:05.40102] [3271113] [trace] [ZewpLkO1v93s] Rendering cached template "mojo/debug.html.ep"
[2025-08-08 11:59:05.40466] [3271113] [trace] [ZewpLkO1v93s] 404 Not Found (0.004339s, 230.468/s)
[2025-08-08 11:59:05.40732] [3271113] [trace] [B_MFM1J4e5t1] GET "/redirect"
[2025-08-08 11:59:05.40751] [3271113] [trace] [B_MFM1J4e5t1] Routing to a callback
[2025-08-08 11:59:05.40770] [3271113] [trace] [B_MFM1J4e5t1] 302 Found (0.000366s, 2732.240/s)
[2025-08-08 11:59:05.41164] [3271113] [trace] [4R-DqxLN15ah] GET "/docs/more"
[2025-08-08 11:59:05.41183] [3271113] [trace] [4R-DqxLN15ah] Routing to a callback
[2025-08-08 11:59:05.41197] [3271113] [trace] [4R-DqxLN15ah] Rendering cached inline template "2da2aed28011bbc3541e0de248c276ca"
[2025-08-08 11:59:05.41213] [3271113] [trace] [4R-DqxLN15ah] 200 OK (0.000475s, 2105.263/s)
Mojo::File::spurt is deprecated in favor of Mojo::File::spew at /tmp/loop_over_bdir-702062-GQOSHc/Mojolicious-Plugin-Export-0.008-0/blib/lib/Mojolicious/Plugin/Export.pm line 277.
Mojo::File::spurt is deprecated in favor of Mojo::File::spew at /tmp/loop_over_bdir-702062-GQOSHc/Mojolicious-Plugin-Export-0.008-0/blib/lib/Mojolicious/Plugin/Export.pm line 277.
Mojo::File::spurt is deprecated in favor of Mojo::File::spew at /tmp/loop_over_bdir-702062-GQOSHc/Mojolicious-Plugin-Export-0.008-0/blib/lib/Mojolicious/Plugin/Export.pm line 277.
Mojo::File::spurt is deprecated in favor of Mojo::File::spew at /tmp/loop_over_bdir-702062-GQOSHc/Mojolicious-Plugin-Export-0.008-0/blib/lib/Mojolicious/Plugin/Export.pm line 277.
Mojo::File::spurt is deprecated in favor of Mojo::File::spew at /tmp/loop_over_bdir-702062-GQOSHc/Mojolicious-Plugin-Export-0.008-0/blib/lib/Mojolicious/Plugin/Export.pm line 277.
[2025-08-08 11:59:05.42286] [3271113] [trace] [bwgHd0v2-3dS] GET "/"
[2025-08-08 11:59:05.42316] [3271113] [trace] [bwgHd0v2-3dS] Rendering cached template "index.html.ep" from DATA section
[2025-08-08 11:59:05.42336] [3271113] [trace] [bwgHd0v2-3dS] 200 OK (0.000494s, 2024.291/s)
[2025-08-08 11:59:05.42625] [3271113] [trace] [i5i261QbQjv9] GET "/docs"
[2025-08-08 11:59:05.42652] [3271113] [trace] [i5i261QbQjv9] Rendering cached template "docs.html.ep" from DATA section
[2025-08-08 11:59:05.42670] [3271113] [trace] [i5i261QbQjv9] 200 OK (0.000437s, 2288.330/s)
[2025-08-08 11:59:05.42911] [3271113] [trace] [AjMwWWIirhkP] GET "/about"
[2025-08-08 11:59:05.42941] [3271113] [trace] [AjMwWWIirhkP] Rendering cached template "about.html.ep" from DATA section
[2025-08-08 11:59:05.42958] [3271113] [trace] [AjMwWWIirhkP] 200 OK (0.000464s, 2155.172/s)
[2025-08-08 11:59:05.43214] [3271113] [trace] [aOwPhYGj8r2R] GET "/NOT_FOUND"
[2025-08-08 11:59:05.43263] [3271113] [trace] [aOwPhYGj8r2R] Template "not_found.development.html.ep" not found
[2025-08-08 11:59:05.43278] [3271113] [trace] [aOwPhYGj8r2R] Template "not_found.html.ep" not found
[2025-08-08 11:59:05.43287] [3271113] [trace] [aOwPhYGj8r2R] Rendering cached template "mojo/debug.html.ep"
[2025-08-08 11:59:05.43653] [3271113] [trace] [aOwPhYGj8r2R] 404 Not Found (0.004365s, 229.095/s)
[2025-08-08 11:59:05.43917] [3271113] [trace] [jA4wo6fgWMzy] GET "/redirect"
[2025-08-08 11:59:05.43949] [3271113] [trace] [jA4wo6fgWMzy] Routing to a callback
[2025-08-08 11:59:05.43968] [3271113] [trace] [jA4wo6fgWMzy] 302 Found (0.000492s, 2032.520/s)
[2025-08-08 11:59:05.44351] [3271113] [trace] [AvqyKtpyUaqs] GET "/docs/more"
[2025-08-08 11:59:05.44370] [3271113] [trace] [AvqyKtpyUaqs] Routing to a callback
[2025-08-08 11:59:05.44385] [3271113] [trace] [AvqyKtpyUaqs] Rendering cached inline template "2da2aed28011bbc3541e0de248c276ca"
[2025-08-08 11:59:05.44400] [3271113] [trace] [AvqyKtpyUaqs] 200 OK (0.000487s, 2053.388/s)
Mojo::File::spurt is deprecated in favor of Mojo::File::spew at /tmp/loop_over_bdir-702062-GQOSHc/Mojolicious-Plugin-Export-0.008-0/blib/lib/Mojolicious/Plugin/Export.pm line 277.
Mojo::File::spurt is deprecated in favor of Mojo::File::spew at /tmp/loop_over_bdir-702062-GQOSHc/Mojolicious-Plugin-Export-0.008-0/blib/lib/Mojolicious/Plugin/Export.pm line 277.
Mojo::File::spurt is deprecated in favor of Mojo::File::spew at /tmp/loop_over_bdir-702062-GQOSHc/Mojolicious-Plugin-Export-0.008-0/blib/lib/Mojolicious/Plugin/Export.pm line 277.
Mojo::File::spurt is deprecated in favor of Mojo::File::spew at /tmp/loop_over_bdir-702062-GQOSHc/Mojolicious-Plugin-Export-0.008-0/blib/lib/Mojolicious/Plugin/Export.pm line 277.
Mojo::File::spurt is deprecated in favor of Mojo::File::spew at /tmp/loop_over_bdir-702062-GQOSHc/Mojolicious-Plugin-Export-0.008-0/blib/lib/Mojolicious/Plugin/Export.pm line 277.
[2025-08-08 11:59:05.45477] [3271113] [trace] [Rw1wNj8pHP8m] GET "/docs"
[2025-08-08 11:59:05.45507] [3271113] [trace] [Rw1wNj8pHP8m] Rendering cached template "docs.html.ep" from DATA section
[2025-08-08 11:59:05.45527] [3271113] [trace] [Rw1wNj8pHP8m] 200 OK (0.000497s, 2012.072/s)
[2025-08-08 11:59:05.45783] [3271113] [trace] [4qUKB1kKYwWN] GET "/docs/more"
[2025-08-08 11:59:05.45803] [3271113] [trace] [4qUKB1kKYwWN] Routing to a callback
[2025-08-08 11:59:05.45817] [3271113] [trace] [4qUKB1kKYwWN] Rendering cached inline template "2da2aed28011bbc3541e0de248c276ca"
[2025-08-08 11:59:05.45835] [3271113] [trace] [4qUKB1kKYwWN] 200 OK (0.000515s, 1941.748/s)
Mojo::File::spurt is deprecated in favor of Mojo::File::spew at /tmp/loop_over_bdir-702062-GQOSHc/Mojolicious-Plugin-Export-0.008-0/blib/lib/Mojolicious/Plugin/Export.pm line 277.
Mojo::File::spurt is deprecated in favor of Mojo::File::spew at /tmp/loop_over_bdir-702062-GQOSHc/Mojolicious-Plugin-Export-0.008-0/blib/lib/Mojolicious/Plugin/Export.pm line 277.
t/command.t ............ ok
[2025-08-08 11:59:06.01097] [3271119] [trace] [f9w1BL2HEHwb] GET "/"
[2025-08-08 11:59:06.01238] [3271119] [trace] [f9w1BL2HEHwb] Rendering template "index.html.ep" from DATA section
[2025-08-08 11:59:06.01329] [3271119] [trace] [f9w1BL2HEHwb] 200 OK (0.002312s, 432.526/s)
Mojo::File::spurt is deprecated in favor of Mojo::File::spew at /tmp/loop_over_bdir-702062-GQOSHc/Mojolicious-Plugin-Export-0.008-0/blib/lib/Mojolicious/Plugin/Export.pm line 277.
Mojo::File::spurt is deprecated in favor of Mojo::File::spew at /tmp/loop_over_bdir-702062-GQOSHc/Mojolicious-Plugin-Export-0.008-0/blib/lib/Mojolicious/Plugin/Export.pm line 277.
t/plugin.t ............. ok
All tests successful.
Files=4, Tests=55,  3 wallclock secs ( 0.03 usr  0.01 sys +  1.77 cusr  0.27 csys =  2.08 CPU)
Result: PASS

------------------------------
PREREQUISITES
------------------------------

Prerequisite modules loaded:

requires:

    Module              Need  Have    
    ------------------- ----- --------
    Mojolicious         8     9.41    
    perl                5.014 5.040003

build_requires:

    Module              Need  Have    
    ------------------- ----- --------
    ExtUtils::MakeMaker 0     7.76    
    File::Spec          0     3.91    
    IO::Handle          0     1.55    
    IPC::Open3          0     1.22    
    Test::More          0     1.302214

configure_requires:

    Module              Need  Have    
    ------------------- ----- --------
    ExtUtils::MakeMaker 0     7.76    


------------------------------
ENVIRONMENT AND OTHER CONTEXT
------------------------------

Environment variables:

    AUTOMATED_TESTING = 1
    LANG = en_US.UTF-8
    LC_ADDRESS = de_DE.UTF-8
    LC_IDENTIFICATION = de_DE.UTF-8
    LC_MEASUREMENT = de_DE.UTF-8
    LC_MONETARY = de_DE.UTF-8
    LC_NAME = de_DE.UTF-8
    LC_NUMERIC = de_DE.UTF-8
    LC_PAPER = de_DE.UTF-8
    LC_TELEPHONE = de_DE.UTF-8
    LC_TIME = de_DE.UTF-8
    PATH = /home/sand/bin:/usr/local/bin:/usr/local/sbin:/usr/sbin:/usr/bin:/sbin:/bin:/usr/games:/usr/local/games:/snap/bin:/usr/local/perl/bin:/usr/X11/bin
    PERL = /tmp/basesmoker-reloperl-oQgT/bin/perl
    PERL5LIB = /tmp/loop_over_bdir-702062-GQOSHc/DBIx-Migration-Directories-0.12-0/blib/arch:/tmp/loop_over_bdir-702062-GQOSHc/DBIx-Migration-Directories-0.12-0/blib/lib:/tmp/loop_over_bdir-702062-GQOSHc/mmds-1.902-0/blib/arch:/tmp/loop_over_bdir-702062-GQOSHc/mmds-1.902-0/blib/lib:/tmp/loop_over_bdir-702062-GQOSHc/MP3-PodcastFetch-1.05-0/blib/arch:/tmp/loop_over_bdir-702062-GQOSHc/MP3-PodcastFetch-1.05-0/blib/lib:/tmp/loop_over_bdir-702062-GQOSHc/Module-ScanDeps-Static-1.7.6-0/blib/arch:/tmp/loop_over_bdir-702062-GQOSHc/Module-ScanDeps-Static-1.7.6-0/blib/lib:/tmp/loop_over_bdir-702062-GQOSHc/ProjectBuilder-0.14.1-0/blib/arch:/tmp/loop_over_bdir-702062-GQOSHc/ProjectBuilder-0.14.1-0/blib/lib:/tmp/loop_over_bdir-702062-GQOSHc/App-nrun-v1.1.2-0/blib/arch:/tmp/loop_over_bdir-702062-GQOSHc/App-nrun-v1.1.2-0/blib/lib:/tmp/loop_over_bdir-702062-GQOSHc/Dpkg-1.22.21-0/blib/arch:/tmp/loop_over_bdir-702062-GQOSHc/Dpkg-1.22.21-0/blib/lib
    PERL5OPT = 
    PERL5_CPANPLUS_IS_RUNNING = 702070
    PERL5_CPAN_IS_RUNNING = 702070
    PERL_CANARY_STABILITY_NOPROMPT = 1
    PERL_MM_USE_DEFAULT = 1
    PERL_USE_UNSAFE_INC = 1
    SHELL = /usr/bin/zsh
    TERM = screen

Perl special variables (and OS-specific diagnostics, for MSWin32):

    $^X = /tmp/basesmoker-reloperl-oQgT/bin/perl
    $UID/$EUID = 1005 / 1005
    $GID = 1005 1005
    $EGID = 1005 1005

Perl module toolchain versions installed:

    Module              Have    
    ------------------- --------
    CPAN                2.38    
    CPAN::Meta          2.150010
    Cwd                 3.91    
    ExtUtils::CBuilder  0.280240
    ExtUtils::Command   7.76    
    ExtUtils::Install   2.22    
    ExtUtils::MakeMaker 7.76    
    ExtUtils::Manifest  1.75    
    ExtUtils::ParseXS   3.51    
    File::Spec          3.91    
    JSON                4.10    
    JSON::PP            4.16    
    Module::Build       0.4234  
    Module::Signature   0.93    
    Parse::CPAN::Meta   2.150010
    Test2               1.302214
    Test::Harness       3.52    
    Test::More          1.302214
    YAML                1.31    
    YAML::Syck          1.34    
    version             0.9933  


--

Summary of my perl5 (revision 5 version 40 subversion 3) configuration:
  Commit id: f0594ea45aebda152be29d14a09562adcb5b00c0
  Platform:
    osname=linux
    osvers=6.8.0-64-generic
    archname=x86_64-linux-ld
    uname='linux k93jammy 6.8.0-64-generic #67~22.04.1-ubuntu smp preempt_dynamic tue jun 24 15:19:46 utc 2 x86_64 x86_64 x86_64 gnulinux '
    config_args='-Dprefix=/home/sand/src/perl/repoperls/installed-perls/host/k93jammy/v5.40.3/5674 -Dmyhostname=k93jammy -Dinstallusrbinperl=n -Uversiononly -Dusedevel -des -Ui_db -Dlibswanted=cl pthread socket inet nsl gdbm dbm malloc dl ld sun m crypt sec util c cposix posix ucb BSD gdbm_compat -Uuseithreads -Duselongdouble -DEBUGGING=-g'
    hint=recommended
    useposix=true
    d_sigaction=define
    useithreads=undef
    usemultiplicity=undef
    use64bitint=define
    use64bitall=define
    uselongdouble=define
    usemymalloc=n
    default_inc_excludes_dot=define
  Compiler:
    cc='cc'
    ccflags ='-fwrapv -fno-strict-aliasing -pipe -fstack-protector-strong -I/usr/local/include -D_LARGEFILE_SOURCE -D_FILE_OFFSET_BITS=64'
    optimize='-O2 -g'
    cppflags='-fwrapv -fno-strict-aliasing -pipe -fstack-protector-strong -I/usr/local/include'
    ccversion=''
    gccversion='11.4.0'
    gccosandvers=''
    intsize=4
    longsize=8
    ptrsize=8
    doublesize=8
    byteorder=12345678
    doublekind=3
    d_longlong=define
    longlongsize=8
    d_longdbl=define
    longdblsize=16
    longdblkind=3
    ivtype='long'
    ivsize=8
    nvtype='long double'
    nvsize=16
    Off_t='off_t'
    lseeksize=8
    alignbytes=16
    prototype=define
  Linker and Libraries:
    ld='cc'
    ldflags =' -fstack-protector-strong -L/usr/local/lib'
    libpth=/usr/local/lib /usr/lib/x86_64-linux-gnu /usr/lib /usr/lib64
    libs=-lpthread -lnsl -ldl -lm -lcrypt -lutil -lc
    perllibs=-lpthread -lnsl -ldl -lm -lcrypt -lutil -lc
    libc=/lib/x86_64-linux-gnu/libc.so.6
    so=so
    useshrplib=false
    libperl=libperl.a
    gnulibc_version='2.35'
  Dynamic Linking:
    dlsrc=dl_dlopen.xs
    dlext=so
    d_dlsymun=undef
    ccdlflags='-Wl,-E'
    cccdlflags='-fPIC'
    lddlflags='-shared -O2 -g -L/usr/local/lib -fstack-protector-strong'


Characteristics of this binary (from libperl): 
  Compile-time options:
    HAS_LONG_DOUBLE
    HAS_STRTOLD
    HAS_TIMES
    PERLIO_LAYERS
    PERL_COPY_ON_WRITE
    PERL_DONT_CREATE_GVSV
    PERL_HASH_FUNC_SIPHASH13
    PERL_HASH_USE_SBOX32
    PERL_MALLOC_WRAP
    PERL_OP_PARENT
    PERL_PRESERVE_IVUV
    PERL_USE_DEVEL
    PERL_USE_SAFE_PUTENV
    USE_64_BIT_ALL
    USE_64_BIT_INT
    USE_LARGE_FILES
    USE_LOCALE
    USE_LOCALE_COLLATE
    USE_LOCALE_CTYPE
    USE_LOCALE_NUMERIC
    USE_LOCALE_TIME
    USE_LONG_DOUBLE
    USE_PERLIO
    USE_PERL_ATOF
  Built under linux
  Compiled at Aug  4 2025 07:23:00
  %ENV:
    PERL="/tmp/basesmoker-reloperl-oQgT/bin/perl"
    PERL5LIB="/tmp/loop_over_bdir-702062-GQOSHc/DBIx-Migration-Directories-0.12-0/blib/arch:/tmp/loop_over_bdir-702062-GQOSHc/DBIx-Migration-Directories-0.12-0/blib/lib:/tmp/loop_over_bdir-702062-GQOSHc/mmds-1.902-0/blib/arch:/tmp/loop_over_bdir-702062-GQOSHc/mmds-1.902-0/blib/lib:/tmp/loop_over_bdir-702062-GQOSHc/MP3-PodcastFetch-1.05-0/blib/arch:/tmp/loop_over_bdir-702062-GQOSHc/MP3-PodcastFetch-1.05-0/blib/lib:/tmp/loop_over_bdir-702062-GQOSHc/Module-ScanDeps-Static-1.7.6-0/blib/arch:/tmp/loop_over_bdir-702062-GQOSHc/Module-ScanDeps-Static-1.7.6-0/blib/lib:/tmp/loop_over_bdir-702062-GQOSHc/ProjectBuilder-0.14.1-0/blib/arch:/tmp/loop_over_bdir-702062-GQOSHc/ProjectBuilder-0.14.1-0/blib/lib:/tmp/loop_over_bdir-702062-GQOSHc/App-nrun-v1.1.2-0/blib/arch:/tmp/loop_over_bdir-702062-GQOSHc/App-nrun-v1.1.2-0/blib/lib:/tmp/loop_over_bdir-702062-GQOSHc/Dpkg-1.22.21-0/blib/arch:/tmp/loop_over_bdir-702062-GQOSHc/Dpkg-1.22.21-0/blib/lib"
    PERL5OPT=""
    PERL5_CPANPLUS_IS_RUNNING="702070"
    PERL5_CPAN_IS_RUNNING="702070"
    PERL_CANARY_STABILITY_NOPROMPT="1"
    PERL_MM_USE_DEFAULT="1"
    PERL_USE_UNSAFE_INC="1"
  @INC:
    /tmp/loop_over_bdir-702062-GQOSHc/DBIx-Migration-Directories-0.12-0/blib/arch
    /tmp/loop_over_bdir-702062-GQOSHc/DBIx-Migration-Directories-0.12-0/blib/lib
    /tmp/loop_over_bdir-702062-GQOSHc/mmds-1.902-0/blib/arch
    /tmp/loop_over_bdir-702062-GQOSHc/mmds-1.902-0/blib/lib
    /tmp/loop_over_bdir-702062-GQOSHc/MP3-PodcastFetch-1.05-0/blib/arch
    /tmp/loop_over_bdir-702062-GQOSHc/MP3-PodcastFetch-1.05-0/blib/lib
    /tmp/loop_over_bdir-702062-GQOSHc/Module-ScanDeps-Static-1.7.6-0/blib/arch
    /tmp/loop_over_bdir-702062-GQOSHc/Module-ScanDeps-Static-1.7.6-0/blib/lib
    /tmp/loop_over_bdir-702062-GQOSHc/ProjectBuilder-0.14.1-0/blib/arch
    /tmp/loop_over_bdir-702062-GQOSHc/ProjectBuilder-0.14.1-0/blib/lib
    /tmp/loop_over_bdir-702062-GQOSHc/App-nrun-v1.1.2-0/blib/arch
    /tmp/loop_over_bdir-702062-GQOSHc/App-nrun-v1.1.2-0/blib/lib
    /tmp/loop_over_bdir-702062-GQOSHc/Dpkg-1.22.21-0/blib/arch
    /tmp/loop_over_bdir-702062-GQOSHc/Dpkg-1.22.21-0/blib/lib
    /home/sand/src/perl/repoperls/installed-perls/host/k93jammy/v5.40.3/5674/lib/site_perl/5.40.3/x86_64-linux-ld
    /home/sand/src/perl/repoperls/installed-perls/host/k93jammy/v5.40.3/5674/lib/site_perl/5.40.3
    /home/sand/src/perl/repoperls/installed-perls/host/k93jammy/v5.40.3/5674/lib/5.40.3/x86_64-linux-ld
    /home/sand/src/perl/repoperls/installed-perls/host/k93jammy/v5.40.3/5674/lib/5.40.3
    .