Dist-Zilla-Plugin-CheckIssues v0.011 Perl 5 v5.22.2 amd64-freebsd-thread-multi

Status
Pass
From
Slaven Rezić
Dist
Dist-Zilla-Plugin-CheckIssues v0.011
Platform
Perl 5 v5.22.2 amd64-freebsd-thread-multi
Date
2025-08-31 02:21:03
ID
247fd3ae-8611-11f0-bdbb-312c6e8775ea
This distribution has been tested as part of the CPAN Testers
project, supporting the Perl programming language.  See
http://wiki.cpantesters.org/ for more information or email
questions to cpan-testers-discuss@perl.org


--
Dear Karen Etheridge,

This is a computer-generated report for Dist-Zilla-Plugin-CheckIssues-0.011
on perl 5.22.2, created by CPAN-Reporter-1.2017.

Thank you for uploading your work to CPAN.  Congratulations!
All tests were successful.

Sections of this report:

    * Tester comments
    * Program output
    * Prerequisites
    * Environment and other context

------------------------------
TESTER COMMENTS
------------------------------

Additional comments from tester:

this report is from an automated smoke testing program
and was not reviewed by a human for accuracy

------------------------------
PROGRAM OUTPUT
------------------------------

Output from '/usr/bin/make test':

PERL_DL_NONLAZY=1 "/usr/perl5.22.2t/bin/perl5.22.2" "-MExtUtils::Command::MM" "-MTest::Harness" "-e" "undef *Test::Harness::Switches; test_harness(0, 'blib/lib', 'blib/arch')" t/*.t
# 
# Versions for all modules listed in MYMETA.json (including optional ones):
# 
# === Configure Requires ===
# 
#     Module                       Want     Have
#     ------------------------ -------- --------
#     CPAN::Meta::Requirements 2.120620    2.132
#     ExtUtils::MakeMaker           any     7.58
#     Module::Metadata              any 1.000027
# 
# === Build Requires ===
# 
#     Module              Want Have
#     ------------------- ---- ----
#     ExtUtils::MakeMaker  any 7.58
# 
# === Test Requires ===
# 
#     Module                          Want     Have
#     ------------------------------- ---- --------
#     Dist::Zilla::App::Tester         any    6.033
#     Dist::Zilla::Role::MetaProvider  any    6.033
#     ExtUtils::MakeMaker              any     7.58
#     File::Spec                       any     3.75
#     File::pushd                      any    1.009
#     Moose::Util                      any   2.4000
#     Path::Tiny                       any    0.148
#     Test::DZil                       any    6.033
#     Test::Deep                       any    1.205
#     Test::Fatal                      any    0.014
#     Test::More                      0.88 1.302214
#     if                               any   0.0604
#     lib                              any     0.63
# 
# === Test Recommends ===
# 
#     Module         Want     Have
#     ---------- -------- --------
#     CPAN::Meta 2.120900 2.150010
# 
# === Runtime Requires ===
# 
#     Module                               Want     Have
#     -------------------------------- -------- --------
#     Dist::Zilla                      4.300039    6.033
#     Dist::Zilla::App                      any    6.033
#     Dist::Zilla::Role::BeforeRelease      any    6.033
#     Encode                                any     3.21
#     HTTP::Headers                         any     7.00
#     HTTP::Tiny                            any    0.090
#     JSON::MaybeXS                    1.001000 1.004008
#     List::Util                           1.33     1.70
#     Log::Dispatch                        2.49     2.56
#     Moose                                 any   2.4000
#     Term::ANSIColor                      3.00     5.01
#     namespace::autoclean                  any     0.28
#     strict                                any     1.09
#     warnings                              any     1.34
# 
# === Other Modules ===
# 
#     Module            Have
#     --------------- ------
#     App::Cmd         0.330
#     Encode            3.21
#     File::Temp      0.2311
#     JSON::PP          4.16
#     Log::Dispatch     2.56
#     Module::Runtime  0.014
#     Pod::Coverage     0.23
#     Sub::Name         0.15
#     YAML              1.31
#     autodie           2.29
# 
t/00-report-prereqs.t .. ok
t/01-basic.t ........... ok
t/02-no-rt.t ........... ok
t/03-no-repo.t ......... ok
t/04-command.t ......... ok
t/zzz-check-breaks.t ... ok
All tests successful.
Files=6, Tests=20,  5 wallclock secs ( 0.03 usr  0.02 sys +  2.69 cusr  2.31 csys =  5.05 CPU)
Result: PASS

------------------------------
PREREQUISITES
------------------------------

Prerequisite modules loaded:

requires:

    Module                           Need     Have    
    -------------------------------- -------- --------
    Dist::Zilla                      4.300039 6.033   
    Dist::Zilla::App                 0        6.033   
    Dist::Zilla::Role::BeforeRelease 0        6.033   
    Encode                           0        3.21    
    HTTP::Headers                    0        7.00    
    HTTP::Tiny                       0        0.090   
    JSON::MaybeXS                    1.001000 1.004008
    List::Util                       1.33     1.70    
    Log::Dispatch                    2.49     2.56    
    Moose                            0        2.4000  
    namespace::autoclean             0        0.28    
    perl                             5.006    5.022002
    strict                           0        1.09    
    Term::ANSIColor                  3.00     5.01    
    warnings                         0        1.34    

build_requires:

    Module                           Need     Have    
    -------------------------------- -------- --------
    Dist::Zilla::App::Tester         0        6.033   
    Dist::Zilla::Role::MetaProvider  0        6.033   
    ExtUtils::MakeMaker              0        7.58    
    File::pushd                      0        1.009   
    File::Spec                       0        3.75    
    if                               0        0.0604  
    lib                              0        0.63    
    Moose::Util                      0        2.4000  
    Path::Tiny                       0        0.148   
    Test::Deep                       0        1.205   
    Test::DZil                       0        6.033   
    Test::Fatal                      0        0.014   
    Test::More                       0.88     1.302214

configure_requires:

    Module                           Need     Have    
    -------------------------------- -------- --------
    CPAN::Meta::Requirements         2.120620 2.132   
    ExtUtils::MakeMaker              0        7.58    
    Module::Metadata                 0        1.000027
    perl                             5.006    5.022002


------------------------------
ENVIRONMENT AND OTHER CONTEXT
------------------------------

Environment variables:

    AUTOMATED_TESTING = 1
    LC_ALL = de_DE.ISO8859-1
    PATH = /usr/local/bin:/usr/bin:/bin:/usr/local/sbin:/usr/sbin:/sbin:/home/cpansand/bin/freebsd10.3:/home/cpansand/bin/sh:/home/cpansand/bin:/usr/games:/home/cpansand/devel:/home/eserte/src/srezic-misc/scripts
    PERL5LIB = 
    PERL5OPT = 
    PERL5_CPANPLUS_IS_RUNNING = 76707
    PERL5_CPAN_IS_RUNNING = 76707
    PERL5_CPAN_IS_RUNNING_IN_RECURSION = 69754,76707
    PERLDOC = -MPod::Perldoc::ToTextOverstrike
    PERL_BATCH = yes
    PERL_CANARY_STABILITY_NOPROMPT = 1
    PERL_CPAN_REPORTER_CONFIG = /var/tmp/cpansmoker-1023/2025083103/cpanreporter_000_config.ini
    PERL_EXTUTILS_AUTOINSTALL = --defaultdeps
    SHELL = /usr/local/bin/zsh
    TERM = screen
    TMPDIR = /var/tmp/cpansmoker-1023/2025083103

Perl special variables (and OS-specific diagnostics, for MSWin32):

    $^X = /usr/perl5.22.2t/bin/perl5.22.2
    $UID/$EUID = 1023 / 1023
    $GID = 1023 1023
    $EGID = 1023 1023

Perl module toolchain versions installed:

    Module              Have    
    ------------------- --------
    CPAN                2.11    
    CPAN::Meta          2.150010
    Cwd                 3.75    
    ExtUtils::CBuilder  0.280236
    ExtUtils::Command   7.58    
    ExtUtils::Install   2.06    
    ExtUtils::MakeMaker 7.58    
    ExtUtils::Manifest  1.70    
    ExtUtils::ParseXS   3.57    
    File::Spec          3.75    
    JSON                4.10    
    JSON::PP            4.16    
    Module::Build       0.4234  
    Module::Signature   0.80    
    Parse::CPAN::Meta   2.150010
    Test::Harness       3.52    
    Test::More          1.302214
    YAML                1.31    
    YAML::Syck          1.29    
    version             0.9917  


--

Summary of my perl5 (revision 5 version 22 subversion 2) configuration:
   
  Platform:
    osname=freebsd, osvers=10.1-release, archname=amd64-freebsd-thread-multi
    uname='freebsd cvrsnica-freebsd-101.herceg.de 10.1-release freebsd 10.1-release #0 r274401: tue nov 11 21:02:49 utc 2014 root@releng1.nyi.freebsd.org:usrobjusrsrcsysgeneric amd64 '
    config_args='-ds -e -Dprefix=/usr/perl5.22.2t -Dusethreads -Dcf_email=srezic@cpan.org -Doptimize=-O2 -pipe'
    hint=recommended, useposix=true, d_sigaction=define
    useithreads=define, usemultiplicity=define
    use64bitint=define, use64bitall=define, uselongdouble=undef
    usemymalloc=n, bincompat5005=undef
  Compiler:
    cc='cc', ccflags ='-DHAS_FPSETMASK -DHAS_FLOATINGPOINT_H -fno-strict-aliasing -pipe -fstack-protector -I/usr/local/include -D_FORTIFY_SOURCE=2',
    optimize='-O2 -pipe',
    cppflags='-DHAS_FPSETMASK -DHAS_FLOATINGPOINT_H -fno-strict-aliasing -pipe -fstack-protector -I/usr/local/include'
    ccversion='', gccversion='4.2.1 Compatible FreeBSD Clang 3.4.1 (tags/RELEASE_34/dot1-final 208032)', gccosandvers=''
    intsize=4, longsize=8, ptrsize=8, doublesize=8, byteorder=12345678, doublekind=3
    d_longlong=define, longlongsize=8, d_longdbl=define, longdblsize=16, longdblkind=3
    ivtype='long', ivsize=8, nvtype='double', nvsize=8, Off_t='off_t', lseeksize=8
    alignbytes=8, prototype=define
  Linker and Libraries:
    ld='cc', ldflags ='-pthread -Wl,-E  -fstack-protector -L/usr/local/lib'
    libpth=/usr/lib /usr/local/lib /usr/include/clang/3.4.1 /usr/lib
    libs=-lpthread -lgdbm -lm -lcrypt -lutil
    perllibs=-lpthread -lm -lcrypt -lutil
    libc=, so=so, useshrplib=false, libperl=libperl.a
    gnulibc_version=''
  Dynamic Linking:
    dlsrc=dl_dlopen.xs, dlext=so, d_dlsymun=undef, ccdlflags=' '
    cccdlflags='-DPIC -fPIC', lddlflags='-shared  -L/usr/local/lib -fstack-protector'


Characteristics of this binary (from libperl): 
  Compile-time options: HAS_TIMES MULTIPLICITY PERLIO_LAYERS
                        PERL_DONT_CREATE_GVSV
                        PERL_HASH_FUNC_ONE_AT_A_TIME_HARD
                        PERL_IMPLICIT_CONTEXT PERL_MALLOC_WRAP
                        PERL_NEW_COPY_ON_WRITE PERL_PRESERVE_IVUV
                        USE_64_BIT_ALL USE_64_BIT_INT USE_ITHREADS
                        USE_LARGE_FILES USE_LOCALE USE_LOCALE_COLLATE
                        USE_LOCALE_CTYPE USE_LOCALE_NUMERIC USE_LOCALE_TIME
                        USE_PERLIO USE_PERL_ATOF USE_REENTRANT_API
  Built under freebsd
  Compiled at Jun 18 2016 12:32:50
  %ENV:
    PERL5LIB=""
    PERL5OPT=""
    PERL5_CPANPLUS_IS_RUNNING="76707"
    PERL5_CPAN_IS_RUNNING="76707"
    PERL5_CPAN_IS_RUNNING_IN_RECURSION="69754,76707"
    PERLDOC="-MPod::Perldoc::ToTextOverstrike"
    PERL_BATCH="yes"
    PERL_CANARY_STABILITY_NOPROMPT="1"
    PERL_CPAN_REPORTER_CONFIG="/var/tmp/cpansmoker-1023/2025083103/cpanreporter_000_config.ini"
    PERL_EXTUTILS_AUTOINSTALL="--defaultdeps"
  @INC:
    /usr/perl5.22.2t/lib/site_perl/5.22.2/amd64-freebsd-thread-multi
    /usr/perl5.22.2t/lib/site_perl/5.22.2
    /usr/perl5.22.2t/lib/5.22.2/amd64-freebsd-thread-multi
    /usr/perl5.22.2t/lib/5.22.2
    .