POE-Component-Server-Bayeux v0.04 Perl 5 v5.10.1 x86_64-linux

Status
Pass
From
Slaven Rezić (SREZIC)
Dist
POE-Component-Server-Bayeux v0.04
Platform
Perl 5 v5.10.1 x86_64-linux
Date
2018-11-20 12:52:30
ID
24682d06-ecc3-11e8-89fb-ee7e542f5751
This distribution has been tested as part of the CPAN Testers
project, supporting the Perl programming language.  See
http://wiki.cpantesters.org/ for more information or email
questions to cpan-testers-discuss@perl.org


--
Dear Eric Waters,

This is a computer-generated report for POE-Component-Server-Bayeux-0.04
on perl 5.10.1, created by CPAN-Reporter-1.2018.

Thank you for uploading your work to CPAN.  Congratulations!
All tests were successful.

Sections of this report:

    * Tester comments
    * Program output
    * Prerequisites
    * Environment and other context

------------------------------
TESTER COMMENTS
------------------------------

Additional comments from tester:

none provided

------------------------------
PROGRAM OUTPUT
------------------------------

Output from './Build test':

t/acls.t .............. ok
t/channel_matching.t .. ok
t/server_client.t ..... ok
t/services.t .......... ok
All tests successful.
Files=4, Tests=28,  4 wallclock secs ( 0.02 usr  0.03 sys +  0.74 cusr  0.11 csys =  0.90 CPU)
Result: PASS

------------------------------
PREREQUISITES
------------------------------

Prerequisite modules loaded:

requires:

    Module                       Need Have    
    ---------------------------- ---- --------
    CGI::Simple                  0    1.18    
    Class::Accessor              0    0.51    
    Data::UUID                   0    1.221   
    JSON::Any                    0    1.39    
    JSON::XS                     0    3.04    
    Log::Log4perl                0    1.49    
    LWP                          0    6.36    
    Params::Validate             0    1.28    
    POE::Component::Client::HTTP 0    0.949   
    POE::Component::Server::HTTP 0.09 0.09    
    Switch                       0    2.14    
    URI                          0    1.74    

build_requires:

    Module                       Need Have    
    ---------------------------- ---- --------
    Test::More                   0    1.302136

configure_requires:

    Module                       Need Have    
    ---------------------------- ---- --------
    Module::Build                0.35 0.4224  


------------------------------
ENVIRONMENT AND OTHER CONTEXT
------------------------------

Environment variables:

    LANG = C
    PATH = /usr/local/bin:/usr/bin:/bin:/usr/local/sbin:/usr/sbin:/sbin:/home/cpansand/bin/linux-gnu:/home/cpansand/bin/sh:/home/cpansand/bin:/usr/games:/home/cpansand/devel:/home/eserte/src/srezic-misc/scripts
    PERL5LIB = /home/cpansand/.cpan/build/2018112012/POE-Component-Server-HTTP-0.09-1/blib/arch:/home/cpansand/.cpan/build/2018112012/POE-Component-Server-HTTP-0.09-1/blib/lib:/home/cpansand/.cpan/build/2018112012/POE-API-Peek-2.20-1/blib/arch:/home/cpansand/.cpan/build/2018112012/POE-API-Peek-2.20-1/blib/lib
    PERL5OPT = 
    PERL5_CPANPLUS_IS_RUNNING = 13515
    PERL5_CPAN_IS_RUNNING = 13515
    PERL5_CPAN_IS_RUNNING_IN_RECURSION = 10515,13515
    PERLDOC = -MPod::Perldoc::ToTextOverstrike
    PERL_BATCH = yes
    PERL_CANARY_STABILITY_NOPROMPT = 1
    PERL_CPAN_REPORTER_CONFIG = /var/tmp/cpansmoker-1023/2018112012/cpanreporter_000_config.ini
    PERL_EXTUTILS_AUTOINSTALL = --defaultdeps
    PERL_USE_UNSAFE_INC = 1
    SHELL = /bin/zsh
    TERM = screen
    TMPDIR = /var/tmp/cpansmoker-1023/2018112012

Perl special variables (and OS-specific diagnostics, for MSWin32):

    $^X = /bbbike/perl-5.10.1/bin/perl
    $UID/$EUID = 1023 / 1023
    $GID = 1023 1023
    $EGID = 1023 1023

Perl module toolchain versions installed:

    Module              Have    
    ------------------- --------
    CPAN                2.21    
    CPAN::Meta          2.150010
    Cwd                 3.74    
    ExtUtils::CBuilder  0.280230
    ExtUtils::Command   7.34    
    ExtUtils::Install   2.14    
    ExtUtils::MakeMaker 7.34    
    ExtUtils::Manifest  1.71    
    ExtUtils::ParseXS   3.30    
    File::Spec          3.74    
    JSON                2.97001 
    JSON::PP            2.97001 
    Module::Build       0.4224  
    Module::Signature   0.81    
    Parse::CPAN::Meta   2.150010
    Test::Harness       3.42    
    Test::More          1.302136
    YAML                1.27    
    YAML::Syck          1.30    
    version             0.9918  


--

Summary of my perl5 (revision 5 version 10 subversion 1) configuration:
   
  Platform:
    osname=linux, osvers=3.16.0-4-amd64, archname=x86_64-linux
    uname='linux eserte 3.16.0-4-amd64 #1 smp debian 3.16.7-ckt25-2 (2016-04-08) x86_64 gnulinux '
    config_args='-ds -e -Dprefix=/opt/perl-5.10.1 -Dcf_email=srezic@cpan.org'
    hint=recommended, useposix=true, d_sigaction=define
    useithreads=undef, usemultiplicity=undef
    useperlio=define, d_sfio=undef, uselargefiles=define, usesocks=undef
    use64bitint=define, use64bitall=define, uselongdouble=undef
    usemymalloc=n, bincompat5005=undef
  Compiler:
    cc='cc', ccflags ='-fno-strict-aliasing -pipe -fstack-protector -I/usr/local/include -D_LARGEFILE_SOURCE -D_FILE_OFFSET_BITS=64',
    optimize='-O2',
    cppflags='-fno-strict-aliasing -pipe -fstack-protector -I/usr/local/include'
    ccversion='', gccversion='4.9.2', gccosandvers=''
    intsize=4, longsize=8, ptrsize=8, doublesize=8, byteorder=12345678
    d_longlong=define, longlongsize=8, d_longdbl=define, longdblsize=16
    ivtype='long', ivsize=8, nvtype='double', nvsize=8, Off_t='off_t', lseeksize=8
    alignbytes=8, prototype=define
  Linker and Libraries:
    ld='cc', ldflags =' -fstack-protector -L/usr/local/lib'
    libpth=/usr/local/lib /lib/x86_64-linux-gnu /lib/../lib /usr/lib/x86_64-linux-gnu /usr/lib/../lib /lib /usr/lib
    libs=-lnsl -ldl -lm -lcrypt -lutil -lc
    perllibs=-lnsl -ldl -lm -lcrypt -lutil -lc
    libc=libc-2.19.so, so=so, useshrplib=false, libperl=libperl.a
    gnulibc_version='2.19'
  Dynamic Linking:
    dlsrc=dl_dlopen.xs, dlext=so, d_dlsymun=undef, ccdlflags='-Wl,-E'
    cccdlflags='-fPIC', lddlflags='-shared -O2 -L/usr/local/lib -fstack-protector'


Characteristics of this binary (from libperl): 
  Compile-time options: PERL_DONT_CREATE_GVSV PERL_MALLOC_WRAP USE_64_BIT_ALL
                        USE_64_BIT_INT USE_LARGE_FILES USE_PERLIO
  Locally applied patches:
	Devel::PatchPerl 1.42
  Built under linux
  Compiled at May  7 2016 09:04:56
  %ENV:
    PERL5LIB="/home/cpansand/.cpan/build/2018112012/POE-Component-Server-HTTP-0.09-1/blib/arch:/home/cpansand/.cpan/build/2018112012/POE-Component-Server-HTTP-0.09-1/blib/lib:/home/cpansand/.cpan/build/2018112012/POE-API-Peek-2.20-1/blib/arch:/home/cpansand/.cpan/build/2018112012/POE-API-Peek-2.20-1/blib/lib"
    PERL5OPT=""
    PERL5_CPANPLUS_IS_RUNNING="13515"
    PERL5_CPAN_IS_RUNNING="13515"
    PERL5_CPAN_IS_RUNNING_IN_RECURSION="10515,13515"
    PERLDOC="-MPod::Perldoc::ToTextOverstrike"
    PERL_BATCH="yes"
    PERL_CANARY_STABILITY_NOPROMPT="1"
    PERL_CPAN_REPORTER_CONFIG="/var/tmp/cpansmoker-1023/2018112012/cpanreporter_000_config.ini"
    PERL_EXTUTILS_AUTOINSTALL="--defaultdeps"
    PERL_USE_UNSAFE_INC="1"
  @INC:
    /home/cpansand/.cpan/build/2018112012/POE-Component-Server-HTTP-0.09-1/blib/arch
    /home/cpansand/.cpan/build/2018112012/POE-Component-Server-HTTP-0.09-1/blib/lib
    /home/cpansand/.cpan/build/2018112012/POE-API-Peek-2.20-1/blib/arch
    /home/cpansand/.cpan/build/2018112012/POE-API-Peek-2.20-1/blib/lib
    /opt/perl-5.10.1/lib/5.10.1/x86_64-linux
    /opt/perl-5.10.1/lib/5.10.1
    /opt/perl-5.10.1/lib/site_perl/5.10.1/x86_64-linux
    /opt/perl-5.10.1/lib/site_perl/5.10.1
    .