Promises v1.04 Perl 5 v5.28.2 x86_64-linux
- Status
- Pass
- From
- Slaven Rezić (SREZIC)
- Dist
-
Promises v1.04
- Platform
- Perl 5 v5.28.2 x86_64-linux
- Date
- 2020-02-23 16:40:04
- ID
- 24667ada-565b-11ea-9e5a-e0311f24ea8f
This distribution has been tested as part of the CPAN Testers
project, supporting the Perl programming language. See
http://wiki.cpantesters.org/ for more information or email
questions to cpan-testers-discuss@perl.org
--
Dear Yanick Champoux,
This is a computer-generated report for Promises-1.04
on perl 5.28.2, created by CPAN-Reporter-1.2018.
Thank you for uploading your work to CPAN. Congratulations!
All tests were successful.
Sections of this report:
* Tester comments
* Program output
* Prerequisites
* Environment and other context
------------------------------
TESTER COMMENTS
------------------------------
Additional comments from tester:
none provided
------------------------------
PROGRAM OUTPUT
------------------------------
Output from 'make test':
PERL_DL_NONLAZY=1 "/opt/perl-5.28.2/bin/perl" "-MExtUtils::Command::MM" "-MTest::Harness" "-e" "undef *Test::Harness::Switches; test_harness(0, 'blib/lib', 'blib/arch')" t/*.t
t/00-compile.t ................... ok
#
# Versions for all modules listed in MYMETA.json (including optional ones):
#
# === Configure Requires ===
#
# Module Want Have
# ------------------- ---- ----
# ExtUtils::MakeMaker any 7.42
#
# === Configure Suggests ===
#
# Module Want Have
# -------- ------- ----
# JSON::PP 2.27300 4.04
#
# === Build Requires ===
#
# Module Want Have
# ------------------- ---- ----
# ExtUtils::MakeMaker any 7.42
#
# === Test Requires ===
#
# Module Want Have
# ------------------- ---- --------
# ExtUtils::MakeMaker any 7.42
# File::Spec any 3.75
# IO::Handle any 1.42
# IPC::Open3 any 1.20
# Test::Exception any 0.43
# Test::Fatal any 0.014
# Test::More 0.89 1.302171
# Test::Pod any 1.52
# Test::Requires any 0.10
# Test::Warn any 0.36
# lib any 0.64
#
# === Test Recommends ===
#
# Module Want Have
# ---------- -------- --------
# CPAN::Meta 2.120900 2.150010
#
# === Runtime Requires ===
#
# Module Want Have
# --------------- ---- -----
# Carp any 1.50
# Data::Dumper any 2.173
# Exporter any 5.74
# Module::Runtime any 0.016
# Scalar::Util any 1.54
# Sub::Attribute any 0.07
# Sub::Exporter any 0.987
# constant any 1.33
# parent any 0.236
# strict any 1.11
# warnings any 1.42
#
t/00-report-prereqs.t ............ ok
t/000-load.t ..................... ok
# Delaying for 0.1 second ...
t/001-basic.t .................... ok
# Delaying for 0.1 second ...
# Delaying for 0.1 more second ...
t/002-multiples.t ................ ok
# Delaying for 0.1 second1 ...
t/003-post-resolve-then.t ........ ok
# Delaying for 0.1 second ...
t/004-error.t .................... ok
# Delaying for 0.1 second ...
# Delaying for 0.1 more second ...
t/005-multiples-w-error.t ........ ok
t/006-thenable.t ................. ok
t/007_callable.t ................. ok
# Delaying for 0.2 seconds ...
t/010-collect.t .................. ok
# Delaying for 0.2 seconds ...
t/011-collect-w-error.t .......... ok
# Delaying for 0.2 seconds ...
t/012-collect_hash.t ............. ok
t/013-collect_hash-params.t ...... ok
# Delaying for 0.2 seconds ...
t/013-collect_hash-with-error.t .. ok
t/020-chaining.t ................. ok
t/021-chaining-errors.t .......... ok
t/025-recursion.t ................ ok
t/030-deferred-default.t ......... ok
t/031-deferred-AE.t .............. ok
t/031-deferred-io-async.t ........ ok
t/032-deferred-AnyEvent.t ........ ok
t/033-deferred-EV.t .............. ok
t/034-deferred-Mojo.t ............ ok
t/040_finally.t .................. ok
t/045-attributes.t ............... ok
t/050-exceptions-pp.t ............ ok
t/051-exceptions-pp-anyevent.t ... ok
EV: error in callback (ignoring): Final
t/052-exceptions-ev-anyevent.t ... ok
Mojo::Reactor::Poll: Timer failed: Final
t/053-exceptions-mojo.t .......... ok
t/060-free-refs.t ................ ok
t/070-accepted-rejected.t ........ ok
t/080-deferred-as-sub.t .......... ok
t/090-timeout.t .................. ok
t/late-warning.t ................. ok
t/warnings.t ..................... ok
All tests successful.
Files=36, Tests=178, 15 wallclock secs ( 0.14 usr 0.07 sys + 3.01 cusr 0.51 csys = 3.73 CPU)
Result: PASS
------------------------------
PREREQUISITES
------------------------------
Prerequisite modules loaded:
requires:
Module Need Have
------------------- ----- --------
Carp 0 1.50
constant 0 1.33
Data::Dumper 0 2.173
Exporter 0 5.74
Module::Runtime 0 0.016
parent 0 0.236
perl 5.006 5.028002
Scalar::Util 0 1.54
strict 0 1.11
Sub::Attribute 0 0.07
Sub::Exporter 0 0.987
warnings 0 1.42
build_requires:
Module Need Have
------------------- ----- --------
ExtUtils::MakeMaker 0 7.42
File::Spec 0 3.75
IO::Handle 0 1.42
IPC::Open3 0 1.20
lib 0 0.64
Test::Exception 0 0.43
Test::Fatal 0 0.014
Test::More 0.89 1.302171
Test::Pod 0 1.52
Test::Requires 0 0.10
Test::Warn 0 0.36
configure_requires:
Module Need Have
------------------- ----- --------
ExtUtils::MakeMaker 0 7.42
------------------------------
ENVIRONMENT AND OTHER CONTEXT
------------------------------
Environment variables:
LANG = en_US.UTF-8
PATH = /usr/local/bin:/usr/bin:/bin:/usr/local/sbin:/usr/sbin:/sbin:/home/cpansand/bin/linux-gnu:/home/cpansand/bin/sh:/home/cpansand/bin:/usr/games:/home/cpansand/devel:/home/eserte/src/srezic-misc/scripts
PERL5LIB =
PERL5OPT =
PERL5_CPANPLUS_IS_RUNNING = 14151
PERL5_CPAN_IS_RUNNING = 14151
PERL5_CPAN_IS_RUNNING_IN_RECURSION = 13916,14151
PERLDOC = -MPod::Perldoc::ToTextOverstrike
PERL_BATCH = yes
PERL_CANARY_STABILITY_NOPROMPT = 1
PERL_CPAN_REPORTER_CONFIG = /var/tmp/cpansmoker-1023/2020022316/cpanreporter_000_config.ini
PERL_EXTUTILS_AUTOINSTALL = --defaultdeps
PERL_USE_UNSAFE_INC = 1
SHELL = /bin/zsh
TERM = screen
TMPDIR = /var/tmp/cpansmoker-1023/2020022316
Perl special variables (and OS-specific diagnostics, for MSWin32):
$^X = /opt/perl-5.28.2/bin/perl
$UID/$EUID = 1023 / 1023
$GID = 1023 1023
$EGID = 1023 1023
Perl module toolchain versions installed:
Module Have
------------------- --------
CPAN 2.27
CPAN::Meta 2.150010
Cwd 3.75
ExtUtils::CBuilder 0.280231
ExtUtils::Command 7.42
ExtUtils::Install 2.14
ExtUtils::MakeMaker 7.42
ExtUtils::Manifest 1.70
ExtUtils::ParseXS 3.39
File::Spec 3.75
JSON 4.02
JSON::PP 4.04
Module::Build 0.4231
Module::Signature n/a
Parse::CPAN::Meta 2.150010
Test::Harness 3.42
Test::More 1.302171
YAML 1.29
YAML::Syck 1.32
version 0.9923
--
Summary of my perl5 (revision 5 version 28 subversion 2) configuration:
Platform:
osname=linux
osvers=2.6.32-754.24.3.el6.x86_64
archname=x86_64-linux
uname='linux cloud6.bbbike.org 2.6.32-754.24.3.el6.x86_64 #1 smp thu nov 14 15:35:16 utc 2019 x86_64 x86_64 x86_64 gnulinux '
config_args='-ds -e -Dprefix=/opt/perl-5.28.2 -Dcf_email=srezic@cpan.org'
hint=recommended
useposix=true
d_sigaction=define
useithreads=undef
usemultiplicity=undef
use64bitint=define
use64bitall=define
uselongdouble=undef
usemymalloc=n
default_inc_excludes_dot=define
bincompat5005=undef
Compiler:
cc='cc'
ccflags ='-fwrapv -fno-strict-aliasing -pipe -fstack-protector -I/usr/local/include -D_LARGEFILE_SOURCE -D_FILE_OFFSET_BITS=64 -D_FORTIFY_SOURCE=2'
optimize='-O2'
cppflags='-fwrapv -fno-strict-aliasing -pipe -fstack-protector -I/usr/local/include'
ccversion=''
gccversion='4.4.7 20120313 (Red Hat 4.4.7-23)'
gccosandvers=''
intsize=4
longsize=8
ptrsize=8
doublesize=8
byteorder=12345678
doublekind=3
d_longlong=define
longlongsize=8
d_longdbl=define
longdblsize=16
longdblkind=3
ivtype='long'
ivsize=8
nvtype='double'
nvsize=8
Off_t='off_t'
lseeksize=8
alignbytes=8
prototype=define
Linker and Libraries:
ld='cc'
ldflags =' -fstack-protector -L/usr/local/lib'
libpth=/usr/local/lib /usr/lib /lib/../lib64 /usr/lib/../lib64 /lib /lib64 /usr/lib64 /usr/local/lib64
libs=-lpthread -lnsl -lgdbm -ldb -ldl -lm -lcrypt -lutil -lc
perllibs=-lpthread -lnsl -ldl -lm -lcrypt -lutil -lc
libc=libc-2.12.so
so=so
useshrplib=false
libperl=libperl.a
gnulibc_version='2.12'
Dynamic Linking:
dlsrc=dl_dlopen.xs
dlext=so
d_dlsymun=undef
ccdlflags='-Wl,-E'
cccdlflags='-fPIC'
lddlflags='-shared -O2 -L/usr/local/lib -fstack-protector'
Characteristics of this binary (from libperl):
Compile-time options:
HAS_TIMES
PERLIO_LAYERS
PERL_COPY_ON_WRITE
PERL_DONT_CREATE_GVSV
PERL_MALLOC_WRAP
PERL_OP_PARENT
PERL_PRESERVE_IVUV
USE_64_BIT_ALL
USE_64_BIT_INT
USE_LARGE_FILES
USE_LOCALE
USE_LOCALE_COLLATE
USE_LOCALE_CTYPE
USE_LOCALE_NUMERIC
USE_LOCALE_TIME
USE_PERLIO
USE_PERL_ATOF
Built under linux
Compiled at Dec 1 2019 09:27:20
%ENV:
PERL5LIB=""
PERL5OPT=""
PERL5_CPANPLUS_IS_RUNNING="14151"
PERL5_CPAN_IS_RUNNING="14151"
PERL5_CPAN_IS_RUNNING_IN_RECURSION="13916,14151"
PERLDOC="-MPod::Perldoc::ToTextOverstrike"
PERL_BATCH="yes"
PERL_CANARY_STABILITY_NOPROMPT="1"
PERL_CPAN_REPORTER_CONFIG="/var/tmp/cpansmoker-1023/2020022316/cpanreporter_000_config.ini"
PERL_EXTUTILS_AUTOINSTALL="--defaultdeps"
PERL_USE_UNSAFE_INC="1"
@INC:
/opt/perl-5.28.2/lib/site_perl/5.28.2/x86_64-linux
/opt/perl-5.28.2/lib/site_perl/5.28.2
/opt/perl-5.28.2/lib/5.28.2/x86_64-linux
/opt/perl-5.28.2/lib/5.28.2
.