Report for FormValidator-Lite-0.37

Back
From: metabase:user:314402c4-2aae-11df-837a-5e0a49663a4f
Subject: PASS FormValidator-Lite-0.37 v5.20.1 FreeBSD
Date: 2014-09-15T07:51:46Z

This distribution has been tested as part of the CPAN Testers
project, supporting the Perl programming language.  See
http://wiki.cpantesters.org/ for more information or email
questions to cpan-testers-discuss@perl.org


--
Dear Tokuhiro Matsuno,

This is a computer-generated report for FormValidator-Lite-0.37
on perl 5.20.1, created by CPAN-Reporter-1.2011.

Thank you for uploading your work to CPAN.  Congratulations!
All tests were successful.

Sections of this report:

    * Tester comments
    * Program output
    * Prerequisites
    * Environment and other context

------------------------------
TESTER COMMENTS
------------------------------

Additional comments from tester:

none provided

------------------------------
PROGRAM OUTPUT
------------------------------

Output from './Build test':

t/00_compile.t ................................... ok
t/010_core/001_simple.t .......................... ok
t/010_core/002_get_error_message.t ............... ok
t/010_core/003_get_error_messages.t .............. ok
t/010_core/004_hashkey.t ......................... ok
t/010_core/005_messages.t ........................ ok
t/010_core/006_not_null.t ........................ ok
t/010_core/007_integrate_with_plack.t ............ ok
t/010_core/008_get_error_messages_from_param.t ... ok
t/010_core/009_zero_regex.t ...................... ok
t/010_core/010_my_own_constraint.t ............... ok
t/010_core/011_messages.t ........................ ok
t/010_core/012_multivalue.t ...................... ok
t/010_core/013_build_message.t ................... ok
t/010_core/014_hash.t ............................ ok
t/010_core/015_hash_multivalue.t ................. ok
t/020_constraints/001_default.t .................. ok
t/020_constraints/002_japanese.t ................. ok
t/020_constraints/003_url.t ...................... ok
t/020_constraints/004_email.t .................... ok
t/020_constraints/005_date.t ..................... ok
t/020_constraints/006_file-plack.t ............... ok
t/020_constraints/006_file.t ..................... ok
t/020_constraints/007_choice.t ................... ok
t/020_constraints/008_time.t ..................... ok
t/020_constraints/009_number.t ................... ok
t/030_upload/001_cgi.t ........................... ok
t/030_upload/002_he.t ............................ skipped: Test requires module 'HTTP::Engine' but it's not found
t/030_upload/003_special.t ....................... ok
t/030_upload/004_plack.t ......................... ok
t/999_regression/001_break_arguments_in_check.t .. ok
t/999_regression/002_empty_form.t ................ skipped: Test requires module 'HTML::Shakan' but it's not found
All tests successful.
Files=32, Tests=193, 14 wallclock secs ( 0.20 usr  0.16 sys +  5.18 cusr  1.30 csys =  6.84 CPU)
Result: PASS

------------------------------
PREREQUISITES
------------------------------

Prerequisite modules loaded:

requires:

    Module                Need     Have    
    --------------------- -------- --------
    CGI                   3.31     4.04    
    Class::Accessor::Lite 0.05     0.06    
    Class::Load           0.11     0.22    
    Email::Valid          0        1.195   
    Email::Valid::Loose   0        0.05    
    Filter::Util::Call    0        1.49    
    perl                  5.008001 5.020001
    Scalar::Util          1.19     1.41    

build_requires:

    Module                Need     Have    
    --------------------- -------- --------
    ExtUtils::CBuilder    0        0.280217
    Test::Base::Less      0        0.12    
    Test::More            0.98     1.001002
    Test::Requires        0.05     0.08    
    YAML                  0        1.11    

configure_requires:

    Module                Need     Have    
    --------------------- -------- --------
    CPAN::Meta            0        2.142060
    CPAN::Meta::Prereqs   0        2.142060
    Module::Build         0.38     0.4210  


------------------------------
ENVIRONMENT AND OTHER CONTEXT
------------------------------

Environment variables:

    DBIC_NO_WARN_BAD_PERL = 1
    LC_ALL = de_DE.ISO8859-1
    PATH = /usr/local/bin:/usr/bin:/bin:/usr/local/sbin:/usr/sbin:/sbin:/home/cpansand/bin/freebsd10.0:/home/cpansand/bin/sh:/home/cpansand/bin:/usr/games:/home/cpansand/devel:/home/eserte/src/srezic-misc/scripts
    PERL5LIB = 
    PERL5OPT = 
    PERL5_CPANPLUS_IS_RUNNING = 49976
    PERL5_CPAN_IS_RUNNING = 49976
    PERL5_CPAN_IS_RUNNING_IN_RECURSION = 69311,49976
    PERLDOC = -MPod::Perldoc::ToTextOverstrike
    PERL_BATCH = yes
    PERL_CPAN_REPORTER_CONFIG = /var/tmp/cpansmoker-1023/BPBw1UTZTS_config.ini
    PERL_EXTUTILS_AUTOINSTALL = --defaultdeps
    PERL_HTML_DISPLAY_CLASS = HTML::Display::Mozilla
    SHELL = /usr/local/bin/zsh
    TERM = screen
    TMPDIR = /var/tmp/cpansmoker-1023

Perl special variables (and OS-specific diagnostics, for MSWin32):

    $^X = /usr/perl5.20.1/bin/perl
    $UID/$EUID = 1023 / 1023
    $GID = 1023 1023
    $EGID = 1023 1023

Perl module toolchain versions installed:

    Module              Have    
    ------------------- --------
    CPAN                2.05    
    CPAN::Meta          2.142060
    Cwd                 3.48    
    ExtUtils::CBuilder  0.280217
    ExtUtils::Command   1.18    
    ExtUtils::Install   1.67    
    ExtUtils::MakeMaker 6.98    
    ExtUtils::Manifest  1.63    
    ExtUtils::ParseXS   3.24    
    File::Spec          3.48    
    JSON                2.90    
    JSON::PP            2.27203 
    Module::Build       0.4210  
    Module::Signature   n/a     
    Parse::CPAN::Meta   1.4414  
    Test::Harness       3.30    
    Test::More          1.001002
    YAML                1.11    
    YAML::Syck          1.27    
    version             0.9909  


--

Summary of my perl5 (revision 5 version 20 subversion 1) configuration:
   
  Platform:
    osname=freebsd, osvers=10.0-release-p1, archname=amd64-freebsd
    uname='freebsd cvrsnica-freebsd-10-64bit.herceg.de 10.0-release-p1 freebsd 10.0-release-p1 #0: tue apr 8 06:45:06 utc 2014 root@amd64-builder.daemonology.net:usrobjusrsrcsysgeneric amd64 '
    config_args='-ds -e -Dprefix=/usr/perl5.20.1'
    hint=recommended, useposix=true, d_sigaction=define
    useithreads=undef, usemultiplicity=undef
    use64bitint=define, use64bitall=define, uselongdouble=undef
    usemymalloc=n, bincompat5005=undef
  Compiler:
    cc='cc', ccflags ='-DHAS_FPSETMASK -DHAS_FLOATINGPOINT_H -fno-strict-aliasing -pipe -fstack-protector -I/usr/local/include',
    optimize='-O',
    cppflags='-DHAS_FPSETMASK -DHAS_FLOATINGPOINT_H -fno-strict-aliasing -pipe -fstack-protector -I/usr/local/include'
    ccversion='', gccversion='4.2.1 Compatible FreeBSD Clang 3.3 (tags/RELEASE_33/final 183502)', gccosandvers=''
    intsize=4, longsize=8, ptrsize=8, doublesize=8, byteorder=12345678
    d_longlong=define, longlongsize=8, d_longdbl=define, longdblsize=16
    ivtype='long', ivsize=8, nvtype='double', nvsize=8, Off_t='off_t', lseeksize=8
    alignbytes=8, prototype=define
  Linker and Libraries:
    ld='cc', ldflags ='-Wl,-E  -fstack-protector -L/usr/local/lib'
    libpth=/usr/lib /usr/local/lib /usr/include/clang/3.3 /usr/lib
    libs=-lgdbm -lm -lcrypt -lutil -lc
    perllibs=-lm -lcrypt -lutil -lc
    libc=, so=so, useshrplib=false, libperl=libperl.a
    gnulibc_version=''
  Dynamic Linking:
    dlsrc=dl_dlopen.xs, dlext=so, d_dlsymun=undef, ccdlflags=' '
    cccdlflags='-DPIC -fPIC', lddlflags='-shared  -L/usr/local/lib -fstack-protector'


Characteristics of this binary (from libperl): 
  Compile-time options: HAS_TIMES PERLIO_LAYERS PERL_DONT_CREATE_GVSV
                        PERL_HASH_FUNC_ONE_AT_A_TIME_HARD PERL_MALLOC_WRAP
                        PERL_NEW_COPY_ON_WRITE PERL_PRESERVE_IVUV
                        USE_64_BIT_ALL USE_64_BIT_INT USE_LARGE_FILES
                        USE_LOCALE USE_LOCALE_COLLATE USE_LOCALE_CTYPE
                        USE_LOCALE_NUMERIC USE_PERLIO USE_PERL_ATOF
  Built under freebsd
  Compiled at Sep 14 2014 17:28:14
  %ENV:
    PERL5LIB=""
    PERL5OPT=""
    PERL5_CPANPLUS_IS_RUNNING="49976"
    PERL5_CPAN_IS_RUNNING="49976"
    PERL5_CPAN_IS_RUNNING_IN_RECURSION="69311,49976"
    PERLDOC="-MPod::Perldoc::ToTextOverstrike"
    PERL_BATCH="yes"
    PERL_CPAN_REPORTER_CONFIG="/var/tmp/cpansmoker-1023/BPBw1UTZTS_config.ini"
    PERL_EXTUTILS_AUTOINSTALL="--defaultdeps"
    PERL_HTML_DISPLAY_CLASS="HTML::Display::Mozilla"
  @INC:
    /usr/perl5.20.1/lib/site_perl/5.20.1/amd64-freebsd
    /usr/perl5.20.1/lib/site_perl/5.20.1
    /usr/perl5.20.1/lib/5.20.1/amd64-freebsd
    /usr/perl5.20.1/lib/5.20.1
    .