Neovim-RPC v1.0.1 Perl 5 v5.24.0 x86_64-linux-thread-multi
- Status
- Pass
- From
- David Cantrell (DCANTRELL)
- Dist
-
Neovim-RPC v1.0.1
- Platform
- Perl 5 v5.24.0 x86_64-linux-thread-multi
- Date
- 2017-11-29 01:25:10
- ID
- 243dbb4e-d4a4-11e7-bcc2-90013a6f764e
This distribution has been tested as part of the CPAN Testers
project, supporting the Perl programming language. See
http://wiki.cpantesters.org/ for more information or email
questions to cpan-testers-discuss@perl.org
--
Dear Yanick Champoux,
This is a computer-generated report for Neovim-RPC-1.0.1
on perl 5.24.0, created by CPAN-Reporter-1.2018.
Thank you for uploading your work to CPAN. Congratulations!
All tests were successful.
Sections of this report:
* Tester comments
* Program output
* Prerequisites
* Environment and other context
------------------------------
TESTER COMMENTS
------------------------------
Additional comments from tester:
this report is from an automated smoke testing program
and was not reviewed by a human for accuracy
------------------------------
PROGRAM OUTPUT
------------------------------
Output from '/usr/bin/make test':
PERL_DL_NONLAZY=1 "/home/david/cpantesting/perl-5.24.0/bin/perl" "-MExtUtils::Command::MM" "-MTest::Harness" "-e" "undef *Test::Harness::Switches; test_harness(0, 'blib/lib', 'blib/arch')" t/*.t
t/00-compile.t ......... ok
#
# Versions for all modules listed in MYMETA.json (including optional ones):
#
# === Configure Requires ===
#
# Module Want Have
# ------------------- ---- ----
# ExtUtils::MakeMaker any 7.30
#
# === Build Requires ===
#
# Module Want Have
# ------------------- ---- ----
# ExtUtils::MakeMaker any 7.30
#
# === Test Requires ===
#
# Module Want Have
# -------------------------- ---- --------
# Exporter any 5.72
# ExtUtils::MakeMaker any 7.30
# File::Spec any 3.63
# IO::Handle any 1.36
# IPC::Open3 any 1.20
# Net::EmptyPort any undef
# Test::Class::Moose any 0.89
# Test::Class::Moose::Load any 0.89
# Test::Class::Moose::Runner any 0.89
# Test::More any 1.302117
# lib any 0.63
# parent any 0.234
#
# === Test Recommends ===
#
# Module Want Have
# ---------- -------- --------
# CPAN::Meta 2.120900 2.150005
#
# === Runtime Requires ===
#
# Module Want Have
# ---------------------- ---- ------
# Class::Load any 0.24
# Getopt::Long any 2.48
# IO::Socket::INET any 1.35
# List::AllUtils any 0.14
# List::Util any 1.49
# Log::Any any 1.701
# Log::Any::Adapter any 1.701
# Moose any 2.2008
# Moose::Exporter any 2.2008
# Moose::Role any 2.2008
# Moose::Util any 2.2008
# MooseX::App::Simple any 1.39
# MooseX::ClassAttribute any 0.29
# MsgPack::Decoder any 2.0.1
# MsgPack::Encoder any 2.0.1
# MsgPack::RPC any 2.0.1
# MsgPack::Type::Ext any 2.0.1
# Promises 0.98 0.99
# Try::Tiny any 0.27
# experimental any 0.016
# strict any 1.11
# warnings any 1.36
#
t/00-report-prereqs.t .. ok
t/buffer.t ............. skipped: not ready
t/testrunner.t ......... ok
All tests successful.
Test Summary Report
-------------------
t/testrunner.t (Wstat: 0 Tests: 1 Failed: 0)
TODO passed: 1
Files=4, Tests=12, 2 wallclock secs ( 0.03 usr 0.01 sys + 2.32 cusr 0.26 csys = 2.62 CPU)
Result: PASS
------------------------------
PREREQUISITES
------------------------------
Prerequisite modules loaded:
requires:
Module Need Have
-------------------------- -------- --------
Class::Load 0 0.24
experimental 0 0.016
Getopt::Long 0 2.48
IO::Socket::INET 0 1.35
List::AllUtils 0 0.14
List::Util 0 1.49
Log::Any 0 1.701
Log::Any::Adapter 0 1.701
Moose 0 2.2008
Moose::Exporter 0 2.2008
Moose::Role 0 2.2008
Moose::Util 0 2.2008
MooseX::App::Simple 0 1.39
MooseX::ClassAttribute 0 0.29
MsgPack::Decoder 0 2.0.1
MsgPack::Encoder 0 2.0.1
MsgPack::RPC 0 2.0.1
MsgPack::Type::Ext 0 2.0.1
perl 5.020000 5.024000
Promises 0.98 0.99
strict 0 1.11
Try::Tiny 0 0.27
warnings 0 1.36
build_requires:
Module Need Have
-------------------------- -------- --------
Exporter 0 5.72
ExtUtils::MakeMaker 0 7.30
File::Spec 0 3.63
IO::Handle 0 1.36
IPC::Open3 0 1.20
lib 0 0.63
Net::EmptyPort 0 0
parent 0 0.234
Test::Class::Moose 0 0.89
Test::Class::Moose::Load 0 0.89
Test::Class::Moose::Runner 0 0.89
Test::More 0 1.302117
configure_requires:
Module Need Have
-------------------------- -------- --------
ExtUtils::MakeMaker 0 7.30
------------------------------
ENVIRONMENT AND OTHER CONTEXT
------------------------------
Environment variables:
AUTOMATED_TESTING = 1
NONINTERACTIVE_TESTING = 1
PATH = /usr/local/bin:/usr/bin:/bin:/usr/local/games:/usr/games
PERL = 5.24.0
PERL5LIB =
PERL5OPT =
PERL5_CPANPLUS_IS_RUNNING = 2035
PERL5_CPAN_IS_RUNNING = 2035
PERLVER = 5.24.0
PERL_INLINE_DIRECTORY = /home/david/.Inline-5.24.0
PERL_MM_USE_DEFAULT = 1
PERL_USE_UNSAFE_INC = 0
SHELL = /bin/bash
TERM = screen
Perl special variables (and OS-specific diagnostics, for MSWin32):
$^X = /home/david/cpantesting/perl-5.24.0/bin/perl
$UID/$EUID = 1000 / 1000
$GID = 1000 1000
$EGID = 1000 1000
Perl module toolchain versions installed:
Module Have
------------------- --------
CPAN 2.11
CPAN::Meta 2.150005
Cwd 3.63
ExtUtils::CBuilder 0.280225
ExtUtils::Command 7.30
ExtUtils::Install 2.06
ExtUtils::MakeMaker 7.30
ExtUtils::Manifest 1.70
ExtUtils::ParseXS 3.31
File::Spec 3.63
JSON 2.90
JSON::PP 2.27300
Module::Build 0.4224
Module::Signature n/a
Parse::CPAN::Meta 1.4417
Test::Harness 3.36
Test::More 1.302117
YAML 1.18
YAML::Syck n/a
version 0.9916
--
Summary of my perl5 (revision 5 version 24 subversion 0) configuration:
Platform:
osname=linux, osvers=3.16.0-4-amd64, archname=x86_64-linux-thread-multi
uname='linux pigsty.barnyard.co.uk 3.16.0-4-amd64 #1 smp debian 3.16.36-1+deb8u1 (2016-09-03) x86_64 gnulinux '
config_args='-de -Duse64bitall -Dusethreads -Dprefix=/home/david/cpantesting/perl-5.24.0'
hint=recommended, useposix=true, d_sigaction=define
useithreads=define, usemultiplicity=define
use64bitint=define, use64bitall=define, uselongdouble=undef
usemymalloc=n, bincompat5005=undef
Compiler:
cc='cc', ccflags ='-D_REENTRANT -D_GNU_SOURCE -fwrapv -fno-strict-aliasing -pipe -fstack-protector-strong -I/usr/local/include -D_LARGEFILE_SOURCE -D_FILE_OFFSET_BITS=64 -D_FORTIFY_SOURCE=2',
optimize='-O2',
cppflags='-D_REENTRANT -D_GNU_SOURCE -fwrapv -fno-strict-aliasing -pipe -fstack-protector-strong -I/usr/local/include'
ccversion='', gccversion='4.9.2', gccosandvers=''
intsize=4, longsize=8, ptrsize=8, doublesize=8, byteorder=12345678, doublekind=3
d_longlong=define, longlongsize=8, d_longdbl=define, longdblsize=16, longdblkind=3
ivtype='long', ivsize=8, nvtype='double', nvsize=8, Off_t='off_t', lseeksize=8
alignbytes=8, prototype=define
Linker and Libraries:
ld='cc', ldflags =' -fstack-protector-strong -L/usr/local/lib'
libpth=/usr/local/lib /usr/lib/gcc/x86_64-linux-gnu/4.9/include-fixed /usr/include/x86_64-linux-gnu /usr/lib /lib/x86_64-linux-gnu /lib/../lib /usr/lib/x86_64-linux-gnu /usr/lib/../lib /lib
libs=-lpthread -lnsl -ldb -ldl -lm -lcrypt -lutil -lc
perllibs=-lpthread -lnsl -ldl -lm -lcrypt -lutil -lc
libc=libc-2.19.so, so=so, useshrplib=false, libperl=libperl.a
gnulibc_version='2.19'
Dynamic Linking:
dlsrc=dl_dlopen.xs, dlext=so, d_dlsymun=undef, ccdlflags='-Wl,-E'
cccdlflags='-fPIC', lddlflags='-shared -O2 -L/usr/local/lib -fstack-protector-strong'
Characteristics of this binary (from libperl):
Compile-time options: HAS_TIMES MULTIPLICITY PERLIO_LAYERS
PERL_COPY_ON_WRITE PERL_DONT_CREATE_GVSV
PERL_HASH_FUNC_ONE_AT_A_TIME_HARD
PERL_IMPLICIT_CONTEXT PERL_MALLOC_WRAP
PERL_PRESERVE_IVUV USE_64_BIT_ALL USE_64_BIT_INT
USE_ITHREADS USE_LARGE_FILES USE_LOCALE
USE_LOCALE_COLLATE USE_LOCALE_CTYPE
USE_LOCALE_NUMERIC USE_LOCALE_TIME USE_PERLIO
USE_PERL_ATOF USE_REENTRANT_API
Locally applied patches:
Devel::PatchPerl 1.44
Built under linux
Compiled at Oct 12 2016 16:54:26
%ENV:
PERL="5.24.0"
PERL5LIB=""
PERL5OPT=""
PERL5_CPANPLUS_IS_RUNNING="2035"
PERL5_CPAN_IS_RUNNING="2035"
PERLVER="5.24.0"
PERL_INLINE_DIRECTORY="/home/david/.Inline-5.24.0"
PERL_MM_USE_DEFAULT="1"
PERL_USE_UNSAFE_INC="0"
@INC:
/home/david/cpantesting/perl-5.24.0/lib/site_perl/5.24.0/x86_64-linux-thread-multi
/home/david/cpantesting/perl-5.24.0/lib/site_perl/5.24.0
/home/david/cpantesting/perl-5.24.0/lib/5.24.0/x86_64-linux-thread-multi
/home/david/cpantesting/perl-5.24.0/lib/5.24.0
.