Report for Catalyst-Devel-1.34

Back
From: metabase:user:323dcade-2aae-11df-837a-5e0a49663a4f
Subject: PASS Catalyst-Devel-1.34 v5.15.3 Mac OS X
Date: 2011-09-25T19:04:06Z

This distribution has been tested as part of the CPAN Testers
project, supporting the Perl programming language.  See
http://wiki.cpantesters.org/ for more information or email
questions to cpan-testers-discuss@perl.org


--
Dear Tomas Doran,

This is a computer-generated report for Catalyst-Devel-1.34
on perl 5.15.3, created by CPAN-Reporter-1.2002.

Thank you for uploading your work to CPAN.  Congratulations!
All tests were successful.

Sections of this report:

    * Tester comments
    * Program output
    * Prerequisites
    * Environment and other context

------------------------------
TESTER COMMENTS
------------------------------

Additional comments from tester:

none provided

------------------------------
PROGRAM OUTPUT
------------------------------

Output from '/usr/bin/make test':

PERL_DL_NONLAZY=1 /usr/local/bin/perl5.15.3d-nt "-MExtUtils::Command::MM" "-e" "test_harness(0, 'inc', 'blib/lib', 'blib/arch')" t/01use.t t/back_compat.t t/generated_app.t t/get_sharedir_file.t t/optional_http-server-restart.t t/render_file_contents.t t/render_share_dir_file.t
t/01use.t ......................... ok
t/back_compat.t ................... ok
# Generated app is in /var/folders/Yu/YuMCqKeSFma5w4rE+2pCb++++TI/-Tmp-/ZZOC1dN6Ue
# Installed app is in /var/folders/Yu/YuMCqKeSFma5w4rE+2pCb++++TI/-Tmp-/FmJsRmBW3C
t/generated_app.t ................. ok
t/get_sharedir_file.t ............. ok
t/optional_http-server-restart.t .. skipped: set TEST_HTTP to enable this test
t/render_file_contents.t .......... ok
t/render_share_dir_file.t ......... ok
All tests successful.
Files=7, Tests=91, 31 wallclock secs ( 0.13 usr  0.03 sys + 27.98 cusr  2.08 csys = 30.22 CPU)
Result: PASS

------------------------------
PREREQUISITES
------------------------------

Prerequisite modules loaded:

requires:

    Module                                 Need    Have   
    -------------------------------------- ------- -------
    Catalyst                               5.90001 5.90002
    Catalyst::Action::RenderView           0.10    0.16   
    Catalyst::Plugin::ConfigLoader         0.30    0.30   
    Catalyst::Plugin::Static::Simple       0.28    0.29   
    Config::General                        2.42    2.50   
    ExtUtils::MakeMaker                    6.11    6.59   
    File::ChangeNotify                     0.07    0.20   
    File::Copy::Recursive                  0       0.38   
    File::ShareDir                         0       1.03   
    Module::Install                        0.91    1.01   
    Moose                                  0       2.0205 
    MooseX::Daemonize                      0       0.13   
    MooseX::Emulate::Class::Accessor::Fast 0       0.00903
    namespace::autoclean                   0       0.13   
    namespace::clean                       0       0.21   
    Path::Class                            0.09    0.24   
    Starman                                0       0.2014 
    Template                               2.14    2.22   
    Test::Fatal                            0.003   0.006  
    Test::More                             0.94    0.98   

build_requires:

    Module                                 Need    Have   
    -------------------------------------- ------- -------
    ExtUtils::MakeMaker                    6.42    6.59   
    Test::Fatal                            0.003   0.006  
    Test::More                             0.94    0.98   

configure_requires:

    Module                                 Need    Have   
    -------------------------------------- ------- -------
    ExtUtils::MakeMaker                    6.42    6.59   


------------------------------
ENVIRONMENT AND OTHER CONTEXT
------------------------------

Environment variables:

    LANG = en_US.UTF-8
    LC_CTYPE = en_US.UTF-8
    PATH = /opt/local/bin:/opt/local/sbin:/usr/bin:/bin:/usr/sbin:/sbin:/usr/local/bin:/usr/X11/bin:/Users/rurban/bin
    PERL5LIB = 
    PERL5OPT = 
    PERL5_CPANPLUS_IS_RUNNING = 35759
    PERL5_CPAN_IS_RUNNING = 35759
    SHELL = /bin/bash
    TERM = xterm
    TMPDIR = /var/folders/Yu/YuMCqKeSFma5w4rE+2pCb++++TI/-Tmp-/

Perl special variables (and OS-specific diagnostics, for MSWin32):

    $^X = /usr/local/bin/perl5.15.3d-nt
    $UID/$EUID = 501 / 501
    $GID = 20 20 204 100 98 81 80 79 61 12 401 402
    $EGID = 20 20 204 100 98 81 80 79 61 12 401 402

Perl module toolchain versions installed:

    Module              Have    
    ------------------- --------
    CPAN                1.9800  
    CPAN::Meta          2.112621
    Cwd                 3.37    
    ExtUtils::CBuilder  0.280204
    ExtUtils::Command   1.17    
    ExtUtils::Install   1.57    
    ExtUtils::MakeMaker 6.59    
    ExtUtils::Manifest  1.60    
    ExtUtils::ParseXS   3.04_04 
    File::Spec          3.34    
    JSON                2.53    
    JSON::PP            2.27200 
    Module::Build       0.39_01 
    Module::Signature   0.68    
    Parse::CPAN::Meta   1.4401  
    Test::Harness       3.23    
    Test::More          0.98    
    YAML                0.73    
    YAML::Syck          n/a     
    version             0.94    


--

Summary of my perl5 (revision 5 version 15 subversion 3) configuration:
  Commit id: 818a19bd7b67b794b43e09c66cea27902850c71b
  Platform:
    osname=darwin, osvers=10.8.0, archname=darwin-debug
    uname='darwin air.local 10.8.0 darwin kernel version 10.8.0: tue jun 7 16:33:36 pdt 2011; root:xnu-1504.15.3~1release_i386 i386 '
    config_args='-de -Dusedtrace -Dmksymlinks -DEBUGGING -Doptimize=-g3 -Accflags=-m64 -Aldflags=-m64 -Dcc=gcc-mp-4.6 -Dld=gcc-mp-4.6 -Dusedevel -Duseshrplib -Dperlpath=/usr/local/bin/perl5.15.3d-nt -Dperladmin=rurban@cpan.org'
    hint=recommended, useposix=true, d_sigaction=define
    useithreads=undef, usemultiplicity=undef
    useperlio=define, d_sfio=undef, uselargefiles=define, usesocks=undef
    use64bitint=define, use64bitall=define, uselongdouble=undef
    usemymalloc=n, bincompat5005=undef
  Compiler:
    cc='gcc-mp-4.6', ccflags ='-fno-common -DPERL_DARWIN -m64 -DDEBUGGING -fno-strict-aliasing -pipe -fstack-protector -I/usr/local/include -I/opt/local/include',
    optimize='-g3',
    cppflags='-fno-common -DPERL_DARWIN -m64 -DDEBUGGING -fno-strict-aliasing -pipe -fstack-protector -I/usr/local/include -I/opt/local/include'
    ccversion='', gccversion='4.6.1 20110325 (prerelease)', gccosandvers=''
    intsize=4, longsize=8, ptrsize=8, doublesize=8, byteorder=12345678
    d_longlong=define, longlongsize=8, d_longdbl=define, longdblsize=16
    ivtype='long', ivsize=8, nvtype='double', nvsize=8, Off_t='off_t', lseeksize=8
    alignbytes=8, prototype=define
  Linker and Libraries:
    ld='gcc-mp-4.6', ldflags =' -m64 -fstack-protector -L/usr/local/lib -L/opt/local/lib'
    libpth=/usr/local/lib /opt/local/lib /usr/lib
    libs=-lgdbm -ldbm -ldl -lm -lutil -lc
    perllibs=-ldl -lm -lutil -lc
    libc=, so=dylib, useshrplib=true, libperl=libperl.dylib
    gnulibc_version=''
  Dynamic Linking:
    dlsrc=dl_dlopen.xs, dlext=bundle, d_dlsymun=undef, ccdlflags=' '
    cccdlflags=' ', lddlflags=' -bundle -undefined dynamic_lookup -L/usr/local/lib -L/opt/local/lib -fstack-protector'


Characteristics of this binary (from libperl): 
  Compile-time options: DEBUGGING HAS_TIMES PERLIO_LAYERS
                        PERL_DONT_CREATE_GVSV PERL_MALLOC_WRAP
                        PERL_PRESERVE_IVUV PERL_USE_DEVEL USE_64_BIT_ALL
                        USE_64_BIT_INT USE_LARGE_FILES USE_LOCALE
                        USE_LOCALE_COLLATE USE_LOCALE_CTYPE
                        USE_LOCALE_NUMERIC USE_PERLIO USE_PERL_ATOF
  Built under darwin
  Compiled at Sep 21 2011 15:02:41
  %ENV:
    PERL5LIB=""
    PERL5OPT=""
    PERL5_CPANPLUS_IS_RUNNING="35759"
    PERL5_CPAN_IS_RUNNING="35759"
  @INC:
    /usr/local/lib/perl5/site_perl/5.15.3/darwin-debug
    /usr/local/lib/perl5/site_perl/5.15.3
    /usr/local/lib/perl5/5.15.3/darwin-debug
    /usr/local/lib/perl5/5.15.3
    /usr/local/lib/perl5/site_perl
    .