Report for Bit-Vector-7.2

Back
From: metabase:user:3eb388d2-8a9e-11e2-a4f3-87ab22c549b9
Subject: PASS Bit-Vector-7.2 v5.17.9 GNU/Linux
Date: 2013-03-26T07:09:46Z

This distribution has been tested as part of the CPAN Testers
project, supporting the Perl programming language.  See
http://wiki.cpantesters.org/ for more information or email
questions to cpan-testers-discuss@perl.org


--
WWW-Search-2.509 ... PASS

Perl           : v5.17.9
System         : linux
Local Versions :
    Getopt::Long                     : 2.38
    Test::File                       : 1.34
    POSIX                            : 1.32
    URI::Escape                      : 3.31
    Date::Manip                      : 6.39
    Pod::Usage                       : 1.61
    LWP::Simple                      : 6.00
    HTML::TreeBuilder                : 5.03
    File::Find                       : 1.23
    File::Slurp                      : 9999.19
    Test::Simple                     : 0.98
    Carp::Clan                       : 6.04
    CGI                              : 3.63
    HTML::Parser                     : 3.69
    IO::Capture::Stderr              : 
    Test::More                       : 0.98
    File::Copy                       : 2.25
    User                             : 1.9
    File::Basename                   : 2.84
    ExtUtils::MakeMaker              : 6.64
    Storable                         : 2.40
    File::Path                       : 2.09
    File::Temp                       : 0.22_90
    Net::Domain                      : 2.20
    LWP::UserAgent                   : 6.04
    File::Spec                       : 3.40
    URI                              : 1.60
    LWP::MemberMixin                 : 
    Data::Dumper                     : 2.142
    ExtUtils::MM_Unix                : 6.64

Test Output    :

PERL_DL_NONLAZY=1 /home/myra/perl5/perlbrew/perls/perl-5.17.9/bin/perl5.17.9 "-MExtUtils::Command::MM" "-e" "test_harness(0, 'inc', 'blib/lib', 'blib/arch')" t/*.t
# 
# 
#  Module                         Version
#  File::Copy                     2.25
#  File::Find                     1.23
#  File::Spec                     3.40
#  Getopt::Long                   2.38
#  HTML::Parser                   3.69
#  HTML::TreeBuilder              5.03
#  HTTP::Cookies                  6.01
#  LWP::UserAgent                 6.04
#  Net::Domain                    2.20
#  Pod::Parser                    1.60
#  Pod::Usage                     1.61
#  URI                            1.60
#  User                           1.9
#  perl                           5.17.9
t/0_versions.t .... ok
blib/script/AutoSearch version 1.002; WWW::Search version 2.565
t/autosearch.t .... ok
t/null-count.t .... ok
t/null-empty.t .... ok
t/null-error.t .... ok
t/pod-coverage.t .. ok
t/pod.t ........... ok
Can't exec "WebSearch": No such file or directory at /home/myra/.cpanm/work/1364281757.14780/WWW-Search-2.509/blib/lib/WWW/Search/Test.pm line 94.
Use of uninitialized value in split at /home/myra/.cpanm/work/1364281757.14780/WWW-Search-2.509/blib/lib/WWW/Search/Test.pm line 94.
Can't exec "./WebSearch": No such file or directory at /home/myra/.cpanm/work/1364281757.14780/WWW-Search-2.509/blib/lib/WWW/Search/Test.pm line 94.
Use of uninitialized value in split at /home/myra/.cpanm/work/1364281757.14780/WWW-Search-2.509/blib/lib/WWW/Search/Test.pm line 94.
# blib/script/WebSearch
t/test.t .......... ok
# FYI the following backends are already installed (including ones in this distribution): Null, Null::Count, Null::Empty, Null::Error, Null::NoVersion, Simple
t/use.t ........... ok
All tests successful.
Files=9, Tests=148,  3 wallclock secs ( 0.04 usr  0.02 sys +  2.54 cusr  0.19 csys =  2.79 CPU)
Result: PASS


--

Summary of my perl5 (revision 5 version 17 subversion 9) configuration:
   
  Platform:
    osname=linux, osvers=3.8.2-1-arch, archname=x86_64-linux-thread-multi
    uname='linux gandalf 3.8.2-1-arch #1 smp preempt mon mar 4 09:06:43 cet 2013 x86_64 gnulinux '
    config_args='-de -Dprefix=/home/myra/perl5/perlbrew/perls/perl-5.17.9 -Dusethreads -Duseshrplib -Doptimize=-march=x86-64 -mtune=generic -O2 -pipe -fstack-protector --param=ssp-buffer-size=4 -D_FORTIFY_SOURCE=2 -Dcccdlflags=-fPIC -Dlddlflags=-shared -Wl,-O1,--sort-common,--as-needed,-z,relro -Dusedevel -Aeval:scriptdir=/home/myra/perl5/perlbrew/perls/perl-5.17.9/bin'
    hint=recommended, useposix=true, d_sigaction=define
    useithreads=define, usemultiplicity=define
    useperlio=define, d_sfio=undef, uselargefiles=define, usesocks=undef
    use64bitint=define, use64bitall=define, uselongdouble=undef
    usemymalloc=n, bincompat5005=undef
  Compiler:
    cc='cc', ccflags ='-D_REENTRANT -D_GNU_SOURCE -fno-strict-aliasing -pipe -fstack-protector -I/usr/local/include -D_LARGEFILE_SOURCE -D_FILE_OFFSET_BITS=64',
    optimize='-march=x86-64 -mtune=generic -O2 -pipe -fstack-protector --param=ssp-buffer-size=4 -D_FORTIFY_SOURCE=2',
    cppflags='-D_REENTRANT -D_GNU_SOURCE -fno-strict-aliasing -pipe -fstack-protector -I/usr/local/include'
    ccversion='', gccversion='4.7.2', gccosandvers=''
    intsize=4, longsize=8, ptrsize=8, doublesize=8, byteorder=12345678
    d_longlong=define, longlongsize=8, d_longdbl=define, longdblsize=16
    ivtype='long', ivsize=8, nvtype='double', nvsize=8, Off_t='off_t', lseeksize=8
    alignbytes=8, prototype=define
  Linker and Libraries:
    ld='cc', ldflags =' -fstack-protector -L/usr/local/lib'
    libpth=/usr/local/lib /lib/../lib /usr/lib/../lib /lib /usr/lib /lib64 /usr/lib64
    libs=-lnsl -lgdbm -ldb -ldl -lm -lcrypt -lutil -lpthread -lc -lgdbm_compat
    perllibs=-lnsl -ldl -lm -lcrypt -lutil -lpthread -lc
    libc=/lib/libc-2.17.so, so=so, useshrplib=true, libperl=libperl.so
    gnulibc_version='2.17'
  Dynamic Linking:
    dlsrc=dl_dlopen.xs, dlext=so, d_dlsymun=undef, ccdlflags='-Wl,-E -Wl,-rpath,/home/myra/perl5/perlbrew/perls/perl-5.17.9/lib/5.17.9/x86_64-linux-thread-multi/CORE'
    cccdlflags='-fPIC', lddlflags='-shared -Wl,-O1,--sort-common,--as-needed,-z,relro -L/usr/local/lib -fstack-protector'


Characteristics of this binary (from libperl): 
  Compile-time options: HAS_TIMES MULTIPLICITY PERLIO_LAYERS
                        PERL_DONT_CREATE_GVSV PERL_IMPLICIT_CONTEXT
                        PERL_MALLOC_WRAP PERL_NEW_COPY_ON_WRITE
                        PERL_PRESERVE_IVUV PERL_USE_DEVEL USE_64_BIT_ALL
                        USE_64_BIT_INT USE_ITHREADS USE_LARGE_FILES
                        USE_LOCALE USE_LOCALE_COLLATE USE_LOCALE_CTYPE
                        USE_LOCALE_NUMERIC USE_PERLIO USE_PERL_ATOF
                        USE_REENTRANT_API
  Built under linux
  Compiled at Mar  6 2013 23:15:22
  %ENV:
    PERLBREW_BASHRC_VERSION="0.59"
    PERLBREW_HOME="/home/myra/.perlbrew"
    PERLBREW_MANPATH="/home/myra/perl5/perlbrew/perls/perl-5.17.10/man"
    PERLBREW_PATH="/home/myra/perl5/perlbrew/bin:/home/myra/perl5/perlbrew/perls/perl-5.17.10/bin"
    PERLBREW_PERL="perl-5.17.10"
    PERLBREW_ROOT="/home/myra/perl5/perlbrew"
    PERLBREW_VERSION="0.61"
    PERL_MM_USE_DEFAULT="1"
  @INC:
    /home/myra/perl5/perlbrew/perls/perl-5.17.9/lib/site_perl/5.17.9/x86_64-linux-thread-multi
    /home/myra/perl5/perlbrew/perls/perl-5.17.9/lib/site_perl/5.17.9
    /home/myra/perl5/perlbrew/perls/perl-5.17.9/lib/5.17.9/x86_64-linux-thread-multi
    /home/myra/perl5/perlbrew/perls/perl-5.17.9/lib/5.17.9
    .