B-CompilerPhase-Hook v0.04 Perl 5 v5.16.3 x86_64-linux

Status
Pass
From
Paul Evans
Dist
B-CompilerPhase-Hook v0.04
Platform
Perl 5 v5.16.3 x86_64-linux
Date
2020-06-29 11:53:25
ID
23db144c-b9ff-11ea-a3cf-bc5a7d90cf24
This distribution has been tested as part of the CPAN Testers
project, supporting the Perl programming language.  See
http://wiki.cpantesters.org/ for more information or email
questions to cpan-testers-discuss@perl.org


--
Dear Stevan Little,

This is a computer-generated report for B-CompilerPhase-Hook-0.04
on perl 5.16.3, created by CPAN-Reporter-1.2018.

Thank you for uploading your work to CPAN.  Congratulations!
All tests were successful.

Sections of this report:

    * Tester comments
    * Program output
    * Prerequisites
    * Environment and other context

------------------------------
TESTER COMMENTS
------------------------------

Additional comments from tester:

none provided

------------------------------
PROGRAM OUTPUT
------------------------------

Output from '/usr/bin/make test':

"/home/leo/perl5/perlbrew/perls/perl-5.16.3/bin/perl5.16.3" -MExtUtils::Command::MM -e 'cp_nonempty' -- Hook.bs blib/arch/auto/B/CompilerPhase/Hook/Hook.bs 644
PERL_DL_NONLAZY=1 "/home/leo/perl5/perlbrew/perls/perl-5.16.3/bin/perl5.16.3" "-MExtUtils::Command::MM" "-MTest::Harness" "-e" "undef *Test::Harness::Switches; test_harness(0, 'blib/lib', 'blib/arch')" t/*.t
t/000-load.t ......... ok
t/001-basic.t ........ ok
t/010-BEGIN.t ........ ok
t/011-CHECK.t ........ ok
t/012-INIT.t ......... ok
t/013-UNITCHECK.t .... ok
t/014-END.t .......... ok
# ... pausing to test timer
# ... timer took 1.000253 seconds
t/100-timing-test.t .. ok
All tests successful.
Files=8, Tests=48,  2 wallclock secs ( 0.04 usr  0.01 sys +  0.11 cusr  0.02 csys =  0.18 CPU)
Result: PASS

------------------------------
PREREQUISITES
------------------------------

Prerequisite modules loaded:

requires:

    Module              Need Have    
    ------------------- ---- --------
    Test::More          0    1.001009
    XSLoader            0    0.16    

configure_requires:

    Module              Need Have    
    ------------------- ---- --------
    ExtUtils::MakeMaker 6.30 7.44    


------------------------------
ENVIRONMENT AND OTHER CONTEXT
------------------------------

Environment variables:

    LANG = en_GB.UTF-8
    LANGUAGE = en_GB:en
    LD_LIBRARY_PATH = /home/leo/lib
    PATH = /home/leo/bin:/home/leo/bin:/usr/local/bin:/usr/bin:/bin:/usr/local/games:/usr/games
    PERL5LIB = 
    PERL5OPT = 
    PERL5_CPANPLUS_IS_RUNNING = 1266
    PERL5_CPAN_IS_RUNNING = 1266
    PERL_USE_UNSAFE_INC = 1
    SHELL = /bin/bash
    TERM = xterm

Perl special variables (and OS-specific diagnostics, for MSWin32):

    $^X = /home/leo/perl5/perlbrew/perls/perl-5.16.3/bin/perl5.16.3
    $UID/$EUID = 1000 / 1000
    $GID = 1000 20 24 25 29 30 44 46 116 123 1000 1003 1016 2000
    $EGID = 1000 20 24 25 29 30 44 46 116 123 1000 1003 1016 2000

Perl module toolchain versions installed:

    Module              Have    
    ------------------- --------
    CPAN                2.26    
    CPAN::Meta          2.143240
    Cwd                 3.39_02 
    ExtUtils::CBuilder  0.280206
    ExtUtils::Command   7.44    
    ExtUtils::Install   2.06    
    ExtUtils::MakeMaker 7.44    
    ExtUtils::Manifest  1.70    
    ExtUtils::ParseXS   3.30    
    File::Spec          3.39_02 
    JSON                2.90    
    JSON::PP            2.27300 
    Module::Build       0.4231  
    Module::Signature   n/a     
    Parse::CPAN::Meta   1.4414  
    Test::Harness       3.39    
    Test::More          1.001009
    YAML                n/a     
    YAML::Syck          n/a     
    version             0.99    


--

Summary of my perl5 (revision 5 version 16 subversion 3) configuration:
   
  Platform:
    osname=linux, osvers=3.10-3-amd64, archname=x86_64-linux
    uname='linux cel 3.10-3-amd64 #1 smp debian 3.10.11-1 (2013-09-10) x86_64 gnulinux '
    config_args='-de -Dprefix=/home/leo/perl5/perlbrew/perls/perl-5.16.3 -Aeval:scriptdir=/home/leo/perl5/perlbrew/perls/perl-5.16.3/bin'
    hint=recommended, useposix=true, d_sigaction=define
    useithreads=undef, usemultiplicity=undef
    useperlio=define, d_sfio=undef, uselargefiles=define, usesocks=undef
    use64bitint=define, use64bitall=define, uselongdouble=undef
    usemymalloc=n, bincompat5005=undef
  Compiler:
    cc='cc', ccflags ='-fno-strict-aliasing -pipe -fstack-protector -I/usr/local/include -D_LARGEFILE_SOURCE -D_FILE_OFFSET_BITS=64',
    optimize='-O2',
    cppflags='-fno-strict-aliasing -pipe -fstack-protector -I/usr/local/include'
    ccversion='', gccversion='4.8.3', gccosandvers=''
    intsize=4, longsize=8, ptrsize=8, doublesize=8, byteorder=12345678
    d_longlong=define, longlongsize=8, d_longdbl=define, longdblsize=16
    ivtype='long', ivsize=8, nvtype='double', nvsize=8, Off_t='off_t', lseeksize=8
    alignbytes=8, prototype=define
  Linker and Libraries:
    ld='cc', ldflags =' -fstack-protector -L/usr/local/lib'
    libpth=/usr/local/lib /lib/x86_64-linux-gnu /lib/../lib /usr/lib/x86_64-linux-gnu /usr/lib/../lib /lib /usr/lib
    libs=-lnsl -ldl -lm -lcrypt -lutil -lc
    perllibs=-lnsl -ldl -lm -lcrypt -lutil -lc
    libc=, so=so, useshrplib=false, libperl=libperl.a
    gnulibc_version='2.19'
  Dynamic Linking:
    dlsrc=dl_dlopen.xs, dlext=so, d_dlsymun=undef, ccdlflags='-Wl,-E'
    cccdlflags='-fPIC', lddlflags='-shared -O2 -L/usr/local/lib -fstack-protector'


Characteristics of this binary (from libperl): 
  Compile-time options: HAS_TIMES PERLIO_LAYERS PERL_DONT_CREATE_GVSV
                        PERL_MALLOC_WRAP PERL_PRESERVE_IVUV USE_64_BIT_ALL
                        USE_64_BIT_INT USE_LARGE_FILES USE_LOCALE
                        USE_LOCALE_COLLATE USE_LOCALE_CTYPE
                        USE_LOCALE_NUMERIC USE_PERLIO USE_PERL_ATOF
  Built under linux
  Compiled at Aug 30 2014 13:47:33
  %ENV:
    PERL5LIB=""
    PERL5OPT=""
    PERL5_CPANPLUS_IS_RUNNING="1266"
    PERL5_CPAN_IS_RUNNING="1266"
    PERL_USE_UNSAFE_INC="1"
  @INC:
    /home/leo/perl5/perlbrew/perls/perl-5.16.3/lib/site_perl/5.16.3/x86_64-linux
    /home/leo/perl5/perlbrew/perls/perl-5.16.3/lib/site_perl/5.16.3
    /home/leo/perl5/perlbrew/perls/perl-5.16.3/lib/5.16.3/x86_64-linux
    /home/leo/perl5/perlbrew/perls/perl-5.16.3/lib/5.16.3
    .