Report for Template-Benchmark-1.09_01

Back
From: metabase:user:9820532a-708b-1014-9a05-b18a96298da1
Subject: PASS Template-Benchmark-1.09_01 v5.15.8 GNU/Linux
Date: 2012-03-10T00:36:56Z

This distribution has been tested as part of the CPAN Testers
project, supporting the Perl programming language.  See
http://wiki.cpantesters.org/ for more information or email
questions to cpan-testers-discuss@perl.org


--
Dear Sam Graham,

This is a computer-generated report for Template-Benchmark-1.09_01
on perl 5.15.8, created by CPAN-Reporter-1.2005.

Thank you for uploading your work to CPAN.  Congratulations!
All tests were successful.

Sections of this report:

    * Tester comments
    * Program output
    * Prerequisites
    * Environment and other context

------------------------------
TESTER COMMENTS
------------------------------

Additional comments from tester:

this report is from an automated smoke testing program
and was not reviewed by a human for accuracy

------------------------------
PROGRAM OUTPUT
------------------------------

Output from './Build test':

# Testing Template::Benchmark 1.09_01, Perl 5.015008, /home/bri/perl5/perlbrew/perls/5.15.8-ld/bin/perl5.15.8
t/00-load.t .................. ok
t/10-class-methods.t ......... ok
t/15-constructor.t ........... ok
t/16-only-plugin.t ........... ok
t/17-features-from.t ......... ok
t/18-cache-types-from.t ...... ok
# Using plugin HTMLTemplate (2.9) for instance tests
t/20-instance-methods.t ...... ok
t/30-custom-dataset.t ........ skipped: Dataset testing requires one of the following sets of modules to be installed: (Template::Sandbox Cache::CacheFactory CHI Cache::FastMmap Cache::FileCache Cache::FastMemoryCache Cache::Ref::FIFO) (Text::Xslate 0.2007)
# Using plugin HTMLTemplate (2.9) for feature repeats tests
t/40-per-feature-repeats.t ... ok
t/50-script-run.t ............ ok
xt/release/check-changes.t ... ok
xt/release/fixme.t ........... ok
xt/release/hasversion.t ...... skipped: Test::HasVersion 0.012 not available for testing
xt/release/manifest.t ........ skipped: Author tests not required for installation
xt/release/meta.t ............ ok
xt/release/minimumversion.t .. ok
xt/release/pod-coverage.t .... ok
xt/release/pod.t ............. ok
All tests successful.
Files=18, Tests=270, 19 wallclock secs ( 0.10 usr  0.02 sys + 17.75 cusr  0.29 csys = 18.16 CPU)
Result: PASS

------------------------------
PREREQUISITES
------------------------------

Prerequisite modules loaded:

requires:

    Module            Need   Have      
    ----------------- ------ ----------
    Benchmark         0      1.13      
    File::Path        0      2.08_01   
    File::Spec        0      3.39_01   
    File::Temp        0.18   0.22      
    FindBin           0      1.51      
    Getopt::Long      0      2.38      
    IO::File          0      1.16      
    Module::Pluggable 0      4.0       
    perl              v5.6.1 5.015008  
    Pod::Usage        0      1.51      
    Scalar::Util      0      1.23      
    Text::Matrix      0      1.00      
    Text::Wrap        0      2009.0305 

build_requires:

    Module            Need   Have      
    ----------------- ------ ----------
    Config            0      0         
    Cwd               0      3.39_01   
    File::Spec        0      3.39_01   
    FindBin           0      1.51      
    Test::Command     0.08   0.08      
    Test::Exception   0      0.31      
    Test::MockObject  0      1.20110606
    Test::More        0      0.98      

configure_requires:

    Module            Need   Have      
    ----------------- ------ ----------
    Module::Build     0.23   0.40      


------------------------------
ENVIRONMENT AND OTHER CONTEXT
------------------------------

Environment variables:

    AUTOMATED_TESTING = 1
    LANG = C
    LANGUAGE = en_GB:en
    LC_ALL = C
    MANPATH_WITHOUT_PERLBREW = 
    PATH = /home/bri/bin:/home/bri/perl5/perlbrew/bin:/home/bri/perl5/perlbrew/perls/5.15.8-ld/bin:~/bin:/usr/local/sbin:/usr/local/bin:/usr/sbin:/usr/bin:/sbin:/bin:/usr/games
    PATH_WITHOUT_PERLBREW = ~/bin:/usr/local/sbin:/usr/local/bin:/usr/sbin:/usr/bin:/sbin:/bin:/usr/games
    PERL5LIB = 
    PERL5OPT = 
    PERL5_CPANPLUS_IS_RUNNING = 11013
    PERL5_CPAN_IS_RUNNING = 11013
    PERL5_CPAN_IS_RUNNING_IN_RECURSION = 1976,11013
    PERLBREW_BASHRC_VERSION = 0.41
    PERLBREW_HOME = /home/bri/.perlbrew
    PERLBREW_MANPATH = /home/bri/perl5/perlbrew/perls/5.15.8-ld/man
    PERLBREW_PATH = /home/bri/perl5/perlbrew/bin:/home/bri/perl5/perlbrew/perls/5.15.8-ld/bin
    PERLBREW_PERL = 5.15.8-ld
    PERLBREW_ROOT = /home/bri/perl5/perlbrew
    PERLBREW_VERSION = 0.41
    PERL_CPANM_OPT = --prompt --mirror http://172.16.1.3/cpan/
    PERL_CR_SMOKER_CURRENT = Template-Benchmark-1.09_01
    PERL_EXTUTILS_AUTOINSTALL = --defaultdeps
    PERL_MM_USE_DEFAULT = 1
    SHELL = /bin/bash
    TERM = linux

Perl special variables (and OS-specific diagnostics, for MSWin32):

    $^X = /home/bri/perl5/perlbrew/perls/5.15.8-ld/bin/perl5.15.8
    $UID/$EUID = 1000 / 1000
    $GID = 1000 4 20 24 46 112 120 122 1000
    $EGID = 1000 4 20 24 46 112 120 122 1000

Perl module toolchain versions installed:

    Module              Have    
    ------------------- --------
    CPAN                1.9800  
    CPAN::Meta          2.120630
    Cwd                 3.39_01 
    ExtUtils::CBuilder  0.280205
    ExtUtils::Command   1.17    
    ExtUtils::Install   1.58    
    ExtUtils::MakeMaker 6.62    
    ExtUtils::Manifest  1.60    
    ExtUtils::ParseXS   3.15    
    File::Spec          3.39_01 
    JSON                2.53    
    JSON::PP            2.27200 
    Module::Build       0.40    
    Module::Signature   n/a     
    Parse::CPAN::Meta   1.4402  
    Test::Harness       3.23    
    Test::More          0.98    
    YAML                0.80    
    YAML::Syck          1.20    
    version             0.96    


--

Summary of my perl5 (revision 5 version 15 subversion 8) configuration:
   
  Platform:
    osname=linux, osvers=2.6.38-11-generic, archname=i686-linux-ld
    uname='linux lappy 2.6.38-11-generic #48-ubuntu smp fri jul 29 19:05:14 utc 2011 i686 i686 i386 gnulinux '
    config_args='-de -Dprefix=/home/bri/perl5/perlbrew/perls/5.15.8-ld -Duselongdouble -Dusedevel'
    hint=recommended, useposix=true, d_sigaction=define
    useithreads=undef, usemultiplicity=undef
    useperlio=define, d_sfio=undef, uselargefiles=define, usesocks=undef
    use64bitint=undef, use64bitall=undef, uselongdouble=define
    usemymalloc=n, bincompat5005=undef
  Compiler:
    cc='cc', ccflags ='-fno-strict-aliasing -pipe -fstack-protector -I/usr/local/include -D_LARGEFILE_SOURCE -D_FILE_OFFSET_BITS=64',
    optimize='-O2',
    cppflags='-fno-strict-aliasing -pipe -fstack-protector -I/usr/local/include'
    ccversion='', gccversion='4.5.2', gccosandvers=''
    intsize=4, longsize=4, ptrsize=4, doublesize=8, byteorder=1234
    d_longlong=define, longlongsize=8, d_longdbl=define, longdblsize=12
    ivtype='long', ivsize=4, nvtype='long double', nvsize=12, Off_t='off_t', lseeksize=8
    alignbytes=4, prototype=define
  Linker and Libraries:
    ld='cc', ldflags =' -fstack-protector -L/usr/local/lib'
    libpth=/usr/local/lib /lib /usr/lib /usr/lib/i386-linux-gnu /usr/lib64
    libs=-lnsl -ldl -lm -lcrypt -lutil -lc
    perllibs=-lnsl -ldl -lm -lcrypt -lutil -lc
    libc=, so=so, useshrplib=false, libperl=libperl.a
    gnulibc_version='2.13'
  Dynamic Linking:
    dlsrc=dl_dlopen.xs, dlext=so, d_dlsymun=undef, ccdlflags='-Wl,-E'
    cccdlflags='-fPIC', lddlflags='-shared -O2 -L/usr/local/lib -fstack-protector'


Characteristics of this binary (from libperl): 
  Compile-time options: HAS_TIMES PERLIO_LAYERS PERL_DONT_CREATE_GVSV
                        PERL_MALLOC_WRAP PERL_PRESERVE_IVUV PERL_USE_DEVEL
                        USE_LARGE_FILES USE_LOCALE USE_LOCALE_COLLATE
                        USE_LOCALE_CTYPE USE_LOCALE_NUMERIC USE_LONG_DOUBLE
                        USE_PERLIO USE_PERL_ATOF
  Built under linux
  Compiled at Mar  4 2012 11:48:13
  %ENV:
    PERL5LIB=""
    PERL5OPT=""
    PERL5_CPANPLUS_IS_RUNNING="11013"
    PERL5_CPAN_IS_RUNNING="11013"
    PERL5_CPAN_IS_RUNNING_IN_RECURSION="1976,11013"
    PERLBREW_BASHRC_VERSION="0.41"
    PERLBREW_HOME="/home/bri/.perlbrew"
    PERLBREW_MANPATH="/home/bri/perl5/perlbrew/perls/5.15.8-ld/man"
    PERLBREW_PATH="/home/bri/perl5/perlbrew/bin:/home/bri/perl5/perlbrew/perls/5.15.8-ld/bin"
    PERLBREW_PERL="5.15.8-ld"
    PERLBREW_ROOT="/home/bri/perl5/perlbrew"
    PERLBREW_VERSION="0.41"
    PERL_CPANM_OPT="--prompt --mirror http://172.16.1.3/cpan/"
    PERL_CR_SMOKER_CURRENT="Template-Benchmark-1.09_01"
    PERL_EXTUTILS_AUTOINSTALL="--defaultdeps"
    PERL_MM_USE_DEFAULT="1"
  @INC:
    /home/bri/perl5/perlbrew/perls/5.15.8-ld/lib/site_perl/5.15.8/i686-linux-ld
    /home/bri/perl5/perlbrew/perls/5.15.8-ld/lib/site_perl/5.15.8
    /home/bri/perl5/perlbrew/perls/5.15.8-ld/lib/5.15.8/i686-linux-ld
    /home/bri/perl5/perlbrew/perls/5.15.8-ld/lib/5.15.8
    .