Report for MooseX-Meta-TypeConstraint-Mooish-0.001

Back
From: metabase:user:30f4dfbe-2aae-11df-837a-5e0a49663a4f
Subject: PASS MooseX-Meta-TypeConstraint-Mooish-0.001 v5.18.2 Mac OS X
Date: 2016-04-10T13:00:02Z

This distribution has been tested as part of the CPAN Testers
project, supporting the Perl programming language.  See
http://wiki.cpantesters.org/ for more information or email
questions to cpan-testers-discuss@perl.org


--
Dear Chris Weyl,

This is a computer-generated report for MooseX-Meta-TypeConstraint-Mooish-0.001
on perl 5.18.2, created by CPAN-Reporter-1.2016.

Thank you for uploading your work to CPAN.  Congratulations!
All tests were successful.

Sections of this report:

    * Tester comments
    * Program output
    * Prerequisites
    * Environment and other context

------------------------------
TESTER COMMENTS
------------------------------

Additional comments from tester:

this report is from an automated smoke testing program
and was not reviewed by a human for accuracy

------------------------------
PROGRAM OUTPUT
------------------------------

Output from '/sw/bin/make test':

PERL_DL_NONLAZY=1 "/Users/hornenj/perl5/perlbrew/perls/perl-5.18.2/bin/perl" "-MExtUtils::Command::MM" "-MTest::Harness" "-e" "undef *Test::Harness::Switches; test_harness(0, 'blib/lib', 'blib/arch')" t/*.t
t/00-check-deps.t ............. ok
t/00-compile.t ................ ok
# 
# 
# Generated by Dist::Zilla::Plugin::ReportVersions::Tiny v1.10
# perl: 5.018002 (wanted 5.006) on darwin from /Users/hornenj/perl5/perlbrew/perls/perl-5.18.2/bin/perl
# 
# ExtUtils::MakeMaker                           => 7.04       (want any version)
# File::Spec                                    => 3.47       (want any version)
# IO::Handle                                    => 1.34       (want any version)
# IPC::Open3                                    => 1.13       (want any version)
# Moose                                         => 2.1404     (want any version)
# Moose::Meta::TypeConstraint                   => 2.1404     (want any version)
# Moose::Role                                   => 2.1404     (want any version)
# Test::CheckDeps                               => 0.010      (want 0.010)  
# Test::Fatal                                   => 0.014      (want any version)
# Test::Moose::More                             => 0.037      (want 0.028)  
# Test::More                                    => 1.001014   (want 0.94)   
# Try::Tiny                                     => 0.22       (want any version)
# aliased                                       => 0.34       (want any version)
# namespace::autoclean                          => 0.24       (want 0.24)   
# strict                                        => 1.07       (want any version)
# warnings                                      => 1.18       (want any version)
# 
# Thanks for using my code.  I hope it works for you.
# If not, please try and include this output in the bug report.
# That will help me reproduce the issue and solve your problem.
# 
t/000-report-versions-tiny.t .. ok
t/isa-mooish.t ................ ok
t/public-interface.t .......... ok
All tests successful.
Files=5, Tests=44,  1 wallclock secs ( 0.02 usr  0.01 sys +  0.77 cusr  0.20 csys =  1.00 CPU)
Result: PASS

------------------------------
PREREQUISITES
------------------------------

Prerequisite modules loaded:

requires:

    Module                      Need  Have    
    --------------------------- ----- --------
    Moose                       0     2.1404  
    Moose::Meta::TypeConstraint 0     2.1404  
    Moose::Role                 0     2.1404  
    namespace::autoclean        0.24  0.24    
    perl                        5.006 5.018002
    Try::Tiny                   0     0.22    

build_requires:

    Module                      Need  Have    
    --------------------------- ----- --------
    aliased                     0     0.34    
    ExtUtils::MakeMaker         0     7.04    
    File::Spec                  0     3.47    
    IO::Handle                  0     1.34    
    IPC::Open3                  0     1.13    
    strict                      0     1.07    
    Test::CheckDeps             0.010 0.010   
    Test::Fatal                 0     0.014   
    Test::Moose::More           0.028 0.037   
    Test::More                  0.94  1.001014
    warnings                    0     1.18    

configure_requires:

    Module                      Need  Have    
    --------------------------- ----- --------
    ExtUtils::MakeMaker         0     7.04    
    perl                        5.006 5.018002


------------------------------
ENVIRONMENT AND OTHER CONTEXT
------------------------------

Environment variables:

    AUTOMATED_TESTING = 1
    LANG = en_US.UTF-8
    LC_ALL = POSIX
    LD_LIBRARY_PATH = :/net/traces01.be-md.ncbi.nlm.nih.gov/trace_software/vdb/mac/release/x86_64/lib
    NO_NETWORK_TESTING = 1
    PATH = /Users/hornenj/perl5/perlbrew/bin:/Users/hornenj/perl5/perlbrew/perls/perl-5.18.2/bin:/Users/hornenj/perl5/perlbrew/bin:/Users/hornenj/bin:/sw/lib/perl5/ExtUtils:/sw/bin:/am/ncbiapdata/bin:/usr/bin:/bin:/usr/X11R6/bin:/netopt/ncbi_tools/bin:/usr/local/ncbi/blast/bin:/net/traces01.be-md.ncbi.nlm.nih.gov/trace_software/vdb/mac/release/x86_64/bin
    PERL5LIB = /Users/hornenj/.cpan/build/MooseX-Role-Parameterized-1.08-44VAU3/blib/arch:/Users/hornenj/.cpan/build/MooseX-Role-Parameterized-1.08-44VAU3/blib/lib:/Users/hornenj/.cpan/build/MooseX-Role-WithOverloading-0.17-i99plj/blib/arch:/Users/hornenj/.cpan/build/MooseX-Role-WithOverloading-0.17-i99plj/blib/lib:/Users/hornenj/.cpan/build/MooseX-Types-Common-0.001013-8uFRVk/blib/arch:/Users/hornenj/.cpan/build/MooseX-Types-Common-0.001013-8uFRVk/blib/lib:/Users/hornenj/.cpan/build/Test-Moose-More-0.037-uLa2dL/blib/arch:/Users/hornenj/.cpan/build/Test-Moose-More-0.037-uLa2dL/blib/lib:/Users/hornenj/.cpan/build/TAP-SimpleOutput-0.003-uUH4Uj/blib/arch:/Users/hornenj/.cpan/build/TAP-SimpleOutput-0.003-uUH4Uj/blib/lib:/Users/hornenj/.cpan/build/Syntax-Keyword-Junction-0.003008-7sJ_7a/blib/arch:/Users/hornenj/.cpan/build/Syntax-Keyword-Junction-0.003008-7sJ_7a/blib/lib:/Users/hornenj/.cpan/build/syntax-0.004-PZk8ZE/blib/arch:/Users/hornenj/.cpan/build/syntax-0.004-PZk8ZE/blib/lib:/Users/hornenj/.cpan/build/aliased-0.34-jreHCu/blib/arch:/Users/hornenj/.cpan/build/aliased-0.34-jreHCu/blib/lib:/Users/hornenj/.cpan/build/Perl-Version-1.013-cwWiLU/blib/arch:/Users/hornenj/.cpan/build/Perl-Version-1.013-cwWiLU/blib/lib:/Users/hornenj/.cpan/build/Path-Tiny-0.086-mR0wSt/blib/arch:/Users/hornenj/.cpan/build/Path-Tiny-0.086-mR0wSt/blib/lib
    PERL5OPT = 
    PERL5_CPANPLUS_IS_RUNNING = 12730
    PERL5_CPAN_IS_RUNNING = 12730
    PERL5_MINISMOKEBOX = 0.58
    PERLBREW_BASHRC_VERSION = 0.75
    PERLBREW_HOME = /Users/hornenj/.perlbrew
    PERLBREW_LIB = 
    PERLBREW_MANPATH = /Users/hornenj/perl5/perlbrew/perls/perl-5.18.2/man
    PERLBREW_PATH = /Users/hornenj/perl5/perlbrew/bin:/Users/hornenj/perl5/perlbrew/perls/perl-5.18.2/bin
    PERLBREW_PERL = perl-5.18.2
    PERLBREW_ROOT = /Users/hornenj/perl5/perlbrew
    PERLBREW_VERSION = 0.75
    PERL_EXTUTILS_AUTOINSTALL = --defaultdeps
    PERL_LOCAL_LIB_ROOT = 
    PERL_MM_USE_DEFAULT = 1
    SHELL = /bin/bash
    TERM = xterm-256color
    TMPDIR = /var/folders/pz/pd7y1qjs6s3cbk170cw50fjc000c61/T/
    ac_cv_path_INTLTOOL_PERL = /usr/bin/perl

Perl special variables (and OS-specific diagnostics, for MSWin32):

    $^X = /Users/hornenj/perl5/perlbrew/perls/perl-5.18.2/bin/perl
    $UID/$EUID = 12481 / 12481
    $GID = 14 14 5344 37191 527 241
    $EGID = 14 14 5344 37191 527 241

Perl module toolchain versions installed:

    Module              Have    
    ------------------- --------
    CPAN                2.05    
    CPAN::Meta          2.150001
    Cwd                 3.47    
    ExtUtils::CBuilder  0.280223
    ExtUtils::Command   1.20    
    ExtUtils::Install   2.04    
    ExtUtils::MakeMaker 7.04    
    ExtUtils::Manifest  1.70    
    ExtUtils::ParseXS   3.24    
    File::Spec          3.47    
    JSON                2.90    
    JSON::PP            2.27300 
    Module::Build       0.4212  
    Module::Signature   n/a     
    Parse::CPAN::Meta   1.4414  
    Test::Harness       3.35    
    Test::More          1.001014
    YAML                1.15    
    YAML::Syck          1.29    
    version             0.9912  


--

Summary of my perl5 (revision 5 version 18 subversion 2) configuration:
   
  Platform:
    osname=darwin, osvers=12.5.0, archname=darwin-thread-multi-2level
    uname='darwin ncbimac2008.ncbi.nlm.nih.gov 12.5.0 darwin kernel version 12.5.0: mon jul 29 16:33:49 pdt 2013; root:xnu-2050.48.11~1release_x86_64 x86_64 '
    config_args='-Duseithreads -Dusemultiplicity -Dinstallprefix=/Users/hornenj/perl5/perlbrew/perls/perl-5.18.2 -Dprefix=/Users/hornenj/perl5/perlbrew/perls/perl-5.18.2 -de -Accflags=-O2 -W -Wformat=2 -Wswitch -Wshadow -Wwrite-strings -Wuninitialized -Wall -pipe -mtune=native -march=native -fomit-frame-pointer -msse2 -msse -mmmx -pedantic -D_FORTIFY_SOURCE=2 -Wpointer-arith -Wstrict-prototypes -fstack-protector -Wstack-protector -Wextra -Wbad-function-cast -Wcast-align -Wcast-qual -Wdisabled-optimization -Wendif-labels -Wfloat-equal -Wformat-nonliteral -Winline -Wmissing-declarations -Wmissing-prototypes -Wnested-externs -Wpointer-arith -Wundef -Wformat-security -fassociative-math -Acc=clang'
    hint=recommended, useposix=true, d_sigaction=define
    useithreads=define, usemultiplicity=define
    useperlio=define, d_sfio=undef, uselargefiles=define, usesocks=undef
    use64bitint=define, use64bitall=define, uselongdouble=undef
    usemymalloc=n, bincompat5005=undef
  Compiler:
    cc=' clang', ccflags ='-fno-common -DPERL_DARWIN -O2 -W -Wformat=2 -Wswitch -Wshadow -Wwrite-strings -Wuninitialized -Wall -pipe -mtune=native -march=native -fomit-frame-pointer -msse2 -msse -mmmx -pedantic -D_FORTIFY_SOURCE=2 -Wpointer-arith -Wstrict-prototypes -fstack-protector -Wstack-protector -Wextra -Wbad-function-cast -Wcast-align -Wcast-qual -Wdisabled-optimization -Wendif-labels -Wfloat-equal -Wformat-nonliteral -Winline -Wmissing-declarations -Wmissing-prototypes -Wnested-externs -Wpointer-arith -Wundef -Wformat-security -fassociative-math -fno-strict-aliasing -I/usr/local/include',
    optimize='-O3',
    cppflags='-fno-common -DPERL_DARWIN -O2 -W -Wformat=2 -Wswitch -Wshadow -Wwrite-strings -Wuninitialized -Wall -pipe -mtune=native -march=native -fomit-frame-pointer -msse2 -msse -mmmx -pedantic -D_FORTIFY_SOURCE=2 -Wpointer-arith -Wstrict-prototypes -fstack-protector -Wstack-protector -Wextra -Wbad-function-cast -Wcast-align -Wcast-qual -Wdisabled-optimization -Wendif-labels -Wfloat-equal -Wformat-nonliteral -Winline -Wmissing-declarations -Wmissing-prototypes -Wnested-externs -Wpointer-arith -Wundef -Wformat-security -fassociative-math -fno-strict-aliasing -I/usr/local/include'
    ccversion='', gccversion='4.2.1 Compatible Apple LLVM 4.2 (clang-425.0.24)', gccosandvers=''
    intsize=4, longsize=8, ptrsize=8, doublesize=8, byteorder=12345678
    d_longlong=define, longlongsize=8, d_longdbl=define, longdblsize=16
    ivtype='long', ivsize=8, nvtype='double', nvsize=8, Off_t='off_t', lseeksize=8
    alignbytes=8, prototype=define
  Linker and Libraries:
    ld='env MACOSX_DEPLOYMENT_TARGET=10.3 cc', ldflags =' -fstack-protector -L/usr/local/lib'
    libpth=/usr/local/lib /usr/lib
    libs=-ldbm -ldl -lm -lutil -lc
    perllibs=-ldl -lm -lutil -lc
    libc=, so=dylib, useshrplib=false, libperl=libperl.a
    gnulibc_version=''
  Dynamic Linking:
    dlsrc=dl_dlopen.xs, dlext=bundle, d_dlsymun=undef, ccdlflags=' '
    cccdlflags=' ', lddlflags=' -bundle -undefined dynamic_lookup -L/usr/local/lib -fstack-protector'


Characteristics of this binary (from libperl): 
  Compile-time options: HAS_TIMES MULTIPLICITY PERLIO_LAYERS
                        PERL_DONT_CREATE_GVSV
                        PERL_HASH_FUNC_ONE_AT_A_TIME_HARD
                        PERL_IMPLICIT_CONTEXT PERL_MALLOC_WRAP
                        PERL_PRESERVE_IVUV PERL_SAWAMPERSAND USE_64_BIT_ALL
                        USE_64_BIT_INT USE_ITHREADS USE_LARGE_FILES
                        USE_LOCALE USE_LOCALE_COLLATE USE_LOCALE_CTYPE
                        USE_LOCALE_NUMERIC USE_PERLIO USE_PERL_ATOF
                        USE_REENTRANT_API
  Built under darwin
  Compiled at Jan  7 2014 09:17:10
  %ENV:
    PERL5LIB="/Users/hornenj/.cpan/build/MooseX-Role-Parameterized-1.08-44VAU3/blib/arch:/Users/hornenj/.cpan/build/MooseX-Role-Parameterized-1.08-44VAU3/blib/lib:/Users/hornenj/.cpan/build/MooseX-Role-WithOverloading-0.17-i99plj/blib/arch:/Users/hornenj/.cpan/build/MooseX-Role-WithOverloading-0.17-i99plj/blib/lib:/Users/hornenj/.cpan/build/MooseX-Types-Common-0.001013-8uFRVk/blib/arch:/Users/hornenj/.cpan/build/MooseX-Types-Common-0.001013-8uFRVk/blib/lib:/Users/hornenj/.cpan/build/Test-Moose-More-0.037-uLa2dL/blib/arch:/Users/hornenj/.cpan/build/Test-Moose-More-0.037-uLa2dL/blib/lib:/Users/hornenj/.cpan/build/TAP-SimpleOutput-0.003-uUH4Uj/blib/arch:/Users/hornenj/.cpan/build/TAP-SimpleOutput-0.003-uUH4Uj/blib/lib:/Users/hornenj/.cpan/build/Syntax-Keyword-Junction-0.003008-7sJ_7a/blib/arch:/Users/hornenj/.cpan/build/Syntax-Keyword-Junction-0.003008-7sJ_7a/blib/lib:/Users/hornenj/.cpan/build/syntax-0.004-PZk8ZE/blib/arch:/Users/hornenj/.cpan/build/syntax-0.004-PZk8ZE/blib/lib:/Users/hornenj/.cpan/build/aliased-0.34-jreHCu/blib/arch:/Users/hornenj/.cpan/build/aliased-0.34-jreHCu/blib/lib:/Users/hornenj/.cpan/build/Perl-Version-1.013-cwWiLU/blib/arch:/Users/hornenj/.cpan/build/Perl-Version-1.013-cwWiLU/blib/lib:/Users/hornenj/.cpan/build/Path-Tiny-0.086-mR0wSt/blib/arch:/Users/hornenj/.cpan/build/Path-Tiny-0.086-mR0wSt/blib/lib"
    PERL5OPT=""
    PERL5_CPANPLUS_IS_RUNNING="12730"
    PERL5_CPAN_IS_RUNNING="12730"
    PERL5_MINISMOKEBOX="0.58"
    PERLBREW_BASHRC_VERSION="0.75"
    PERLBREW_HOME="/Users/hornenj/.perlbrew"
    PERLBREW_LIB=""
    PERLBREW_MANPATH="/Users/hornenj/perl5/perlbrew/perls/perl-5.18.2/man"
    PERLBREW_PATH="/Users/hornenj/perl5/perlbrew/bin:/Users/hornenj/perl5/perlbrew/perls/perl-5.18.2/bin"
    PERLBREW_PERL="perl-5.18.2"
    PERLBREW_ROOT="/Users/hornenj/perl5/perlbrew"
    PERLBREW_VERSION="0.75"
    PERL_EXTUTILS_AUTOINSTALL="--defaultdeps"
    PERL_LOCAL_LIB_ROOT=""
    PERL_MM_USE_DEFAULT="1"
  @INC:
    /Users/hornenj/.cpan/build/MooseX-Role-Parameterized-1.08-44VAU3/blib/arch
    /Users/hornenj/.cpan/build/MooseX-Role-Parameterized-1.08-44VAU3/blib/lib
    /Users/hornenj/.cpan/build/MooseX-Role-WithOverloading-0.17-i99plj/blib/arch
    /Users/hornenj/.cpan/build/MooseX-Role-WithOverloading-0.17-i99plj/blib/lib
    /Users/hornenj/.cpan/build/MooseX-Types-Common-0.001013-8uFRVk/blib/arch
    /Users/hornenj/.cpan/build/MooseX-Types-Common-0.001013-8uFRVk/blib/lib
    /Users/hornenj/.cpan/build/Test-Moose-More-0.037-uLa2dL/blib/arch
    /Users/hornenj/.cpan/build/Test-Moose-More-0.037-uLa2dL/blib/lib
    /Users/hornenj/.cpan/build/TAP-SimpleOutput-0.003-uUH4Uj/blib/arch
    /Users/hornenj/.cpan/build/TAP-SimpleOutput-0.003-uUH4Uj/blib/lib
    /Users/hornenj/.cpan/build/Syntax-Keyword-Junction-0.003008-7sJ_7a/blib/arch
    /Users/hornenj/.cpan/build/Syntax-Keyword-Junction-0.003008-7sJ_7a/blib/lib
    /Users/hornenj/.cpan/build/syntax-0.004-PZk8ZE/blib/arch
    /Users/hornenj/.cpan/build/syntax-0.004-PZk8ZE/blib/lib
    /Users/hornenj/.cpan/build/aliased-0.34-jreHCu/blib/arch
    /Users/hornenj/.cpan/build/aliased-0.34-jreHCu/blib/lib
    /Users/hornenj/.cpan/build/Perl-Version-1.013-cwWiLU/blib/arch
    /Users/hornenj/.cpan/build/Perl-Version-1.013-cwWiLU/blib/lib
    /Users/hornenj/.cpan/build/Path-Tiny-0.086-mR0wSt/blib/arch
    /Users/hornenj/.cpan/build/Path-Tiny-0.086-mR0wSt/blib/lib
    /Users/hornenj/perl5/perlbrew/perls/perl-5.18.2/lib/site_perl/5.18.2/darwin-thread-multi-2level
    /Users/hornenj/perl5/perlbrew/perls/perl-5.18.2/lib/site_perl/5.18.2
    /Users/hornenj/perl5/perlbrew/perls/perl-5.18.2/lib/5.18.2/darwin-thread-multi-2level
    /Users/hornenj/perl5/perlbrew/perls/perl-5.18.2/lib/5.18.2
    .