Sub-HandlesVia v0.050002 Perl 5 v5.10.1 MSWin32-x86-multi-thread

Status
Pass
From
NONAME
Dist
Sub-HandlesVia v0.050002
Platform
Perl 5 v5.10.1 MSWin32-x86-multi-thread
Date
2025-04-08 16:59:29
ID
23b3985d-720c-1014-9320-a2aab03d33c9
This distribution has been tested as part of the CPAN Testers
project, supporting the Perl programming language.  See
http://wiki.cpantesters.org/ for more information or email
questions to cpan-testers-discuss@perl.org


--
Dear TOBYINK,

This is a computer-generated report for Sub-HandlesVia-0.050002
on perl 5.10.1, created by App::cpanminus::reporter 0.17 (1.7045).

Thank you for uploading your work to CPAN.  Congratulations!
All tests were successful.

Sections of this report:

    * Tester comments
    * Program output
    * Prerequisites
    * Environment and other context

------------------------------
TESTER COMMENTS
------------------------------

Additional comments from tester:

none provided

------------------------------
PROGRAM OUTPUT
------------------------------

Output from '':

Building and testing Sub-HandlesVia-0.050002
cp lib/Sub/HandlesVia/Handler.pm blib\lib\Sub\HandlesVia\Handler.pm
cp lib/Sub/HandlesVia/Declare.pm blib\lib\Sub\HandlesVia\Declare.pm
cp lib/Sub/HandlesVia.pm blib\lib\Sub\HandlesVia.pm
cp lib/Sub/HandlesVia/HandlerLibrary/Array.pod blib\lib\Sub\HandlesVia\HandlerLibrary\Array.pod
cp lib/Sub/HandlesVia/HandlerLibrary/Array.pm blib\lib\Sub\HandlesVia\HandlerLibrary\Array.pm
cp lib/Sub/HandlesVia/HandlerLibrary/Code.pod blib\lib\Sub\HandlesVia\HandlerLibrary\Code.pod
cp lib/Sub/HandlesVia/HandlerLibrary/Bool.pod blib\lib\Sub\HandlesVia\HandlerLibrary\Bool.pod
cp lib/Sub/HandlesVia/CodeGenerator.pm blib\lib\Sub\HandlesVia\CodeGenerator.pm
cp lib/Sub/HandlesVia/HandlerLibrary/Code.pm blib\lib\Sub\HandlesVia\HandlerLibrary\Code.pm
cp lib/Sub/HandlesVia/HandlerLibrary/Bool.pm blib\lib\Sub\HandlesVia\HandlerLibrary\Bool.pm
cp lib/Sub/HandlesVia/Handler.pm.mite.pm blib\lib\Sub\HandlesVia\Handler.pm.mite.pm
cp lib/Sub/HandlesVia/HandlerLibrary/Blessed.pm blib\lib\Sub\HandlesVia\HandlerLibrary\Blessed.pm
cp lib/Sub/HandlesVia/CodeGenerator.pm.mite.pm blib\lib\Sub\HandlesVia\CodeGenerator.pm.mite.pm
cp lib/Sub/HandlesVia/HandlerLibrary/Counter.pm blib\lib\Sub\HandlesVia\HandlerLibrary\Counter.pm
cp lib/Sub/HandlesVia/HandlerLibrary.pm blib\lib\Sub\HandlesVia\HandlerLibrary.pm
cp lib/Sub/HandlesVia/HandlerLibrary/Scalar.pm blib\lib\Sub\HandlesVia\HandlerLibrary\Scalar.pm
cp lib/Sub/HandlesVia/HandlerLibrary/Counter.pod blib\lib\Sub\HandlesVia\HandlerLibrary\Counter.pod
cp lib/Sub/HandlesVia/HandlerLibrary/Enum.pm blib\lib\Sub\HandlesVia\HandlerLibrary\Enum.pm
cp lib/Sub/HandlesVia/Manual/Comparison.pod blib\lib\Sub\HandlesVia\Manual\Comparison.pod
cp lib/Sub/HandlesVia/HandlerLibrary/Number.pm blib\lib\Sub\HandlesVia\HandlerLibrary\Number.pm
cp lib/Sub/HandlesVia/Manual/WithClassTiny.pod blib\lib\Sub\HandlesVia\Manual\WithClassTiny.pod
cp lib/Sub/HandlesVia/Manual/Advanced.pod blib\lib\Sub\HandlesVia\Manual\Advanced.pod
cp lib/Sub/HandlesVia/HandlerLibrary/String.pod blib\lib\Sub\HandlesVia\HandlerLibrary\String.pod
cp lib/Sub/HandlesVia/HandlerLibrary/String.pm blib\lib\Sub\HandlesVia\HandlerLibrary\String.pm
cp lib/Sub/HandlesVia/HandlerLibrary/Scalar.pod blib\lib\Sub\HandlesVia\HandlerLibrary\Scalar.pod
cp lib/Sub/HandlesVia/HandlerLibrary/Number.pod blib\lib\Sub\HandlesVia\HandlerLibrary\Number.pod
cp lib/Sub/HandlesVia/HandlerLibrary/Hash.pm blib\lib\Sub\HandlesVia\HandlerLibrary\Hash.pm
cp lib/Sub/HandlesVia/HandlerLibrary/Hash.pod blib\lib\Sub\HandlesVia\HandlerLibrary\Hash.pod
cp lib/Sub/HandlesVia/Mite.pm blib\lib\Sub\HandlesVia\Mite.pm
cp lib/Sub/HandlesVia/Toolkit/Mite.pm.mite.pm blib\lib\Sub\HandlesVia\Toolkit\Mite.pm.mite.pm
cp lib/Sub/HandlesVia/Manual/WithGeneric.pod blib\lib\Sub\HandlesVia\Manual\WithGeneric.pod
cp lib/Sub/HandlesVia/Toolkit/Moose.pm blib\lib\Sub\HandlesVia\Toolkit\Moose.pm
cp lib/Sub/HandlesVia/Toolkit/Moo.pm.mite.pm blib\lib\Sub\HandlesVia\Toolkit\Moo.pm.mite.pm
cp lib/Sub/HandlesVia/Toolkit/Mite.pm blib\lib\Sub\HandlesVia\Toolkit\Mite.pm
cp lib/Sub/HandlesVia/Toolkit/Moo.pm blib\lib\Sub\HandlesVia\Toolkit\Moo.pm
cp lib/Sub/HandlesVia/Manual/WithMoo.pod blib\lib\Sub\HandlesVia\Manual\WithMoo.pod
cp lib/Sub/HandlesVia/Manual/WithMoose.pod blib\lib\Sub\HandlesVia\Manual\WithMoose.pod
cp lib/Sub/HandlesVia/Toolkit.pm.mite.pm blib\lib\Sub\HandlesVia\Toolkit.pm.mite.pm
cp lib/Sub/HandlesVia/Manual/WithMouse.pod blib\lib\Sub\HandlesVia\Manual\WithMouse.pod
cp lib/Sub/HandlesVia/Manual/WithMite.pod blib\lib\Sub\HandlesVia\Manual\WithMite.pod
cp lib/Sub/HandlesVia/Toolkit/Moose.pm.mite.pm blib\lib\Sub\HandlesVia\Toolkit\Moose.pm.mite.pm
cp lib/Sub/HandlesVia/Toolkit.pm blib\lib\Sub\HandlesVia\Toolkit.pm
cp lib/Sub/HandlesVia/Manual/WithObjectPad.pod blib\lib\Sub\HandlesVia\Manual\WithObjectPad.pod
cp lib/Sub/HandlesVia/Toolkit/ObjectPad.pm.mite.pm blib\lib\Sub\HandlesVia\Toolkit\ObjectPad.pm.mite.pm
cp lib/Sub/HandlesVia/Toolkit/Mouse.pm blib\lib\Sub\HandlesVia\Toolkit\Mouse.pm
cp lib/Sub/HandlesVia/Toolkit/Plain.pm.mite.pm blib\lib\Sub\HandlesVia\Toolkit\Plain.pm.mite.pm
cp lib/Sub/HandlesVia/Toolkit/Plain.pm blib\lib\Sub\HandlesVia\Toolkit\Plain.pm
cp lib/Sub/HandlesVia/Toolkit/ObjectPad.pm blib\lib\Sub\HandlesVia\Toolkit\ObjectPad.pm
cp lib/Sub/HandlesVia/Toolkit/Mouse.pm.mite.pm blib\lib\Sub\HandlesVia\Toolkit\Mouse.pm.mite.pm
C:\"Strawberry\perl\bin\perl.exe" "-MExtUtils::Command::MM" "-MTest::Harness" "-e" "undef *Test::Harness::Switches; test_harness(0, 'blib\lib', 'blib\arch')" t/*.t t/02moo/*.t t/03moo_mxtt/*.t t/04moose/*.t t/05moose_nativetypes/*.t t/06mouse/*.t t/07mouse_nativetypes/*.t t/30egpod/*.t t/40mite/*.t
# 
#   Perl                                        5.010001
#   Exporter::Tiny                              1.006000
#   Type::Tiny/Type::Tiny::XS                   2.008000/0.014
#   Scalar::Util/List::Util/Sub::Util           1.68/1.68/1.68
# 
#   Class::Tiny                                 1.008
#   Role::Tiny                                  2.002004
#   Class::Method::Modifiers                    2.15
#   Moo/MooX::TypeTiny/Class::XSAccessor        2.005005/0.002003/1.19
#   Moose                                       2.2207
#   Mouse                                       2.5
# 
#   Test::More/Test::Fatal/Test::Requires       1.302210/0.017/0.10
# 
#   $AUTOMATED_TESTING                          undef
#   $NONINTERACTIVE_TESTING                     "1"
#   $EXTENDED_TESTING                           undef
#   $AUTHOR_TESTING                             undef
#   $RELEASE_TESTING                            undef
# 
# >>>> Type::Tiny is using Type::Tiny::XS
# 
t/00begin.t ............................ ok
t/01basic.t ............................ ok
t/02moo.t .............................. ok
t/02moo/ext_attr.t ..................... ok
t/02moo/role.t ......................... ok
t/02moo/roles-multiple.t ............... ok
t/02moo/trait_array.t .................. ok
t/02moo/trait_bool.t ................... ok
t/02moo/trait_code.t ................... ok
t/02moo/trait_counter.t ................ ok
t/02moo/trait_hash.t ................... ok
t/02moo/trait_number.t ................. ok
t/02moo/trait_string.t ................. ok
t/03moo_mxtt.t ......................... ok
t/03moo_mxtt/role.t .................... ok
t/03moo_mxtt/trait_array.t ............. ok
t/03moo_mxtt/trait_bool.t .............. ok
t/03moo_mxtt/trait_code.t .............. ok
t/03moo_mxtt/trait_counter.t ........... ok
t/03moo_mxtt/trait_hash.t .............. skipped: https://rt.cpan.org/Ticket/Display.html?id=131576
t/03moo_mxtt/trait_number.t ............ ok
t/03moo_mxtt/trait_string.t ............ ok
t/04moose.t ............................ ok
t/04moose/ext_attr.t ................... ok
t/04moose/role.t ....................... ok
t/04moose/roles-multiple.t ............. ok
t/04moose/trait_array.t ................ ok
t/04moose/trait_bool.t ................. ok
t/04moose/trait_code.t ................. ok
t/04moose/trait_counter.t .............. ok
t/04moose/trait_hash.t ................. ok
t/04moose/trait_number.t ............... ok
t/04moose/trait_string.t ............... ok
t/05moose_nativetypes.t ................ ok
t/05moose_nativetypes/role.t ........... ok
t/05moose_nativetypes/trait_array.t .... ok
t/05moose_nativetypes/trait_bool.t ..... ok
t/05moose_nativetypes/trait_code.t ..... ok
t/05moose_nativetypes/trait_counter.t .. ok
t/05moose_nativetypes/trait_hash.t ..... ok
t/05moose_nativetypes/trait_number.t ... ok
t/05moose_nativetypes/trait_string.t ... ok
t/06mouse.t ............................ ok
t/06mouse/ext_attr.t ................... ok
t/06mouse/role.t ....................... ok
t/06mouse/roles-multiple.t ............. skipped: TODO (issue #9)
t/06mouse/trait_array.t ................ ok
t/06mouse/trait_bool.t ................. ok
t/06mouse/trait_code.t ................. ok
t/06mouse/trait_counter.t .............. ok
t/06mouse/trait_hash.t ................. ok
t/06mouse/trait_number.t ............... ok
t/06mouse/trait_string.t ............... ok
t/07mouse_nativetypes.t ................ ok
t/07mouse_nativetypes/role.t ........... ok
t/07mouse_nativetypes/trait_array.t .... ok
t/07mouse_nativetypes/trait_bool.t ..... ok
t/07mouse_nativetypes/trait_code.t ..... ok
t/07mouse_nativetypes/trait_counter.t .. ok
t/07mouse_nativetypes/trait_hash.t ..... ok
t/07mouse_nativetypes/trait_number.t ... ok
t/07mouse_nativetypes/trait_string.t ... ok
t/08classtiny.t ........................ ok
t/09barebones.t ........................ ok
t/10barebones_eagerbuilder.t ........... ok
t/11delegation.t ....................... ok
t/12slotaccess.t ....................... ok
t/14enum.t ............................. ok
t/15preludes.t ......................... ok
t/16stackqueue.t ....................... ok
t/20moosex_extended.t .................. skipped: test requires MooseX::Extended
t/30egpod/array.t ...................... ok
t/30egpod/bool.t ....................... ok
t/30egpod/code.t ....................... ok
t/30egpod/counter.t .................... ok
t/30egpod/hash.t ....................... ok
t/30egpod/number.t ..................... ok
t/30egpod/scalar.t ..................... ok
t/30egpod/string.t ..................... ok
t/31egpod_dummy.t ...................... ok
t/40mite/00-basic.t .................... ok
t/40mite/01-roles.t .................... ok
t/40mite/array.t ....................... ok
t/40mite/bool.t ........................ ok
t/40mite/code.t ........................ ok
t/40mite/counter.t ..................... ok
t/40mite/hash.t ........................ ok
t/40mite/number.t ...................... ok
t/40mite/scalar.t ...................... ok
t/40mite/string.t ...................... ok
t/50objectpad.t ........................ skipped: Test requires module 'Object::Pad' but it's not found
t/60detect.t ........................... ok
t/61moosemetagubbins.t ................. ok
t/62mousemetagubbins.t ................. ok
t/80beam.t ............................. skipped: Test requires module 'Beam::Wire' but it's not found
t/81mxpa.t ............................. skipped: Test requires module 'MooX::ProtectedAttributes' but it's not found
t/94cmp.t .............................. ok
t/95any.t .............................. ok
t/96foreach.t .......................... ok
t/97pickrandom.t ....................... ok
t/98apply.t ............................ ok
t/99headtail.t ......................... ok
All tests successful.
Files=102, Tests=9453, 131 wallclock secs ( 3.73 usr +  0.80 sys =  4.52 CPU)
Result: PASS

------------------------------
PREREQUISITES
------------------------------

Prerequisite modules loaded:

    No requirements found

------------------------------
ENVIRONMENT AND OTHER CONTEXT
------------------------------

Environment variables:

    COMSPEC = C:\windows\system32\cmd.exe
    NUMBER_OF_PROCESSORS = 4
    PATH = C:\home\tennis\perl5\bin;C:\windows\system32;C:\windows;C:\windows\System32\Wbem;C:\windows\System32\WindowsPowerShell\v1.0\;C:\Strawberry\c\bin;C:\Strawberry\perl\site\bin;C:\Strawberry\perl\bin;C:\cmake-3.27.7\bin
    PERL5LIB = C:\home\tennis\perl5\lib\perl5
    PERL_LOCAL_LIB_ROOT = C:\home\tennis\perl5
    PERL_MB_OPT = --install_base "C:\\home\\tennis\\perl5"
    PERL_MM_OPT = INSTALL_BASE=C:\\home\\tennis\\perl5
    PROCESSOR_IDENTIFIER = x86 Family 6 Model 37 Stepping 5, GenuineIntel
    TEMP = C:\Users\user\AppData\Local\Temp
    TERM = dumb
    TUGI_PERLVER = 5.010001

Perl special variables (and OS-specific diagnostics, for MSWin32):

    EGID = 0
    EUID = 0
    EXECUTABLE_NAME = C:\Strawberry\perl\bin\perl.exe
    GID = 0
    UID = 0
    Win32::FsType = NTFS
    Win32::GetOSName = Win7
    Win32::GetOSVersion = Service Pack 1, 6, 1, 7601, 2, 1, 0, 256, 1
    Win32::IsAdminUser = 0

Perl module toolchain versions installed:

    Module              Have    
    ------------------- --------
    CPAN                2.28    
    CPAN::Meta          2.150010
    Cwd                 3.75    
    ExtUtils::CBuilder  0.280236
    ExtUtils::Command   7.71_07 
    ExtUtils::Install   2.22    
    ExtUtils::MakeMaker 7.71_07 
    ExtUtils::Manifest  1.75    
    ExtUtils::ParseXS   3.51    
    File::Spec          3.75    
    JSON                4.10    
    JSON::PP            4.17_01 
    Module::Build       0.4234  
    Module::Signature   0.89    
    Parse::CPAN::Meta   2.150010
    Test::Harness       3.50    
    Test::More          1.302210
    YAML                1.31    
    YAML::Syck          1.34    
    version             0.9933  


--

Summary of my perl5 (revision 5 version 10 subversion 1) configuration:
   
  Platform:
    osname=MSWin32, osvers=5.1, archname=MSWin32-x86-multi-thread
    uname='Win32 strawberryperl 5.10.1.5 #1 Sun May 15 09:44:53 2011 i386'
    config_args='undef'
    hint=recommended, useposix=true, d_sigaction=undef
    useithreads=define, usemultiplicity=define
    useperlio=define, d_sfio=undef, uselargefiles=define, usesocks=undef
    use64bitint=undef, use64bitall=undef, uselongdouble=undef
    usemymalloc=n, bincompat5005=undef
  Compiler:
    cc='gcc', ccflags =' -s -O2 -DWIN32 -DHAVE_DES_FCRYPT  -DUSE_SITECUSTOMIZE -DPERL_IMPLICIT_CONTEXT -DPERL_IMPLICIT_SYS -fno-strict-aliasing -DPERL_MSVCRT_READFIX',
    optimize='-s -O2',
    cppflags='-DWIN32'
    ccversion='', gccversion='3.4.5', gccosandvers=''
    intsize=4, longsize=4, ptrsize=4, doublesize=8, byteorder=1234
    d_longlong=undef, longlongsize=8, d_longdbl=define, longdblsize=12
    ivtype='long', ivsize=4, nvtype='double', nvsize=8, Off_t='long long', lseeksize=8
    alignbytes=8, prototype=define
  Linker and Libraries:
    ld='g++', ldflags ='-s -L"C:\strawberry\perl\lib\CORE" -L"C:\strawberry\c\lib"'
    libpth=C:\strawberry\c\lib
    libs= -lmoldname -lkernel32 -luser32 -lgdi32 -lwinspool -lcomdlg32 -ladvapi32 -lshell32 -lole32 -loleaut32 -lnetapi32 -luuid -lws2_32 -lmpr -lwinmm -lversion -lodbc32 -lodbccp32
    perllibs= -lmoldname -lkernel32 -luser32 -lgdi32 -lwinspool -lcomdlg32 -ladvapi32 -lshell32 -lole32 -loleaut32 -lnetapi32 -luuid -lws2_32 -lmpr -lwinmm -lversion -lodbc32 -lodbccp32
    libc=, so=dll, useshrplib=true, libperl=libperl510.a
    gnulibc_version=''
  Dynamic Linking:
    dlsrc=dl_win32.xs, dlext=dll, d_dlsymun=undef, ccdlflags=' '
    cccdlflags=' ', lddlflags='-mdll -s -L"C:\strawberry\perl\lib\CORE" -L"C:\strawberry\c\lib"'


Characteristics of this binary (from libperl): 
  Compile-time options: MULTIPLICITY PERL_DONT_CREATE_GVSV
                        PERL_IMPLICIT_CONTEXT PERL_IMPLICIT_SYS
                        PERL_MALLOC_WRAP PL_OP_SLAB_ALLOC USE_ITHREADS
                        USE_LARGE_FILES USE_PERLIO USE_SITECUSTOMIZE
  Built under MSWin32
  Compiled at May 15 2011 09:50:23
  %ENV:
    PERL5LIB="C:\home\tennis\perl5\lib\perl5"
    PERL_LOCAL_LIB_ROOT="C:\home\tennis\perl5"
    PERL_MB_OPT="--install_base "C:\\home\\tennis\\perl5""
    PERL_MM_OPT="INSTALL_BASE=C:\\home\\tennis\\perl5"
  @INC:
    C:\home\tennis\perl5\lib\perl5/MSWin32-x86-multi-thread
    C:\home\tennis\perl5\lib\perl5
    C:/Strawberry/perl/lib
    C:/Strawberry/perl/site/lib
    C:\strawberry\perl\vendor\lib
    .