Catalyst-Plugin-Authentication v0.10023 Perl 5 v5.31.12 x86_64-linux
- Status
- Pass
- From
- Carlos Guevara
- Dist
-
Catalyst-Plugin-Authentication v0.10023
- Platform
- Perl 5 v5.31.12 x86_64-linux
- Date
- 2020-04-30 07:35:18
- ID
- 23af793c-8ab5-11ea-949e-1a735e56f2df
This distribution has been tested as part of the CPAN Testers
project, supporting the Perl programming language. See
http://wiki.cpantesters.org/ for more information or email
questions to cpan-testers-discuss@perl.org
--
Dear Tomas Doran,
This is a computer-generated report for Catalyst-Plugin-Authentication-0.10023
on perl 5.31.12, created by CPAN-Reporter-1.2018.
Thank you for uploading your work to CPAN. Congratulations!
All tests were successful.
Sections of this report:
* Tester comments
* Program output
* Prerequisites
* Environment and other context
------------------------------
TESTER COMMENTS
------------------------------
Additional comments from tester:
none provided
------------------------------
PROGRAM OUTPUT
------------------------------
Output from '/usr/bin/make test':
PERL_DL_NONLAZY=1 "/home/cpan/bin/perl-blead/bin/perl5.31.12" "-MExtUtils::Command::MM" "-MTest::Harness" "-e" "undef *Test::Harness::Switches; test_harness(0, 'inc', 'blib/lib', 'blib/arch')" t/04_authentication.t t/05_password.t t/06_user.t t/live_app.t t/live_app_realms.t t/live_app_realms_compat.t t/live_app_realms_progressive.t t/live_app_remote1.t t/live_app_remote2.t t/live_app_session.t t/store_nopassord.t
t/04_authentication.t ............ ok
t/05_password.t .................. ok
t/06_user.t ...................... ok
t/live_app.t ..................... ok
t/live_app_realms.t .............. ok
t/live_app_realms_compat.t ....... ok
t/live_app_realms_progressive.t .. ok
t/live_app_remote1.t ............. ok
t/live_app_remote2.t ............. ok
t/live_app_session.t ............. skipped: This test needs Test::WWW::Mechanize::Catalyst, Catalyst::Plugin::Session and Catalyst::Plugin::Session::State::Cookie installed
t/store_nopassord.t .............. ok
All tests successful.
Files=11, Tests=87, 8 wallclock secs ( 0.04 usr 0.03 sys + 5.85 cusr 1.36 csys = 7.28 CPU)
Result: PASS
------------------------------
PREREQUISITES
------------------------------
Prerequisite modules loaded:
requires:
Module Need Have
-------------------------------------- -------- --------
Catalyst::Plugin::Session 0.10 0.41
Catalyst::Runtime 0 5.90126
Class::Inspector 0 1.36
Class::MOP 0 2.2012
Moose 0 2.2012
MooseX::Emulate::Class::Accessor::Fast 0 0.009032
MRO::Compat 0 0.13
namespace::autoclean 0 0.29
perl 5.008001 5.031012
String::RewritePrefix 0 0.008
Test::Exception 0 0.43
Test::More 0.88 1.302175
Try::Tiny 0 0.30
build_requires:
Module Need Have
-------------------------------------- -------- --------
Class::MOP 0 2.2012
ExtUtils::MakeMaker 6.59 7.44
Moose 0 2.2012
Test::Exception 0 0.43
Test::More 0.88 1.302175
configure_requires:
Module Need Have
-------------------------------------- -------- --------
ExtUtils::MakeMaker 6.59 7.44
------------------------------
ENVIRONMENT AND OTHER CONTEXT
------------------------------
Environment variables:
LANG = en_US.UTF-8
LC_ALL = C
NONINTERACTIVE_TESTING = 1
PATH = /home/cpan/bin/perl-blead/bin:/home/cpan/bin:/home/cpan/bin:/usr/local/bin:/usr/bin:/usr/local/sbin:/usr/sbin
PERL5LIB =
PERL5OPT =
PERL5_CPANPLUS_IS_RUNNING = 223745
PERL5_CPAN_IS_RUNNING = 223745
PERL_MM_USE_DEFAULT = 1
PERL_USE_UNSAFE_INC = 1
PERL_VERSION = blead
SHELL = /bin/bash
TERM = screen.xterm-256color
TMPDIR = /home/cpan/tmp
Perl special variables (and OS-specific diagnostics, for MSWin32):
$^X = /home/cpan/bin/perl-blead/bin/perl5.31.12
$UID/$EUID = 1001 / 1001
$GID = 1001 1001
$EGID = 1001 1001
Perl module toolchain versions installed:
Module Have
------------------- --------
CPAN 2.27
CPAN::Meta 2.150010
Cwd 3.78
ExtUtils::CBuilder 0.280234
ExtUtils::Command 7.44
ExtUtils::Install 2.14
ExtUtils::MakeMaker 7.44
ExtUtils::Manifest 1.72
ExtUtils::ParseXS 3.40
File::Spec 3.78
JSON 4.02
JSON::PP 4.04
Module::Build 0.4231
Module::Signature n/a
Parse::CPAN::Meta 2.150010
Test::Harness 3.42
Test::More 1.302175
YAML 1.30
YAML::Syck 1.32
version 0.9924
--
Summary of my perl5 (revision 5 version 31 subversion 12) configuration:
Commit id: 5efad79033608816c24807b39ca3b76e62f5fb34
Platform:
osname=linux
osvers=5.6.7-300.fc32.x86_64
archname=x86_64-linux
uname='linux cjg-fedora32 5.6.7-300.fc32.x86_64 #1 smp thu apr 23 14:13:50 utc 2020 x86_64 x86_64 x86_64 gnulinux '
config_args='-des -Dprefix=~/bin/perl-blead -Dscriptdir=~/bin/perl-blead/bin -Dusedevel -Duse64bitall'
hint=recommended
useposix=true
d_sigaction=define
useithreads=undef
usemultiplicity=undef
use64bitint=define
use64bitall=define
uselongdouble=undef
usemymalloc=n
default_inc_excludes_dot=define
bincompat5005=undef
Compiler:
cc='cc'
ccflags ='-fwrapv -fno-strict-aliasing -pipe -fstack-protector-strong -I/usr/local/include -D_LARGEFILE_SOURCE -D_FILE_OFFSET_BITS=64 -D_FORTIFY_SOURCE=2'
optimize='-O2'
cppflags='-fwrapv -fno-strict-aliasing -pipe -fstack-protector-strong -I/usr/local/include'
ccversion=''
gccversion='10.0.1 20200328 (Red Hat 10.0.1-0.11)'
gccosandvers=''
intsize=4
longsize=8
ptrsize=8
doublesize=8
byteorder=12345678
doublekind=3
d_longlong=define
longlongsize=8
d_longdbl=define
longdblsize=16
longdblkind=3
ivtype='long'
ivsize=8
nvtype='double'
nvsize=8
Off_t='off_t'
lseeksize=8
alignbytes=8
prototype=define
Linker and Libraries:
ld='cc'
ldflags =' -fstack-protector-strong -L/usr/local/lib'
libpth=/usr/local/lib /usr/lib /lib/../lib64 /usr/lib/../lib64 /lib /lib64 /usr/lib64 /usr/local/lib64
libs=-lpthread -ldb -ldl -lm -lcrypt -lutil -lc
perllibs=-lpthread -ldl -lm -lcrypt -lutil -lc
libc=libc-2.31.so
so=so
useshrplib=false
libperl=libperl.a
gnulibc_version='2.31'
Dynamic Linking:
dlsrc=dl_dlopen.xs
dlext=so
d_dlsymun=undef
ccdlflags='-Wl,-E'
cccdlflags='-fPIC'
lddlflags='-shared -O2 -L/usr/local/lib -fstack-protector-strong'
Characteristics of this binary (from libperl):
Compile-time options:
HAS_TIMES
PERLIO_LAYERS
PERL_COPY_ON_WRITE
PERL_DONT_CREATE_GVSV
PERL_MALLOC_WRAP
PERL_OP_PARENT
PERL_PRESERVE_IVUV
PERL_USE_DEVEL
USE_64_BIT_ALL
USE_64_BIT_INT
USE_LARGE_FILES
USE_LOCALE
USE_LOCALE_COLLATE
USE_LOCALE_CTYPE
USE_LOCALE_NUMERIC
USE_LOCALE_TIME
USE_PERLIO
USE_PERL_ATOF
Built under linux
Compiled at Apr 29 2020 21:21:27
%ENV:
PERL5LIB=""
PERL5OPT=""
PERL5_CPANPLUS_IS_RUNNING="223745"
PERL5_CPAN_IS_RUNNING="223745"
PERL_MM_USE_DEFAULT="1"
PERL_USE_UNSAFE_INC="1"
PERL_VERSION="blead"
@INC:
/home/cpan/bin/perl-blead/lib/site_perl/5.31.12/x86_64-linux
/home/cpan/bin/perl-blead/lib/site_perl/5.31.12
/home/cpan/bin/perl-blead/lib/5.31.12/x86_64-linux
/home/cpan/bin/perl-blead/lib/5.31.12
.