Report for Class-Value-1.100840

Back
From: metabase:user:d2c9f356-b46f-11df-9a90-20a83c0b7757
Subject: PASS Class-Value-1.100840 v5.14.4 SunOS/Solaris
Date: 2013-04-17T12:55:54Z

This distribution has been tested as part of the CPAN Testers
project, supporting the Perl programming language.  See
http://wiki.cpantesters.org/ for more information or email
questions to cpan-testers-discuss@perl.org


--
Dear Marcel Gruenauer,

This is a computer-generated report for Class-Value-1.100840
on perl 5.14.4, created by CPAN-Reporter-1.2009.

Thank you for uploading your work to CPAN.  Congratulations!
All tests were successful.

Sections of this report:

    * Tester comments
    * Program output
    * Prerequisites
    * Environment and other context

------------------------------
TESTER COMMENTS
------------------------------

Additional comments from tester:

this report is from an automated smoke testing program
and was not reviewed by a human for accuracy

------------------------------
PROGRAM OUTPUT
------------------------------

Output from '/usr/local/bin/make test':

PERL_DL_NONLAZY=1 /export/home/cpant2/perl5/perlbrew/perls/perl-5.14.4/bin/perl5.14.4 "-MExtUtils::Command::MM" "-e" "test_harness(0, 'blib/lib', 'blib/arch')" t/*.t
t/00-compile.t ............... ok
# Testing with Perl 5.014004, /export/home/cpant2/perl5/perlbrew/perls/perl-5.14.4/bin/perl5.14.4
#     Carp version is 1.26
#     Class::Accessor::Complex version is 1.100880
#     Class::Accessor::Constructor version is 1.111590
#     Data::Semantic::Test version is 1.101620
#     English version is 1.04
#     Error version is 0.17019
#     Error::Hierarchy version is 1.103530
#     Error::Hierarchy::Container version is 1.103530
#     Error::Hierarchy::Test version is 1.103530
#     ExtUtils::MakeMaker version is 6.64
#     File::Find version is 1.19
#     File::Temp version is 0.23
#     Scalar::Util version is 1.27
#     Test::More version is 0.98
#     constant version is 1.27
#     overload version is 1.13
#     parent version is 0.225
t/000-report-versions.t ...... ok
t/01value.t .................. ok
t/author-critic.t ............ skipped: these tests are for testing by the author
t/release-check-changes.t .... skipped: these tests are for release candidate testing
t/release-dist-manifest.t .... skipped: these tests are for release candidate testing
t/release-has-version.t ...... skipped: these tests are for release candidate testing
t/release-kwalitee.t ......... skipped: these tests are for release candidate testing
t/release-meta-yaml.t ........ skipped: these tests are for release candidate testing
t/release-minimum-version.t .. skipped: these tests are for release candidate testing
t/release-pod-coverage.t ..... skipped: these tests are for release candidate testing
t/release-pod-spell.t ........ skipped: these tests are for release candidate testing
t/release-pod-syntax.t ....... skipped: these tests are for release candidate testing
t/release-portability.t ...... skipped: these tests are for release candidate testing
t/release-synopsis.t ......... skipped: these tests are for release candidate testing
All tests successful.
Files=15, Tests=88,  6 wallclock secs ( 0.15 usr  0.10 sys +  1.41 cusr  0.57 csys =  2.23 CPU)
Result: PASS

------------------------------
PREREQUISITES
------------------------------

Prerequisite modules loaded:

requires:

    Module                       Need Have    
    ---------------------------- ---- --------
    Carp                         0    1.26    
    Class::Accessor::Complex     0    1.100880
    Class::Accessor::Constructor 0    1.111590
    constant                     0    1.27    
    Data::Semantic::Test         0    1.101620
    English                      0    1.04    
    Error                        0    0.17019 
    Error::Hierarchy             0    1.103530
    Error::Hierarchy::Container  0    1.103530
    Error::Hierarchy::Test       0    1.103530
    File::Find                   0    1.19    
    File::Temp                   0    0.23    
    overload                     0    1.13    
    parent                       0    0.225   
    Scalar::Util                 0    1.27    
    Test::More                   0.88 0.98    

configure_requires:

    Module                       Need Have    
    ---------------------------- ---- --------
    ExtUtils::MakeMaker          6.11 6.64    


------------------------------
ENVIRONMENT AND OTHER CONTEXT
------------------------------

Environment variables:

    AUTOMATED_TESTING = 1
    LANG = C
    LD_LIBRARY_PATH = /usr/local/lib:
    MANPATH_WITHOUT_PERLBREW = 
    PATH = /export/home/cpant2/perl5/perlbrew/bin:/export/home/cpant2/perl5/perlbrew/perls/perl-5.14.4/bin:/export/home/cpant2/perl5/bin:/usr/local/bin:/usr/bin
    PATH_WITHOUT_PERLBREW = /export/home/cpant2/perl5/bin:/usr/local/bin:/usr/bin
    PERL5LIB = /export/home/cpant2/.cpan/build/Data-Semantic-1.101620-cM4L5k/blib/arch:/export/home/cpant2/.cpan/build/Data-Semantic-1.101620-cM4L5k/blib/lib:/export/home/cpant2/.cpan/build/Test-CompanionClasses-1.101370-fEwUs9/blib/arch:/export/home/cpant2/.cpan/build/Test-CompanionClasses-1.101370-fEwUs9/blib/lib:/export/home/cpant2/.cpan/build/Error-Hierarchy-1.103530-rzvhny/blib/arch:/export/home/cpant2/.cpan/build/Error-Hierarchy-1.103530-rzvhny/blib/lib:/export/home/cpant2/.cpan/build/Data-Container-1.100840-rSAgpl/blib/arch:/export/home/cpant2/.cpan/build/Data-Container-1.100840-rSAgpl/blib/lib:/export/home/cpant2/.cpan/build/Class-Accessor-Constructor-1.111590-yBYk2W/blib/arch:/export/home/cpant2/.cpan/build/Class-Accessor-Constructor-1.111590-yBYk2W/blib/lib:/export/home/cpant2/.cpan/build/Data-Inherited-1.100860-X5ck6J/blib/arch:/export/home/cpant2/.cpan/build/Data-Inherited-1.100860-X5ck6J/blib/lib
    PERL5OPT = 
    PERL5_CPANPLUS_IS_RUNNING = 17397
    PERL5_CPAN_IS_RUNNING = 17397
    PERL5_CPAN_IS_RUNNING_IN_RECURSION = 19443,17397
    PERLBREW_BASHRC_VERSION = 0.44
    PERLBREW_HOME = /export/home/cpant2/.perlbrew
    PERLBREW_MANPATH = /export/home/cpant2/perl5/perlbrew/perls/perl-5.14.4/man
    PERLBREW_PATH = /export/home/cpant2/perl5/perlbrew/bin:/export/home/cpant2/perl5/perlbrew/perls/perl-5.14.4/bin
    PERLBREW_PERL = perl-5.14.4
    PERLBREW_ROOT = /export/home/cpant2/perl5/perlbrew
    PERLBREW_VERSION = 0.44
    PERL_CR_SMOKER_CURRENT = Class-Value-Net-1.110250
    PERL_EXTUTILS_AUTOINSTALL = --defaultdeps
    PERL_MM_USE_DEFAULT = 1
    SHELL = /usr/bin/bash
    TERM = xterm

Perl special variables (and OS-specific diagnostics, for MSWin32):

    $^X = /export/home/cpant2/perl5/perlbrew/perls/perl-5.14.4/bin/perl5.14.4
    $UID/$EUID = 101 / 101
    $GID = 1 1
    $EGID = 1 1

Perl module toolchain versions installed:

    Module              Have    
    ------------------- --------
    CPAN                1.9800  
    CPAN::Meta          2.130880
    Cwd                 3.40    
    ExtUtils::CBuilder  0.280205
    ExtUtils::Command   1.17    
    ExtUtils::Install   1.56    
    ExtUtils::MakeMaker 6.64    
    ExtUtils::Manifest  1.61    
    ExtUtils::ParseXS   3.18    
    File::Spec          3.40    
    JSON                2.57    
    JSON::PP            2.27202 
    Module::Build       0.4004  
    Module::Signature   n/a     
    Parse::CPAN::Meta   1.4404  
    Test::Harness       3.26    
    Test::More          0.98    
    YAML                0.84    
    YAML::Syck          1.25    
    version             0.9902  


--

Summary of my perl5 (revision 5 version 14 subversion 4) configuration:
   
  Platform:
    osname=solaris, osvers=2.10, archname=i86pc-solaris-64int
    uname='sunos vmrz0046 5.10 generic_141445-09 i86pc i386 i86pc solaris '
    config_args='-de -Dprefix=/export/home/cpant2/perl5/perlbrew/perls/perl-5.14.4 -Dcc=gcc -Duse64bitint -Dusedevel -Aeval:scriptdir=/export/home/cpant2/perl5/perlbrew/perls/perl-5.14.4/bin'
    hint=recommended, useposix=true, d_sigaction=define
    useithreads=undef, usemultiplicity=undef
    useperlio=define, d_sfio=undef, uselargefiles=define, usesocks=undef
    use64bitint=define, use64bitall=undef, uselongdouble=undef
    usemymalloc=n, bincompat5005=undef
  Compiler:
    cc='gcc', ccflags ='-DPTR_IS_LONG -fno-strict-aliasing -pipe -I/usr/local/include -D_LARGEFILE_SOURCE -D_FILE_OFFSET_BITS=64 -DPERL_USE_SAFE_PUTENV',
    optimize='-O',
    cppflags='-DPTR_IS_LONG -fno-strict-aliasing -pipe -I/usr/local/include'
    ccversion='', gccversion='3.4.6', gccosandvers='solaris2.10'
    intsize=4, longsize=4, ptrsize=4, doublesize=8, byteorder=12345678
    d_longlong=define, longlongsize=8, d_longdbl=define, longdblsize=12
    ivtype='long long', ivsize=8, nvtype='double', nvsize=8, Off_t='off_t', lseeksize=8
    alignbytes=4, prototype=define
  Linker and Libraries:
    ld='gcc', ldflags =' -L/usr/local/lib '
    libpth=/usr/local/lib /usr/lib /usr/ccs/lib
    libs=-lsocket -lnsl -lgdbm -ldl -lm -lc
    perllibs=-lsocket -lnsl -ldl -lm -lc
    libc=/lib/libc.so, so=so, useshrplib=false, libperl=libperl.a
    gnulibc_version=''
  Dynamic Linking:
    dlsrc=dl_dlopen.xs, dlext=so, d_dlsymun=undef, ccdlflags=' '
    cccdlflags='-fPIC', lddlflags='-G -L/usr/local/lib'


Characteristics of this binary (from libperl): 
  Compile-time options: PERL_DONT_CREATE_GVSV PERL_MALLOC_WRAP
                        PERL_PRESERVE_IVUV PERL_USE_DEVEL
                        PERL_USE_SAFE_PUTENV USE_64_BIT_INT USE_LARGE_FILES
                        USE_PERLIO USE_PERL_ATOF
  Built under solaris
  Compiled at Mar 19 2013 21:06:29
  %ENV:
    PERL5LIB="/export/home/cpant2/.cpan/build/Data-Semantic-1.101620-cM4L5k/blib/arch:/export/home/cpant2/.cpan/build/Data-Semantic-1.101620-cM4L5k/blib/lib:/export/home/cpant2/.cpan/build/Test-CompanionClasses-1.101370-fEwUs9/blib/arch:/export/home/cpant2/.cpan/build/Test-CompanionClasses-1.101370-fEwUs9/blib/lib:/export/home/cpant2/.cpan/build/Error-Hierarchy-1.103530-rzvhny/blib/arch:/export/home/cpant2/.cpan/build/Error-Hierarchy-1.103530-rzvhny/blib/lib:/export/home/cpant2/.cpan/build/Data-Container-1.100840-rSAgpl/blib/arch:/export/home/cpant2/.cpan/build/Data-Container-1.100840-rSAgpl/blib/lib:/export/home/cpant2/.cpan/build/Class-Accessor-Constructor-1.111590-yBYk2W/blib/arch:/export/home/cpant2/.cpan/build/Class-Accessor-Constructor-1.111590-yBYk2W/blib/lib:/export/home/cpant2/.cpan/build/Data-Inherited-1.100860-X5ck6J/blib/arch:/export/home/cpant2/.cpan/build/Data-Inherited-1.100860-X5ck6J/blib/lib"
    PERL5OPT=""
    PERL5_CPANPLUS_IS_RUNNING="17397"
    PERL5_CPAN_IS_RUNNING="17397"
    PERL5_CPAN_IS_RUNNING_IN_RECURSION="19443,17397"
    PERLBREW_BASHRC_VERSION="0.44"
    PERLBREW_HOME="/export/home/cpant2/.perlbrew"
    PERLBREW_MANPATH="/export/home/cpant2/perl5/perlbrew/perls/perl-5.14.4/man"
    PERLBREW_PATH="/export/home/cpant2/perl5/perlbrew/bin:/export/home/cpant2/perl5/perlbrew/perls/perl-5.14.4/bin"
    PERLBREW_PERL="perl-5.14.4"
    PERLBREW_ROOT="/export/home/cpant2/perl5/perlbrew"
    PERLBREW_VERSION="0.44"
    PERL_CR_SMOKER_CURRENT="Class-Value-Net-1.110250"
    PERL_EXTUTILS_AUTOINSTALL="--defaultdeps"
    PERL_MM_USE_DEFAULT="1"
  @INC:
    /export/home/cpant2/.cpan/build/Data-Semantic-1.101620-cM4L5k/blib/arch
    /export/home/cpant2/.cpan/build/Data-Semantic-1.101620-cM4L5k/blib/lib
    /export/home/cpant2/.cpan/build/Test-CompanionClasses-1.101370-fEwUs9/blib/arch
    /export/home/cpant2/.cpan/build/Test-CompanionClasses-1.101370-fEwUs9/blib/lib
    /export/home/cpant2/.cpan/build/Error-Hierarchy-1.103530-rzvhny/blib/arch
    /export/home/cpant2/.cpan/build/Error-Hierarchy-1.103530-rzvhny/blib/lib
    /export/home/cpant2/.cpan/build/Data-Container-1.100840-rSAgpl/blib/arch
    /export/home/cpant2/.cpan/build/Data-Container-1.100840-rSAgpl/blib/lib
    /export/home/cpant2/.cpan/build/Class-Accessor-Constructor-1.111590-yBYk2W/blib/arch
    /export/home/cpant2/.cpan/build/Class-Accessor-Constructor-1.111590-yBYk2W/blib/lib
    /export/home/cpant2/.cpan/build/Data-Inherited-1.100860-X5ck6J/blib/arch
    /export/home/cpant2/.cpan/build/Data-Inherited-1.100860-X5ck6J/blib/lib
    /export/home/cpant2/perl5/perlbrew/perls/perl-5.14.4/lib/site_perl/5.14.4/i86pc-solaris-64int
    /export/home/cpant2/perl5/perlbrew/perls/perl-5.14.4/lib/site_perl/5.14.4
    /export/home/cpant2/perl5/perlbrew/perls/perl-5.14.4/lib/5.14.4/i86pc-solaris-64int
    /export/home/cpant2/perl5/perlbrew/perls/perl-5.14.4/lib/5.14.4
    .