Report for Set-Associate-0.004001

Back
From: metabase:user:314402c4-2aae-11df-837a-5e0a49663a4f
Subject: PASS Set-Associate-0.004001 v5.24.1 GNU/Linux
Date: 2017-03-07T10:23:42Z

This distribution has been tested as part of the CPAN Testers
project, supporting the Perl programming language.  See
http://wiki.cpantesters.org/ for more information or email
questions to cpan-testers-discuss@perl.org


--
Dear Kent Fredric,

This is a computer-generated report for Set-Associate-0.004001
on perl 5.24.1, created by CPAN-Reporter-1.2018.

Thank you for uploading your work to CPAN.  Congratulations!
All tests were successful.

Sections of this report:

    * Tester comments
    * Program output
    * Prerequisites
    * Environment and other context

------------------------------
TESTER COMMENTS
------------------------------

Additional comments from tester:

none provided

------------------------------
PROGRAM OUTPUT
------------------------------

Output from '/usr/bin/make test':

PERL_DL_NONLAZY=1 "/opt/perl-5.24.1t/bin/perl" "-MExtUtils::Command::MM" "-MTest::Harness" "-e" "undef *Test::Harness::Switches; test_harness(0, 'blib/lib', 'blib/arch')" t/*.t t/00-compile/*.t t/01_assoc/*.t t/02_assoc_new/*.t t/03_assoc_direct/*.t
t/00-compile/lib_Set_Associate_NewKey_HashMD5_pm.t ....... ok
t/00-compile/lib_Set_Associate_NewKey_HashSHA1_pm.t ...... ok
t/00-compile/lib_Set_Associate_NewKey_LinearWrap_pm.t .... ok
t/00-compile/lib_Set_Associate_NewKey_PickOffset_pm.t .... ok
t/00-compile/lib_Set_Associate_NewKey_pm.t ............... ok
t/00-compile/lib_Set_Associate_NewKey_RandomPick_pm.t .... ok
t/00-compile/lib_Set_Associate_pm.t ...................... ok
t/00-compile/lib_Set_Associate_RefillItems_Linear_pm.t ... ok
t/00-compile/lib_Set_Associate_RefillItems_pm.t .......... ok
t/00-compile/lib_Set_Associate_RefillItems_Shuffle_pm.t .. ok
t/00-compile/lib_Set_Associate_Role_NewKey_pm.t .......... ok
t/00-compile/lib_Set_Associate_Role_RefillItems_pm.t ..... ok
t/00-compile/lib_Set_Associate_Utils_pm.t ................ ok
# 
# Versions for all modules listed in MYMETA.json (including optional ones):
# 
# === Configure Requires ===
# 
#     Module              Want Have
#     ------------------- ---- ----
#     ExtUtils::MakeMaker  any 7.24
# 
# === Configure Recommends ===
# 
#     Module              Want Have
#     ------------------- ---- ----
#     ExtUtils::MakeMaker 7.00 7.24
# 
# === Build Requires ===
# 
#     Module              Want Have
#     ------------------- ---- ----
#     ExtUtils::MakeMaker  any 7.24
# 
# === Test Requires ===
# 
#     Module              Want     Have
#     ------------------- ---- --------
#     ExtUtils::MakeMaker  any     7.24
#     File::Spec           any  3.63_01
#     Test::Fatal          any    0.014
#     Test::More           any 1.302078
# 
# === Test Recommends ===
# 
#     Module                  Want     Have
#     ------------------- -------- --------
#     CPAN::Meta          2.120900 2.150005
#     ExtUtils::MakeMaker     7.00     7.24
#     Test::More              0.99 1.302078
# 
# === Runtime Requires ===
# 
#     Module                      Want    Have
#     --------------------------- ---- -------
#     Carp                         any    1.40
#     Digest::MD5                  any    2.55
#     Digest::SHA1                 any    2.13
#     Exporter                     any    5.72
#     List::Util                   any    1.47
#     Moose                        any  2.2004
#     MooseX::AttributeShortcuts   any   0.028
#     MooseX::Role::Parameterized  any    1.09
#     Scalar::Util                 any    1.47
#     bigint                      0.22 0.42_01
#     strict                       any    1.11
#     warnings                     any    1.36
# 
# === Runtime Recommends ===
# 
#     Module  Want   Have
#     ------ ----- ------
#     Moose  2.000 2.2004
# 
t/00-report-prereqs.t .................................... ok
Set::Associate::NewKey->linear_wrap should be called as a method at /home/cpansand/.cpan/build/2017030709/Set-Associate-0.004001-5/blib/lib/Set/Associate/NewKey.pm line 74.
t/01_assoc/01_linear.t ................................... ok
Set::Associate::RefillItems->shuffle should be called as a method at /home/cpansand/.cpan/build/2017030709/Set-Associate-0.004001-5/blib/lib/Set/Associate/RefillItems.pm line 128.
t/01_assoc/02_random_shuffle.t ........................... ok
Set::Associate::NewKey->random_pick should be called as a method at /home/cpansand/.cpan/build/2017030709/Set-Associate-0.004001-5/blib/lib/Set/Associate/NewKey.pm line 96.
t/01_assoc/03_random_pick.t .............................. ok
Set::Associate::NewKey->hash_sha1 should be called as a method at /home/cpansand/.cpan/build/2017030709/Set-Associate-0.004001-5/blib/lib/Set/Associate/NewKey.pm line 148.
t/01_assoc/04_hash_sha1.t ................................ ok
Set::Associate::NewKey->hash_md5 should be called as a method at /home/cpansand/.cpan/build/2017030709/Set-Associate-0.004001-5/blib/lib/Set/Associate/NewKey.pm line 172.
t/01_assoc/05_hash_md5.t ................................. ok
t/02_assoc_new/01_linear.t ............................... ok
t/02_assoc_new/02_random_shuffle.t ....................... ok
t/02_assoc_new/03_random_pick.t .......................... ok
t/02_assoc_new/04_hash_sha1.t ............................ ok
t/02_assoc_new/05_hash_md5.t ............................. ok
t/03_assoc_direct/01_linear.t ............................ ok
t/03_assoc_direct/02_random_shuffle.t .................... ok
t/03_assoc_direct/03_random_pick.t ....................... ok
t/03_assoc_direct/04_hash_sha1.t ......................... ok
t/03_assoc_direct/05_hash_md5.t .......................... ok
All tests successful.
Files=29, Tests=187, 16 wallclock secs ( 0.11 usr  0.05 sys + 14.64 cusr  1.14 csys = 15.94 CPU)
Result: PASS

------------------------------
PREREQUISITES
------------------------------

Prerequisite modules loaded:

requires:

    Module                      Need  Have    
    --------------------------- ----- --------
    bigint                      0.22  0.42_01 
    Carp                        0     1.40    
    Digest::MD5                 0     2.55    
    Digest::SHA1                0     2.13    
    Exporter                    0     5.72    
    List::Util                  0     1.47    
    Moose                       0     2.2004  
    MooseX::AttributeShortcuts  0     0.028   
    MooseX::Role::Parameterized 0     1.09    
    perl                        5.006 5.024001
    Scalar::Util                0     1.47    
    strict                      0     1.11    
    warnings                    0     1.36    

build_requires:

    Module                      Need  Have    
    --------------------------- ----- --------
    ExtUtils::MakeMaker         0     7.24    
    File::Spec                  0     3.63_01 
    Test::Fatal                 0     0.014   
    Test::More                  0     1.302078

configure_requires:

    Module                      Need  Have    
    --------------------------- ----- --------
    ExtUtils::MakeMaker         0     7.24    
    perl                        5.006 5.024001


------------------------------
ENVIRONMENT AND OTHER CONTEXT
------------------------------

Environment variables:

    LANG = en_US.UTF-8
    PATH = /usr/local/bin:/usr/bin:/bin:/usr/local/sbin:/usr/sbin:/sbin:/home/cpansand/bin/linux-gnu:/home/cpansand/bin/sh:/home/cpansand/bin:/usr/games:/home/cpansand/devel:/home/eserte/src/srezic-misc/scripts
    PERL5LIB = 
    PERL5OPT = 
    PERL5_CPANPLUS_IS_RUNNING = 23730
    PERL5_CPAN_IS_RUNNING = 23730
    PERL5_CPAN_IS_RUNNING_IN_RECURSION = 23679,23730
    PERLDOC = -MPod::Perldoc::ToTextOverstrike
    PERL_BATCH = yes
    PERL_CANARY_STABILITY_NOPROMPT = 1
    PERL_CPAN_REPORTER_CONFIG = /var/tmp/cpansmoker-1002/2017030709/cpanreporter_000_config.ini
    PERL_EXTUTILS_AUTOINSTALL = --defaultdeps
    SHELL = /bin/zsh
    TERM = screen
    TMPDIR = /var/tmp/cpansmoker-1002/2017030709

Perl special variables (and OS-specific diagnostics, for MSWin32):

    $^X = /opt/perl-5.24.1t/bin/perl
    $UID/$EUID = 1002 / 1002
    $GID = 1002 1002
    $EGID = 1002 1002

Perl module toolchain versions installed:

    Module              Have      
    ------------------- ----------
    CPAN                2.16      
    CPAN::Meta          2.150005  
    Cwd                 3.63_01   
    ExtUtils::CBuilder  0.280225  
    ExtUtils::Command   7.24      
    ExtUtils::Install   2.04      
    ExtUtils::MakeMaker 7.24      
    ExtUtils::Manifest  1.70      
    ExtUtils::ParseXS   3.31      
    File::Spec          3.63_01   
    JSON                2.90      
    JSON::PP            2.27400   
    Module::Build       0.4220    
    Module::Signature   0.81      
    Parse::CPAN::Meta   1.4417_001
    Test::Harness       3.36_01   
    Test::More          1.302078  
    YAML                1.23      
    YAML::Syck          1.29      
    version             0.9916    


--

Summary of my perl5 (revision 5 version 24 subversion 1) configuration:
   
  Platform:
    osname=linux, osvers=3.10.0-514.6.2.el7.x86_64, archname=x86_64-linux-thread-multi
    uname='linux prod5 3.10.0-514.6.2.el7.x86_64 #1 smp thu feb 23 03:04:39 utc 2017 x86_64 x86_64 x86_64 gnulinux '
    config_args='-ds -e -Dprefix=/opt/perl-5.24.1t -Dusethreads -Dcf_email=srezic@cpan.org'
    hint=recommended, useposix=true, d_sigaction=define
    useithreads=define, usemultiplicity=define
    use64bitint=define, use64bitall=define, uselongdouble=undef
    usemymalloc=n, bincompat5005=undef
  Compiler:
    cc='cc', ccflags ='-D_REENTRANT -D_GNU_SOURCE -fwrapv -fno-strict-aliasing -pipe -fstack-protector-strong -I/usr/local/include -D_LARGEFILE_SOURCE -D_FILE_OFFSET_BITS=64 -D_FORTIFY_SOURCE=2',
    optimize='-O2',
    cppflags='-D_REENTRANT -D_GNU_SOURCE -fwrapv -fno-strict-aliasing -pipe -fstack-protector-strong -I/usr/local/include'
    ccversion='', gccversion='4.8.5 20150623 (Red Hat 4.8.5-11)', gccosandvers=''
    intsize=4, longsize=8, ptrsize=8, doublesize=8, byteorder=12345678, doublekind=3
    d_longlong=define, longlongsize=8, d_longdbl=define, longdblsize=16, longdblkind=3
    ivtype='long', ivsize=8, nvtype='double', nvsize=8, Off_t='off_t', lseeksize=8
    alignbytes=8, prototype=define
  Linker and Libraries:
    ld='cc', ldflags =' -fstack-protector-strong -L/usr/local/lib'
    libpth=/usr/local/lib /usr/lib /lib/../lib64 /usr/lib/../lib64 /lib /lib64 /usr/lib64 /usr/local/lib64
    libs=-lpthread -lnsl -lgdbm -ldb -ldl -lm -lcrypt -lutil -lc -lgdbm_compat
    perllibs=-lpthread -lnsl -ldl -lm -lcrypt -lutil -lc
    libc=libc-2.17.so, so=so, useshrplib=false, libperl=libperl.a
    gnulibc_version='2.17'
  Dynamic Linking:
    dlsrc=dl_dlopen.xs, dlext=so, d_dlsymun=undef, ccdlflags='-Wl,-E'
    cccdlflags='-fPIC', lddlflags='-shared -O2 -L/usr/local/lib -fstack-protector-strong'


Characteristics of this binary (from libperl): 
  Compile-time options: HAS_TIMES MULTIPLICITY PERLIO_LAYERS
                        PERL_COPY_ON_WRITE PERL_DONT_CREATE_GVSV
                        PERL_HASH_FUNC_ONE_AT_A_TIME_HARD
                        PERL_IMPLICIT_CONTEXT PERL_MALLOC_WRAP
                        PERL_PRESERVE_IVUV USE_64_BIT_ALL USE_64_BIT_INT
                        USE_ITHREADS USE_LARGE_FILES USE_LOCALE
                        USE_LOCALE_COLLATE USE_LOCALE_CTYPE
                        USE_LOCALE_NUMERIC USE_LOCALE_TIME USE_PERLIO
                        USE_PERL_ATOF USE_REENTRANT_API
  Built under linux
  Compiled at Feb 23 2017 21:20:48
  %ENV:
    PERL5LIB=""
    PERL5OPT=""
    PERL5_CPANPLUS_IS_RUNNING="23730"
    PERL5_CPAN_IS_RUNNING="23730"
    PERL5_CPAN_IS_RUNNING_IN_RECURSION="23679,23730"
    PERLDOC="-MPod::Perldoc::ToTextOverstrike"
    PERL_BATCH="yes"
    PERL_CANARY_STABILITY_NOPROMPT="1"
    PERL_CPAN_REPORTER_CONFIG="/var/tmp/cpansmoker-1002/2017030709/cpanreporter_000_config.ini"
    PERL_EXTUTILS_AUTOINSTALL="--defaultdeps"
  @INC:
    /opt/perl-5.24.1t/lib/site_perl/5.24.1/x86_64-linux-thread-multi
    /opt/perl-5.24.1t/lib/site_perl/5.24.1
    /opt/perl-5.24.1t/lib/5.24.1/x86_64-linux-thread-multi
    /opt/perl-5.24.1t/lib/5.24.1
    .