Back
From: metabase:user:320bfe00-2aae-11df-837a-5e0a49663a4f
Subject: PASS Patterns-ChainOfResponsibility-0.02 v5.21.9 GNU/Linux
Date: 2015-01-26T04:16:44Z
This distribution has been tested as part of the CPAN Testers
project, supporting the Perl programming language. See
http://wiki.cpantesters.org/ for more information or email
questions to cpan-testers-discuss@perl.org
--
Dear John Napiorkowski,
This is a computer-generated report for Patterns-ChainOfResponsibility-0.02
on perl 5.21.9, created by CPAN-Reporter-1.2011.
Thank you for uploading your work to CPAN. Congratulations!
All tests were successful.
Sections of this report:
* Tester comments
* Program output
* Prerequisites
* Environment and other context
------------------------------
TESTER COMMENTS
------------------------------
Additional comments from tester:
this report is from an automated smoke testing program
and was not reviewed by a human for accuracy
------------------------------
PROGRAM OUTPUT
------------------------------
Output from '/usr/bin/make test':
PERL_DL_NONLAZY=1 "/tmp/basesmoker-reloperl-nfgm/bin/perl" "-MExtUtils::Command::MM" "-MTest::Harness" "-e" "undef *Test::Harness::Switches; test_harness(0, 'inc', 'blib/lib', 'blib/arch')" t/*.t
Class::MOP::load_class is deprecated at /home/sand/src/perl/repoperls/installed-perls/perl/v5.21.8-51-g47b62f6/a2da/lib/site_perl/5.21.9/x86_64-linux-thread-multi-ld/Class/MOP.pm line 69.
Class::MOP::load_class("Patterns::ChainOfResponsibility::Provider") called at /tmp/loop_over_bdir-3965-r_FKEV/Patterns-ChainOfResponsibility-0.02-Rjkkfu/blib/lib/Patterns/ChainOfResponsibility/Role/Handler.pm line 22
Patterns::ChainOfResponsibility::Role::Handler::__ANON__(Moose::Meta::Class::__ANON__::SERIAL::2=HASH(0x27165a0), "operating_on", MooseX::Role::Parameterized::Meta::Role::Parameterized=HASH(0x2624aa0), "consumer", Moose::Meta::Class=HASH(0x23d5a58)) called at /home/sand/src/perl/repoperls/installed-perls/perl/v5.21.8-51-g47b62f6/a2da/lib/site_perl/5.21.9/MooseX/Role/Parameterized/Meta/Trait/Parameterizable.pm line 88
MooseX::Role::Parameterized::Meta::Trait::Parameterizable::generate_role(Moose::Meta::Class::__ANON__::SERIAL::1=HASH(0x26140a8), "consumer", Moose::Meta::Class=HASH(0x23d5a58), "parameters", HASH(0x25bdca8), "orig_apply", CODE(0x22bc6c0)) called at /home/sand/src/perl/repoperls/installed-perls/perl/v5.21.8-51-g47b62f6/a2da/lib/site_perl/5.21.9/MooseX/Role/Parameterized/Meta/Trait/Parameterizable.pm line 110
Class::MOP::Class:::around(CODE(0x22bc6c0), Moose::Meta::Class::__ANON__::SERIAL::1=HASH(0x26140a8), Moose::Meta::Class=HASH(0x23d5a58)) called at /home/sand/src/perl/repoperls/installed-perls/perl/v5.21.8-51-g47b62f6/a2da/lib/site_perl/5.21.9/x86_64-linux-thread-multi-ld/Class/MOP/Method/Wrapped.pm line 158
Class::MOP::Method::Wrapped::__ANON__(Moose::Meta::Class::__ANON__::SERIAL::1=HASH(0x26140a8), Moose::Meta::Class=HASH(0x23d5a58)) called at /home/sand/src/perl/repoperls/installed-perls/perl/v5.21.8-51-g47b62f6/a2da/lib/site_perl/5.21.9/x86_64-linux-thread-multi-ld/Class/MOP/Method/Wrapped.pm line 87
Moose::Meta::Class::__ANON__::SERIAL::1::apply(Moose::Meta::Class::__ANON__::SERIAL::1=HASH(0x26140a8), Moose::Meta::Class=HASH(0x23d5a58)) called at /home/sand/src/perl/repoperls/installed-perls/perl/v5.21.8-51-g47b62f6/a2da/lib/site_perl/5.21.9/x86_64-linux-thread-multi-ld/Moose/Util.pm line 172
Moose::Util::_apply_all_roles(Moose::Meta::Class=HASH(0x23d5a58), undef, "Patterns::ChainOfResponsibility::Role::Handler") called at /home/sand/src/perl/repoperls/installed-perls/perl/v5.21.8-51-g47b62f6/a2da/lib/site_perl/5.21.9/x86_64-linux-thread-multi-ld/Moose/Util.pm line 114
Moose::Util::apply_all_roles(Moose::Meta::Class=HASH(0x23d5a58), "Patterns::ChainOfResponsibility::Role::Handler") called at /home/sand/src/perl/repoperls/installed-perls/perl/v5.21.8-51-g47b62f6/a2da/lib/site_perl/5.21.9/x86_64-linux-thread-multi-ld/Moose.pm line 59
Moose::with(Moose::Meta::Class=HASH(0x23d5a58), "Patterns::ChainOfResponsibility::Role::Handler") called at /home/sand/src/perl/repoperls/installed-perls/perl/v5.21.8-51-g47b62f6/a2da/lib/site_perl/5.21.9/x86_64-linux-thread-multi-ld/Moose/Exporter.pm line 419
Moose::with("Patterns::ChainOfResponsibility::Role::Handler") called at t/application.t line 9
t/application.t .. ok
t/basic.t ........ ok
Class::MOP::load_class is deprecated at /home/sand/src/perl/repoperls/installed-perls/perl/v5.21.8-51-g47b62f6/a2da/lib/site_perl/5.21.9/x86_64-linux-thread-multi-ld/Class/MOP.pm line 69.
Class::MOP::load_class("Patterns::ChainOfResponsibility::Broadcast") called at /tmp/loop_over_bdir-3965-r_FKEV/Patterns-ChainOfResponsibility-0.02-Rjkkfu/blib/lib/Patterns/ChainOfResponsibility/Role/Handler.pm line 22
Patterns::ChainOfResponsibility::Role::Handler::__ANON__(Moose::Meta::Class::__ANON__::SERIAL::4=HASH(0x2507640), "operating_on", MooseX::Role::Parameterized::Meta::Role::Parameterized=HASH(0x27031a8), "consumer", Moose::Meta::Class=HASH(0x247ae58)) called at /home/sand/src/perl/repoperls/installed-perls/perl/v5.21.8-51-g47b62f6/a2da/lib/site_perl/5.21.9/MooseX/Role/Parameterized/Meta/Trait/Parameterizable.pm line 88
MooseX::Role::Parameterized::Meta::Trait::Parameterizable::generate_role(Moose::Meta::Class::__ANON__::SERIAL::3=HASH(0x26ff928), "consumer", Moose::Meta::Class=HASH(0x247ae58), "parameters", HASH(0x2632838), "orig_apply", CODE(0x21b8890)) called at /home/sand/src/perl/repoperls/installed-perls/perl/v5.21.8-51-g47b62f6/a2da/lib/site_perl/5.21.9/MooseX/Role/Parameterized/Meta/Trait/Parameterizable.pm line 110
Class::MOP::Class:::around(CODE(0x21b8890), Moose::Meta::Class::__ANON__::SERIAL::3=HASH(0x26ff928), Moose::Meta::Class=HASH(0x247ae58), "dispatcher", "::Broadcast") called at /home/sand/src/perl/repoperls/installed-perls/perl/v5.21.8-51-g47b62f6/a2da/lib/site_perl/5.21.9/x86_64-linux-thread-multi-ld/Class/MOP/Method/Wrapped.pm line 158
Class::MOP::Method::Wrapped::__ANON__(Moose::Meta::Class::__ANON__::SERIAL::3=HASH(0x26ff928), Moose::Meta::Class=HASH(0x247ae58), "dispatcher", "::Broadcast") called at /home/sand/src/perl/repoperls/installed-perls/perl/v5.21.8-51-g47b62f6/a2da/lib/site_perl/5.21.9/x86_64-linux-thread-multi-ld/Class/MOP/Method/Wrapped.pm line 87
Moose::Meta::Class::__ANON__::SERIAL::3::apply(Moose::Meta::Class::__ANON__::SERIAL::3=HASH(0x26ff928), Moose::Meta::Class=HASH(0x247ae58), "dispatcher", "::Broadcast") called at /home/sand/src/perl/repoperls/installed-perls/perl/v5.21.8-51-g47b62f6/a2da/lib/site_perl/5.21.9/x86_64-linux-thread-multi-ld/Moose/Util.pm line 172
Moose::Util::_apply_all_roles(Moose::Meta::Class=HASH(0x247ae58), undef, "Patterns::ChainOfResponsibility::Role::Handler", HASH(0xf60dd0)) called at /home/sand/src/perl/repoperls/installed-perls/perl/v5.21.8-51-g47b62f6/a2da/lib/site_perl/5.21.9/x86_64-linux-thread-multi-ld/Moose/Util.pm line 114
Moose::Util::apply_all_roles(Moose::Meta::Class=HASH(0x247ae58), "Patterns::ChainOfResponsibility::Role::Handler", HASH(0xf60dd0)) called at /home/sand/src/perl/repoperls/installed-perls/perl/v5.21.8-51-g47b62f6/a2da/lib/site_perl/5.21.9/x86_64-linux-thread-multi-ld/Moose.pm line 59
Moose::with(Moose::Meta::Class=HASH(0x247ae58), "Patterns::ChainOfResponsibility::Role::Handler", HASH(0xf60dd0)) called at /home/sand/src/perl/repoperls/installed-perls/perl/v5.21.8-51-g47b62f6/a2da/lib/site_perl/5.21.9/x86_64-linux-thread-multi-ld/Moose/Exporter.pm line 419
Moose::with("Patterns::ChainOfResponsibility::Role::Handler", HASH(0xf60dd0)) called at t/broadcast.t line 13
t/broadcast.t .... ok
Class::MOP::load_class is deprecated at /home/sand/src/perl/repoperls/installed-perls/perl/v5.21.8-51-g47b62f6/a2da/lib/site_perl/5.21.9/x86_64-linux-thread-multi-ld/Class/MOP.pm line 69.
Class::MOP::load_class("Patterns::ChainOfResponsibility::Filter") called at /tmp/loop_over_bdir-3965-r_FKEV/Patterns-ChainOfResponsibility-0.02-Rjkkfu/blib/lib/Patterns/ChainOfResponsibility/Role/Handler.pm line 22
Patterns::ChainOfResponsibility::Role::Handler::__ANON__(Moose::Meta::Class::__ANON__::SERIAL::2=HASH(0x34086c8), "operating_on", MooseX::Role::Parameterized::Meta::Role::Parameterized=HASH(0x3508b90), "consumer", Moose::Meta::Class=HASH(0x325fb50)) called at /home/sand/src/perl/repoperls/installed-perls/perl/v5.21.8-51-g47b62f6/a2da/lib/site_perl/5.21.9/MooseX/Role/Parameterized/Meta/Trait/Parameterizable.pm line 88
MooseX::Role::Parameterized::Meta::Trait::Parameterizable::generate_role(Moose::Meta::Class::__ANON__::SERIAL::1=HASH(0x3533ca0), "consumer", Moose::Meta::Class=HASH(0x325fb50), "parameters", HASH(0x34ccd18), "orig_apply", CODE(0x3146690)) called at /home/sand/src/perl/repoperls/installed-perls/perl/v5.21.8-51-g47b62f6/a2da/lib/site_perl/5.21.9/MooseX/Role/Parameterized/Meta/Trait/Parameterizable.pm line 110
Class::MOP::Class:::around(CODE(0x3146690), Moose::Meta::Class::__ANON__::SERIAL::1=HASH(0x3533ca0), Moose::Meta::Class=HASH(0x325fb50), "dispatcher", "::Filter") called at /home/sand/src/perl/repoperls/installed-perls/perl/v5.21.8-51-g47b62f6/a2da/lib/site_perl/5.21.9/x86_64-linux-thread-multi-ld/Class/MOP/Method/Wrapped.pm line 158
Class::MOP::Method::Wrapped::__ANON__(Moose::Meta::Class::__ANON__::SERIAL::1=HASH(0x3533ca0), Moose::Meta::Class=HASH(0x325fb50), "dispatcher", "::Filter") called at /home/sand/src/perl/repoperls/installed-perls/perl/v5.21.8-51-g47b62f6/a2da/lib/site_perl/5.21.9/x86_64-linux-thread-multi-ld/Class/MOP/Method/Wrapped.pm line 87
Moose::Meta::Class::__ANON__::SERIAL::1::apply(Moose::Meta::Class::__ANON__::SERIAL::1=HASH(0x3533ca0), Moose::Meta::Class=HASH(0x325fb50), "dispatcher", "::Filter") called at /home/sand/src/perl/repoperls/installed-perls/perl/v5.21.8-51-g47b62f6/a2da/lib/site_perl/5.21.9/x86_64-linux-thread-multi-ld/Moose/Util.pm line 172
Moose::Util::_apply_all_roles(Moose::Meta::Class=HASH(0x325fb50), undef, "Patterns::ChainOfResponsibility::Role::Handler", HASH(0x1eeedd0)) called at /home/sand/src/perl/repoperls/installed-perls/perl/v5.21.8-51-g47b62f6/a2da/lib/site_perl/5.21.9/x86_64-linux-thread-multi-ld/Moose/Util.pm line 114
Moose::Util::apply_all_roles(Moose::Meta::Class=HASH(0x325fb50), "Patterns::ChainOfResponsibility::Role::Handler", HASH(0x1eeedd0)) called at /home/sand/src/perl/repoperls/installed-perls/perl/v5.21.8-51-g47b62f6/a2da/lib/site_perl/5.21.9/x86_64-linux-thread-multi-ld/Moose.pm line 59
Moose::with(Moose::Meta::Class=HASH(0x325fb50), "Patterns::ChainOfResponsibility::Role::Handler", HASH(0x1eeedd0)) called at /home/sand/src/perl/repoperls/installed-perls/perl/v5.21.8-51-g47b62f6/a2da/lib/site_perl/5.21.9/x86_64-linux-thread-multi-ld/Moose/Exporter.pm line 419
Moose::with("Patterns::ChainOfResponsibility::Role::Handler", HASH(0x1eeedd0)) called at t/filter.t line 9
t/filter.t ....... ok
Class::MOP::load_class is deprecated at /home/sand/src/perl/repoperls/installed-perls/perl/v5.21.8-51-g47b62f6/a2da/lib/site_perl/5.21.9/x86_64-linux-thread-multi-ld/Class/MOP.pm line 69.
Class::MOP::load_class("Patterns::ChainOfResponsibility::Provider") called at /tmp/loop_over_bdir-3965-r_FKEV/Patterns-ChainOfResponsibility-0.02-Rjkkfu/blib/lib/Patterns/ChainOfResponsibility/Role/Handler.pm line 22
Patterns::ChainOfResponsibility::Role::Handler::__ANON__(Moose::Meta::Class::__ANON__::SERIAL::2=HASH(0x334fd78), "operating_on", MooseX::Role::Parameterized::Meta::Role::Parameterized=HASH(0x34614c8), "consumer", Moose::Meta::Class=HASH(0x3183e08)) called at /home/sand/src/perl/repoperls/installed-perls/perl/v5.21.8-51-g47b62f6/a2da/lib/site_perl/5.21.9/MooseX/Role/Parameterized/Meta/Trait/Parameterizable.pm line 88
MooseX::Role::Parameterized::Meta::Trait::Parameterizable::generate_role(Moose::Meta::Class::__ANON__::SERIAL::1=HASH(0x3459588), "consumer", Moose::Meta::Class=HASH(0x3183e08), "parameters", HASH(0x33f3710), "orig_apply", CODE(0x306a820)) called at /home/sand/src/perl/repoperls/installed-perls/perl/v5.21.8-51-g47b62f6/a2da/lib/site_perl/5.21.9/MooseX/Role/Parameterized/Meta/Trait/Parameterizable.pm line 110
Class::MOP::Class:::around(CODE(0x306a820), Moose::Meta::Class::__ANON__::SERIAL::1=HASH(0x3459588), Moose::Meta::Class=HASH(0x3183e08)) called at /home/sand/src/perl/repoperls/installed-perls/perl/v5.21.8-51-g47b62f6/a2da/lib/site_perl/5.21.9/x86_64-linux-thread-multi-ld/Class/MOP/Method/Wrapped.pm line 158
Class::MOP::Method::Wrapped::__ANON__(Moose::Meta::Class::__ANON__::SERIAL::1=HASH(0x3459588), Moose::Meta::Class=HASH(0x3183e08)) called at /home/sand/src/perl/repoperls/installed-perls/perl/v5.21.8-51-g47b62f6/a2da/lib/site_perl/5.21.9/x86_64-linux-thread-multi-ld/Class/MOP/Method/Wrapped.pm line 87
Moose::Meta::Class::__ANON__::SERIAL::1::apply(Moose::Meta::Class::__ANON__::SERIAL::1=HASH(0x3459588), Moose::Meta::Class=HASH(0x3183e08)) called at /home/sand/src/perl/repoperls/installed-perls/perl/v5.21.8-51-g47b62f6/a2da/lib/site_perl/5.21.9/x86_64-linux-thread-multi-ld/Moose/Util.pm line 172
Moose::Util::_apply_all_roles(Moose::Meta::Class=HASH(0x3183e08), undef, "Patterns::ChainOfResponsibility::Role::Handler") called at /home/sand/src/perl/repoperls/installed-perls/perl/v5.21.8-51-g47b62f6/a2da/lib/site_perl/5.21.9/x86_64-linux-thread-multi-ld/Moose/Util.pm line 114
Moose::Util::apply_all_roles(Moose::Meta::Class=HASH(0x3183e08), "Patterns::ChainOfResponsibility::Role::Handler") called at /home/sand/src/perl/repoperls/installed-perls/perl/v5.21.8-51-g47b62f6/a2da/lib/site_perl/5.21.9/x86_64-linux-thread-multi-ld/Moose.pm line 59
Moose::with(Moose::Meta::Class=HASH(0x3183e08), "Patterns::ChainOfResponsibility::Role::Handler") called at /home/sand/src/perl/repoperls/installed-perls/perl/v5.21.8-51-g47b62f6/a2da/lib/site_perl/5.21.9/x86_64-linux-thread-multi-ld/Moose/Exporter.pm line 419
Moose::with("Patterns::ChainOfResponsibility::Role::Handler") called at t/provider.t line 9
t/provider.t ..... ok
All tests successful.
Files=5, Tests=20, 2 wallclock secs ( 0.02 usr 0.01 sys + 1.78 cusr 0.08 csys = 1.89 CPU)
Result: PASS
------------------------------
PREREQUISITES
------------------------------
Prerequisite modules loaded:
requires:
Module Need Have
--------------------------- -------- ------------
Moose 1.21 2.1403
MooseX::Role::Parameterized 0.23 1.08
perl 5.008005 5.021009
Test::More 0.96 1.301001_097
build_requires:
Module Need Have
--------------------------- -------- ------------
ExtUtils::MakeMaker 6.42 7.04
Test::More 0.96 1.301001_097
configure_requires:
Module Need Have
--------------------------- -------- ------------
ExtUtils::MakeMaker 6.42 7.04
------------------------------
ENVIRONMENT AND OTHER CONTEXT
------------------------------
Environment variables:
AUTOMATED_TESTING = 1
LANG = en_US.UTF-8
LANGUAGE = en_US:en
PATH = /home/sand/bin:/usr/local/bin:/usr/bin:/bin:/usr/games:/usr/local/perl/bin:/usr/X11/bin:/sbin:/usr/sbin
PERL5LIB = /tmp/loop_over_bdir-3965-r_FKEV/FusionInventory-Agent-2.3.15-sB9lS_/blib/arch:/tmp/loop_over_bdir-3965-r_FKEV/FusionInventory-Agent-2.3.15-sB9lS_/blib/lib
PERL5OPT =
PERL5_CPANPLUS_IS_RUNNING = 32480
PERL5_CPAN_IS_RUNNING = 32480
PERL_MM_USE_DEFAULT = 1
SHELL = /usr/bin/zsh
TERM = screen
Perl special variables (and OS-specific diagnostics, for MSWin32):
$^X = /tmp/basesmoker-reloperl-nfgm/bin/perl
$UID/$EUID = 1005 / 1005
$GID = 1005 1005
$EGID = 1005 1005
Perl module toolchain versions installed:
Module Have
------------------- ------------
CPAN 2.05
CPAN::Meta 2.143240
Cwd 3.54
ExtUtils::CBuilder 0.280221
ExtUtils::Command 1.20
ExtUtils::Install 2.04
ExtUtils::MakeMaker 7.04
ExtUtils::Manifest 1.70
ExtUtils::ParseXS 3.27
File::Spec 3.53
JSON 2.90
JSON::PP 2.27300
Module::Build 0.4211
Module::Signature 0.73
Parse::CPAN::Meta 1.4414
Test::Harness 3.35
Test::More 1.301001_097
YAML 1.14
YAML::Syck 1.29
version 0.9912
--
Summary of my perl5 (revision 5 version 21 subversion 9) configuration:
Commit id: 47b62f63607d1af76ce720886fdaffbf5aab33c5
Platform:
osname=linux, osvers=3.16.0-4-amd64, archname=x86_64-linux-thread-multi-ld
uname='linux k83 3.16.0-4-amd64 #1 smp debian 3.16.7-ckt2-1 (2014-12-08) x86_64 gnulinux '
config_args='-Dprefix=/home/sand/src/perl/repoperls/installed-perls/perl/v5.21.8-51-g47b62f6/a2da -Dmyhostname=k83 -Dinstallusrbinperl=n -Uversiononly -Dusedevel -des -Ui_db -Duseithreads -Duselongdouble -DDEBUGGING=-g'
hint=recommended, useposix=true, d_sigaction=define
useithreads=define, usemultiplicity=define
use64bitint=define, use64bitall=define, uselongdouble=define
usemymalloc=n, bincompat5005=undef
Compiler:
cc='cc', ccflags ='-D_REENTRANT -D_GNU_SOURCE -fwrapv -fno-strict-aliasing -pipe -fstack-protector-strong -I/usr/local/include -D_LARGEFILE_SOURCE -D_FILE_OFFSET_BITS=64 -D_FORTIFY_SOURCE=2',
optimize='-O2 -g',
cppflags='-D_REENTRANT -D_GNU_SOURCE -fwrapv -fno-strict-aliasing -pipe -fstack-protector-strong -I/usr/local/include'
ccversion='', gccversion='4.9.2', gccosandvers=''
intsize=4, longsize=8, ptrsize=8, doublesize=8, byteorder=12345678, doublekind=3
d_longlong=define, longlongsize=8, d_longdbl=define, longdblsize=16, longdblkind=3
ivtype='long', ivsize=8, nvtype='long double', nvsize=16, Off_t='off_t', lseeksize=8
alignbytes=16, prototype=define
Linker and Libraries:
ld='cc', ldflags =' -fstack-protector-strong -L/usr/local/lib'
libpth=/usr/local/lib /usr/lib/gcc/x86_64-linux-gnu/4.9/include-fixed /usr/include/x86_64-linux-gnu /usr/lib /lib/x86_64-linux-gnu /lib/../lib /usr/lib/x86_64-linux-gnu /usr/lib/../lib /lib
libs=-lpthread -lnsl -lgdbm -ldb -ldl -lm -lcrypt -lutil -lc -lgdbm_compat
perllibs=-lpthread -lnsl -ldl -lm -lcrypt -lutil -lc
libc=libc-2.19.so, so=so, useshrplib=false, libperl=libperl.a
gnulibc_version='2.19'
Dynamic Linking:
dlsrc=dl_dlopen.xs, dlext=so, d_dlsymun=undef, ccdlflags='-Wl,-E'
cccdlflags='-fPIC', lddlflags='-shared -O2 -g -L/usr/local/lib -fstack-protector-strong'
Characteristics of this binary (from libperl):
Compile-time options: HAS_TIMES MULTIPLICITY PERLIO_LAYERS
PERL_DONT_CREATE_GVSV
PERL_HASH_FUNC_ONE_AT_A_TIME_HARD
PERL_IMPLICIT_CONTEXT PERL_MALLOC_WRAP
PERL_NEW_COPY_ON_WRITE PERL_PRESERVE_IVUV
PERL_USE_DEVEL USE_64_BIT_ALL USE_64_BIT_INT
USE_ITHREADS USE_LARGE_FILES USE_LOCALE
USE_LOCALE_COLLATE USE_LOCALE_CTYPE
USE_LOCALE_NUMERIC USE_LOCALE_TIME USE_LONG_DOUBLE
USE_PERLIO USE_PERL_ATOF USE_REENTRANT_API
Built under linux
Compiled at Jan 25 2015 07:18:09
%ENV:
PERL5LIB="/tmp/loop_over_bdir-3965-r_FKEV/FusionInventory-Agent-2.3.15-sB9lS_/blib/arch:/tmp/loop_over_bdir-3965-r_FKEV/FusionInventory-Agent-2.3.15-sB9lS_/blib/lib"
PERL5OPT=""
PERL5_CPANPLUS_IS_RUNNING="32480"
PERL5_CPAN_IS_RUNNING="32480"
PERL_MM_USE_DEFAULT="1"
@INC:
/tmp/loop_over_bdir-3965-r_FKEV/FusionInventory-Agent-2.3.15-sB9lS_/blib/arch
/tmp/loop_over_bdir-3965-r_FKEV/FusionInventory-Agent-2.3.15-sB9lS_/blib/lib
/home/sand/src/perl/repoperls/installed-perls/perl/v5.21.8-51-g47b62f6/a2da/lib/site_perl/5.21.9/x86_64-linux-thread-multi-ld
/home/sand/src/perl/repoperls/installed-perls/perl/v5.21.8-51-g47b62f6/a2da/lib/site_perl/5.21.9
/home/sand/src/perl/repoperls/installed-perls/perl/v5.21.8-51-g47b62f6/a2da/lib/5.21.9/x86_64-linux-thread-multi-ld
/home/sand/src/perl/repoperls/installed-perls/perl/v5.21.8-51-g47b62f6/a2da/lib/5.21.9
.