HTTP-Session2 v1.10 Perl 5 v5.43.4 OpenBSD.amd64-openbsd-thread-multi

Status
Pass
From
Carlos Guevara
Dist
HTTP-Session2 v1.10
Platform
Perl 5 v5.43.4 OpenBSD.amd64-openbsd-thread-multi
Date
2025-10-17 01:10:57
ID
2319d51e-aaf6-11f0-95fa-9c61dc5be76c
This distribution has been tested as part of the CPAN Testers
project, supporting the Perl programming language.  See
http://wiki.cpantesters.org/ for more information or email
questions to cpan-testers-discuss@perl.org


--
Dear Tokuhiro Matsuno'xmp,

This is a computer-generated report for HTTP-Session2-1.10
on perl 5.43.4, created by CPAN-Reporter-1.2020.

Thank you for uploading your work to CPAN.  Congratulations!
All tests were successful.

Sections of this report:

    * Tester comments
    * Program output
    * Prerequisites
    * Environment and other context

------------------------------
TESTER COMMENTS
------------------------------

Additional comments from tester:

this report is from an automated smoke testing program
and was not reviewed by a human for accuracy

------------------------------
PROGRAM OUTPUT
------------------------------

Output from './Build test':

t/00_compile.t .............. ok
Secret string too short at /home/cpan/.cpan/build/HTTP-Session2-1.10-0/blib/lib/HTTP/Session2/Base.pm line 79.
	HTTP::Session2::Base::__ANON__(HTTP::Session2::ServerStore=HASH(0xb9184223e98), "s3cret") called at t/01_server_side.t line 23
	main::__ANON__("client -> server: request without cookie", CODE(0xb9184223610)) called at t/01_server_side.t line 25
	main::__ANON__() called at /home/cpan/bin/perl/lib/5.43.4/Test/Builder.pm line 368
	eval {...} called at /home/cpan/bin/perl/lib/5.43.4/Test/Builder.pm line 368
	Test::Builder::subtest(Test::Builder=HASH(0xb91925ed988), "First request", CODE(0xb9237d9c688)) called at /home/cpan/bin/perl/lib/5.43.4/Test/More.pm line 831
	Test::More::subtest("First request", CODE(0xb9237d9c688)) called at t/01_server_side.t line 11
	main::scenario("First request", CODE(0xb9237d9c688)) called at t/01_server_side.t line 31
Secret string too short at /home/cpan/.cpan/build/HTTP-Session2-1.10-0/blib/lib/HTTP/Session2/Base.pm line 79.
	HTTP::Session2::Base::__ANON__(HTTP::Session2::ServerStore=HASH(0xb9184223220), "s3cret") called at t/01_server_side.t line 40
	main::__ANON__("client -> server: request without cookie", CODE(0xb918423a2b0)) called at t/01_server_side.t line 42
	main::__ANON__() called at /home/cpan/bin/perl/lib/5.43.4/Test/Builder.pm line 368
	eval {...} called at /home/cpan/bin/perl/lib/5.43.4/Test/Builder.pm line 368
	Test::Builder::subtest(Test::Builder=HASH(0xb91925ed988), "Store something without login", CODE(0xb91ab7844c0)) called at /home/cpan/bin/perl/lib/5.43.4/Test/More.pm line 831
	Test::More::subtest("Store something without login", CODE(0xb91ab7844c0)) called at t/01_server_side.t line 11
	main::scenario("Store something without login", CODE(0xb91ab7844c0)) called at t/01_server_side.t line 58
Secret string too short at /home/cpan/.cpan/build/HTTP-Session2-1.10-0/blib/lib/HTTP/Session2/Base.pm line 79.
	HTTP::Session2::Base::__ANON__(HTTP::Session2::ServerStore=HASH(0xb9184225358), "s3cret") called at t/01_server_side.t line 70
	main::__ANON__("client -> server: request without cookie", CODE(0xb91842234f0)) called at t/01_server_side.t line 72
	main::__ANON__() called at /home/cpan/bin/perl/lib/5.43.4/Test/Builder.pm line 368
	eval {...} called at /home/cpan/bin/perl/lib/5.43.4/Test/Builder.pm line 368
	Test::Builder::subtest(Test::Builder=HASH(0xb91925ed988), "Login", CODE(0xb91bed4d190)) called at /home/cpan/bin/perl/lib/5.43.4/Test/More.pm line 831
	Test::More::subtest("Login", CODE(0xb91bed4d190)) called at t/01_server_side.t line 11
	main::scenario("Login", CODE(0xb91bed4d190)) called at t/01_server_side.t line 96
Secret string too short at /home/cpan/.cpan/build/HTTP-Session2-1.10-0/blib/lib/HTTP/Session2/Base.pm line 79.
	HTTP::Session2::Base::__ANON__(HTTP::Session2::ServerStore=HASH(0xb918423af10), "s3cret") called at t/01_server_side.t line 108
	main::__ANON__("client -> server: request without cookie", CODE(0xb9184225178)) called at t/01_server_side.t line 110
	main::__ANON__() called at /home/cpan/bin/perl/lib/5.43.4/Test/Builder.pm line 368
	eval {...} called at /home/cpan/bin/perl/lib/5.43.4/Test/Builder.pm line 368
	Test::Builder::subtest(Test::Builder=HASH(0xb91925ed988), "In a login session", CODE(0xb91bed4d850)) called at /home/cpan/bin/perl/lib/5.43.4/Test/More.pm line 831
	Test::More::subtest("In a login session", CODE(0xb91bed4d850)) called at t/01_server_side.t line 11
	main::scenario("In a login session", CODE(0xb91bed4d850)) called at t/01_server_side.t line 124
Secret string too short at /home/cpan/.cpan/build/HTTP-Session2-1.10-0/blib/lib/HTTP/Session2/Base.pm line 79.
	HTTP::Session2::Base::__ANON__(HTTP::Session2::ServerStore=HASH(0xb918425c490), "s3cret") called at t/01_server_side.t line 136
	main::__ANON__("client -> server: request without cookie", CODE(0xb918423ae38)) called at t/01_server_side.t line 138
	main::__ANON__() called at /home/cpan/bin/perl/lib/5.43.4/Test/Builder.pm line 368
	eval {...} called at /home/cpan/bin/perl/lib/5.43.4/Test/Builder.pm line 368
	Test::Builder::subtest(Test::Builder=HASH(0xb91925ed988), "Invalid session id", CODE(0xb91bed4df58)) called at /home/cpan/bin/perl/lib/5.43.4/Test/More.pm line 831
	Test::More::subtest("Invalid session id", CODE(0xb91bed4df58)) called at t/01_server_side.t line 11
	main::scenario("Invalid session id", CODE(0xb91bed4df58)) called at t/01_server_side.t line 153
Secret string too short at /home/cpan/.cpan/build/HTTP-Session2-1.10-0/blib/lib/HTTP/Session2/Base.pm line 79.
	HTTP::Session2::Base::__ANON__(HTTP::Session2::ServerStore=HASH(0xb9184223370), "s3cret") called at t/01_server_side.t line 160
	main::__ANON__("client -> server: request without cookie", CODE(0xb9184254040)) called at t/01_server_side.t line 167
	main::__ANON__() called at /home/cpan/bin/perl/lib/5.43.4/Test/Builder.pm line 368
	eval {...} called at /home/cpan/bin/perl/lib/5.43.4/Test/Builder.pm line 368
	Test::Builder::subtest(Test::Builder=HASH(0xb91925ed988), "Logout", CODE(0xb91bed4f418)) called at /home/cpan/bin/perl/lib/5.43.4/Test/More.pm line 831
	Test::More::subtest("Logout", CODE(0xb91bed4f418)) called at t/01_server_side.t line 11
	main::scenario("Logout", CODE(0xb91bed4f418)) called at t/01_server_side.t line 182
t/01_server_side.t .......... ok
Secret string too short at /home/cpan/.cpan/build/HTTP-Session2-1.10-0/blib/lib/HTTP/Session2/Base.pm line 79.
	HTTP::Session2::Base::__ANON__(HTTP::Session2::ClientStore=HASH(0xdf2b73cc610), "s3cret") called at t/02_client_side.t line 17
	main::__ANON__("client -> server: request without cookie", CODE(0xdf2b73e7ca0)) called at t/02_client_side.t line 22
	main::__ANON__() called at /home/cpan/bin/perl/lib/5.43.4/Test/Builder.pm line 368
	eval {...} called at /home/cpan/bin/perl/lib/5.43.4/Test/Builder.pm line 368
	Test::Builder::subtest(Test::Builder=HASH(0xdf2b14179b8), "First request", CODE(0xdf1f24619a0)) called at /home/cpan/bin/perl/lib/5.43.4/Test/More.pm line 831
	Test::More::subtest("First request", CODE(0xdf1f24619a0)) called at t/02_client_side.t line 9
	main::scenario("First request", CODE(0xdf1f24619a0)) called at t/02_client_side.t line 28
Secret string too short at /home/cpan/.cpan/build/HTTP-Session2-1.10-0/blib/lib/HTTP/Session2/Base.pm line 79.
	HTTP::Session2::Base::__ANON__(HTTP::Session2::ClientStore=HASH(0xdf2b73e7af0), "s3cret") called at t/02_client_side.t line 33
	main::__ANON__("client -> server: request without cookie", CODE(0xdf2b73ef4c0)) called at t/02_client_side.t line 38
	main::__ANON__() called at /home/cpan/bin/perl/lib/5.43.4/Test/Builder.pm line 368
	eval {...} called at /home/cpan/bin/perl/lib/5.43.4/Test/Builder.pm line 368
	Test::Builder::subtest(Test::Builder=HASH(0xdf2b14179b8), "Store something without login", CODE(0xdf220708e80)) called at /home/cpan/bin/perl/lib/5.43.4/Test/More.pm line 831
	Test::More::subtest("Store something without login", CODE(0xdf220708e80)) called at t/02_client_side.t line 9
	main::scenario("Store something without login", CODE(0xdf220708e80)) called at t/02_client_side.t line 54
Do not use HTTP::Session2::ClientStore. Use HTTP::Session2::ServerStore or HTTP::Session2::ClientStore2 instead. at /home/cpan/.cpan/build/HTTP-Session2-1.10-0/blib/lib/HTTP/Session2/ClientStore.pm line 25.
Secret string too short at /home/cpan/.cpan/build/HTTP-Session2-1.10-0/blib/lib/HTTP/Session2/Base.pm line 79.
	HTTP::Session2::Base::__ANON__(HTTP::Session2::ClientStore=HASH(0xdf2b73f5760), "s3cret") called at t/02_client_side.t line 60
	main::__ANON__("client -> server: request without cookie", CODE(0xdf2b73cc250)) called at t/02_client_side.t line 66
	main::__ANON__() called at /home/cpan/bin/perl/lib/5.43.4/Test/Builder.pm line 368
	eval {...} called at /home/cpan/bin/perl/lib/5.43.4/Test/Builder.pm line 368
	Test::Builder::subtest(Test::Builder=HASH(0xdf2b14179b8), "Login", CODE(0xdf2b73ca220)) called at /home/cpan/bin/perl/lib/5.43.4/Test/More.pm line 831
	Test::More::subtest("Login", CODE(0xdf2b73ca220)) called at t/02_client_side.t line 9
	main::scenario("Login", CODE(0xdf2b73ca220)) called at t/02_client_side.t line 86
Do not use HTTP::Session2::ClientStore. Use HTTP::Session2::ServerStore or HTTP::Session2::ClientStore2 instead. at /home/cpan/.cpan/build/HTTP-Session2-1.10-0/blib/lib/HTTP/Session2/ClientStore.pm line 35.
Do not use HTTP::Session2::ClientStore. Use HTTP::Session2::ServerStore or HTTP::Session2::ClientStore2 instead. at /home/cpan/.cpan/build/HTTP-Session2-1.10-0/blib/lib/HTTP/Session2/ClientStore.pm line 25.
Secret string too short at /home/cpan/.cpan/build/HTTP-Session2-1.10-0/blib/lib/HTTP/Session2/Base.pm line 79.
	HTTP::Session2::Base::__ANON__(HTTP::Session2::ClientStore=HASH(0xdf2b73f5b50), "s3cret") called at t/02_client_side.t line 92
	main::__ANON__("client -> server: request without cookie", CODE(0xdf2b73f5e68)) called at t/02_client_side.t line 98
	main::__ANON__() called at /home/cpan/bin/perl/lib/5.43.4/Test/Builder.pm line 368
	eval {...} called at /home/cpan/bin/perl/lib/5.43.4/Test/Builder.pm line 368
	Test::Builder::subtest(Test::Builder=HASH(0xdf2b14179b8), "In a login session", CODE(0xdf2b73ca6e8)) called at /home/cpan/bin/perl/lib/5.43.4/Test/More.pm line 831
	Test::More::subtest("In a login session", CODE(0xdf2b73ca6e8)) called at t/02_client_side.t line 9
	main::scenario("In a login session", CODE(0xdf2b73ca6e8)) called at t/02_client_side.t line 107
Do not use HTTP::Session2::ClientStore. Use HTTP::Session2::ServerStore or HTTP::Session2::ClientStore2 instead. at /home/cpan/.cpan/build/HTTP-Session2-1.10-0/blib/lib/HTTP/Session2/ClientStore.pm line 35.
Do not use HTTP::Session2::ClientStore. Use HTTP::Session2::ServerStore or HTTP::Session2::ClientStore2 instead. at /home/cpan/.cpan/build/HTTP-Session2-1.10-0/blib/lib/HTTP/Session2/ClientStore.pm line 25.
Secret string too short at /home/cpan/.cpan/build/HTTP-Session2-1.10-0/blib/lib/HTTP/Session2/Base.pm line 79.
	HTTP::Session2::Base::__ANON__(HTTP::Session2::ClientStore=HASH(0xdf2b73e7898), "s3cret") called at t/02_client_side.t line 112
	main::__ANON__("client -> server: request without cookie", CODE(0xdf2b73ccee0)) called at t/02_client_side.t line 118
	main::__ANON__() called at /home/cpan/bin/perl/lib/5.43.4/Test/Builder.pm line 368
	eval {...} called at /home/cpan/bin/perl/lib/5.43.4/Test/Builder.pm line 368
	Test::Builder::subtest(Test::Builder=HASH(0xdf2b14179b8), "Logout", CODE(0xdf2b73cabb0)) called at /home/cpan/bin/perl/lib/5.43.4/Test/More.pm line 831
	Test::More::subtest("Logout", CODE(0xdf2b73cabb0)) called at t/02_client_side.t line 9
	main::scenario("Logout", CODE(0xdf2b73cabb0)) called at t/02_client_side.t line 131
t/02_client_side.t .......... ok
Secret string too short at /home/cpan/.cpan/build/HTTP-Session2-1.10-0/blib/lib/HTTP/Session2/Base.pm line 79.
	HTTP::Session2::Base::__ANON__(HTTP::Session2::ServerStore=HASH(0x4e073ba1df0), "s3cret") called at t/03_mech.t line 121
	main::server_session(HASH(0x4e004474a78)) called at t/03_mech.t line 17
	main::__ANON__(HASH(0x4e004474a78)) called at /home/cpan/bin/perl/lib/site_perl/5.43.4/Test/WWW/Mechanize/PSGI.pm line 46
	Test::WWW::Mechanize::PSGI::try {...} () called at /home/cpan/bin/perl/lib/site_perl/5.43.4/Try/Tiny.pm line 102
	eval {...} called at /home/cpan/bin/perl/lib/site_perl/5.43.4/Try/Tiny.pm line 93
	Try::Tiny::try(CODE(0x4e073ba1b38), Try::Tiny::Catch=REF(0x4e05af50df0)) called at /home/cpan/bin/perl/lib/site_perl/5.43.4/Test/WWW/Mechanize/PSGI.pm line 53
	Test::WWW::Mechanize::PSGI::simple_request(Test::WWW::Mechanize::PSGI=HASH(0x4e05af50a60), HTTP::Request=HASH(0x4e0391c33a0), undef, undef) called at /home/cpan/bin/perl/lib/site_perl/5.43.4/LWP/UserAgent.pm line 310
	LWP::UserAgent::request(Test::WWW::Mechanize::PSGI=HASH(0x4e05af50a60), HTTP::Request=HASH(0x4e0391c33a0)) called at /home/cpan/bin/perl/lib/site_perl/5.43.4/WWW/Mechanize.pm line 1699
	WWW::Mechanize::_make_request(Test::WWW::Mechanize::PSGI=HASH(0x4e05af50a60), HTTP::Request=HASH(0x4e0391c33a0)) called at /home/cpan/bin/perl/lib/site_perl/5.43.4/WWW/Mechanize.pm line 1534
	WWW::Mechanize::request(Test::WWW::Mechanize::PSGI=HASH(0x4e05af50a60), HTTP::Request=HASH(0x4e0391c33a0)) called at /home/cpan/bin/perl/lib/site_perl/5.43.4/LWP/UserAgent.pm line 454
	LWP::UserAgent::get(Test::WWW::Mechanize::PSGI=HASH(0x4e05af50a60), "/") called at /home/cpan/bin/perl/lib/site_perl/5.43.4/WWW/Mechanize.pm line 124
	WWW::Mechanize::get(Test::WWW::Mechanize::PSGI=HASH(0x4e05af50a60), "/") called at /home/cpan/bin/perl/lib/site_perl/5.43.4/Test/WWW/Mechanize.pm line 192
	Test::WWW::Mechanize::get_ok(Test::WWW::Mechanize::PSGI=HASH(0x4e05af50a60), "/") called at t/03_mech.t line 74
Secret string too short at /home/cpan/.cpan/build/HTTP-Session2-1.10-0/blib/lib/HTTP/Session2/Base.pm line 79.
	HTTP::Session2::Base::__ANON__(HTTP::Session2::ServerStore=HASH(0x4e073b80a30), "s3cret") called at t/03_mech.t line 121
	main::server_session(HASH(0x4dfe79d3e38)) called at t/03_mech.t line 17
	main::__ANON__(HASH(0x4dfe79d3e38)) called at /home/cpan/bin/perl/lib/site_perl/5.43.4/Test/WWW/Mechanize/PSGI.pm line 46
	Test::WWW::Mechanize::PSGI::try {...} () called at /home/cpan/bin/perl/lib/site_perl/5.43.4/Try/Tiny.pm line 102
	eval {...} called at /home/cpan/bin/perl/lib/site_perl/5.43.4/Try/Tiny.pm line 93
	Try::Tiny::try(CODE(0x4e073b805b0), Try::Tiny::Catch=REF(0x4e073ba1bb0)) called at /home/cpan/bin/perl/lib/site_perl/5.43.4/Test/WWW/Mechanize/PSGI.pm line 53
	Test::WWW::Mechanize::PSGI::simple_request(Test::WWW::Mechanize::PSGI=HASH(0x4e05af50a60), HTTP::Request=HASH(0x4e073ba1d18), undef, undef) called at /home/cpan/bin/perl/lib/site_perl/5.43.4/LWP/UserAgent.pm line 310
	LWP::UserAgent::request(Test::WWW::Mechanize::PSGI=HASH(0x4e05af50a60), HTTP::Request=HASH(0x4e073ba1d18)) called at /home/cpan/bin/perl/lib/site_perl/5.43.4/WWW/Mechanize.pm line 1699
	WWW::Mechanize::_make_request(Test::WWW::Mechanize::PSGI=HASH(0x4e05af50a60), HTTP::Request=HASH(0x4e073ba1d18)) called at /home/cpan/bin/perl/lib/site_perl/5.43.4/WWW/Mechanize.pm line 1534
	WWW::Mechanize::request(Test::WWW::Mechanize::PSGI=HASH(0x4e05af50a60), HTTP::Request=HASH(0x4e073ba1d18)) called at /home/cpan/bin/perl/lib/site_perl/5.43.4/LWP/UserAgent.pm line 500
	LWP::UserAgent::post(Test::WWW::Mechanize::PSGI=HASH(0x4e05af50a60), "http://localhost/wishlist?foo", HASH(0x4dfd53e9820)) called at /home/cpan/bin/perl/lib/site_perl/5.43.4/WWW/Mechanize.pm line 136
	WWW::Mechanize::post(Test::WWW::Mechanize::PSGI=HASH(0x4e05af50a60), "/wishlist?foo", HASH(0x4dfd53e9820)) called at /home/cpan/bin/perl/lib/site_perl/5.43.4/Test/WWW/Mechanize.pm line 321
	Test::WWW::Mechanize::post_ok(Test::WWW::Mechanize::PSGI=HASH(0x4e05af50a60), "/wishlist?foo") called at t/03_mech.t line 75
Secret string too short at /home/cpan/.cpan/build/HTTP-Session2-1.10-0/blib/lib/HTTP/Session2/Base.pm line 79.
	HTTP::Session2::Base::__ANON__(HTTP::Session2::ServerStore=HASH(0x4e073b80628), "s3cret") called at t/03_mech.t line 121
	main::server_session(HASH(0x4e073ba1dc0)) called at t/03_mech.t line 17
	main::__ANON__(HASH(0x4e073ba1dc0)) called at /home/cpan/bin/perl/lib/site_perl/5.43.4/Test/WWW/Mechanize/PSGI.pm line 46
	Test::WWW::Mechanize::PSGI::try {...} () called at /home/cpan/bin/perl/lib/site_perl/5.43.4/Try/Tiny.pm line 102
	eval {...} called at /home/cpan/bin/perl/lib/site_perl/5.43.4/Try/Tiny.pm line 93
	Try::Tiny::try(CODE(0x4e073b806d0), Try::Tiny::Catch=REF(0x4e073b808f8)) called at /home/cpan/bin/perl/lib/site_perl/5.43.4/Test/WWW/Mechanize/PSGI.pm line 53
	Test::WWW::Mechanize::PSGI::simple_request(Test::WWW::Mechanize::PSGI=HASH(0x4e05af50a60), HTTP::Request=HASH(0x4e05af5eca0), undef, undef) called at /home/cpan/bin/perl/lib/site_perl/5.43.4/LWP/UserAgent.pm line 310
	LWP::UserAgent::request(Test::WWW::Mechanize::PSGI=HASH(0x4e05af50a60), HTTP::Request=HASH(0x4e05af5eca0)) called at /home/cpan/bin/perl/lib/site_perl/5.43.4/WWW/Mechanize.pm line 1699
	WWW::Mechanize::_make_request(Test::WWW::Mechanize::PSGI=HASH(0x4e05af50a60), HTTP::Request=HASH(0x4e05af5eca0)) called at /home/cpan/bin/perl/lib/site_perl/5.43.4/WWW/Mechanize.pm line 1534
	WWW::Mechanize::request(Test::WWW::Mechanize::PSGI=HASH(0x4e05af50a60), HTTP::Request=HASH(0x4e05af5eca0)) called at /home/cpan/bin/perl/lib/site_perl/5.43.4/LWP/UserAgent.pm line 454
	LWP::UserAgent::get(Test::WWW::Mechanize::PSGI=HASH(0x4e05af50a60), "http://localhost/wishlist") called at /home/cpan/bin/perl/lib/site_perl/5.43.4/WWW/Mechanize.pm line 124
	WWW::Mechanize::get(Test::WWW::Mechanize::PSGI=HASH(0x4e05af50a60), "/wishlist") called at /home/cpan/bin/perl/lib/site_perl/5.43.4/Test/WWW/Mechanize.pm line 192
	Test::WWW::Mechanize::get_ok(Test::WWW::Mechanize::PSGI=HASH(0x4e05af50a60), "/wishlist") called at t/03_mech.t line 76
Secret string too short at /home/cpan/.cpan/build/HTTP-Session2-1.10-0/blib/lib/HTTP/Session2/Base.pm line 79.
	HTTP::Session2::Base::__ANON__(HTTP::Session2::ServerStore=HASH(0x4e073bbb820), "s3cret") called at t/03_mech.t line 121
	main::server_session(HASH(0x4e073b80658)) called at t/03_mech.t line 17
	main::__ANON__(HASH(0x4e073b80658)) called at /home/cpan/bin/perl/lib/site_perl/5.43.4/Test/WWW/Mechanize/PSGI.pm line 46
	Test::WWW::Mechanize::PSGI::try {...} () called at /home/cpan/bin/perl/lib/site_perl/5.43.4/Try/Tiny.pm line 102
	eval {...} called at /home/cpan/bin/perl/lib/site_perl/5.43.4/Try/Tiny.pm line 93
	Try::Tiny::try(CODE(0x4e073bbb460), Try::Tiny::Catch=REF(0x4e073bbb358)) called at /home/cpan/bin/perl/lib/site_perl/5.43.4/Test/WWW/Mechanize/PSGI.pm line 53
	Test::WWW::Mechanize::PSGI::simple_request(Test::WWW::Mechanize::PSGI=HASH(0x4e05af50a60), HTTP::Request=HASH(0x4e073bbb478), undef, undef) called at /home/cpan/bin/perl/lib/site_perl/5.43.4/LWP/UserAgent.pm line 310
	LWP::UserAgent::request(Test::WWW::Mechanize::PSGI=HASH(0x4e05af50a60), HTTP::Request=HASH(0x4e073bbb478)) called at /home/cpan/bin/perl/lib/site_perl/5.43.4/WWW/Mechanize.pm line 1699
	WWW::Mechanize::_make_request(Test::WWW::Mechanize::PSGI=HASH(0x4e05af50a60), HTTP::Request=HASH(0x4e073bbb478)) called at /home/cpan/bin/perl/lib/site_perl/5.43.4/WWW/Mechanize.pm line 1534
	WWW::Mechanize::request(Test::WWW::Mechanize::PSGI=HASH(0x4e05af50a60), HTTP::Request=HASH(0x4e073bbb478)) called at /home/cpan/bin/perl/lib/site_perl/5.43.4/LWP/UserAgent.pm line 500
	LWP::UserAgent::post(Test::WWW::Mechanize::PSGI=HASH(0x4e05af50a60), "http://localhost/wishlist?bar") called at /home/cpan/bin/perl/lib/site_perl/5.43.4/WWW/Mechanize.pm line 136
	WWW::Mechanize::post(Test::WWW::Mechanize::PSGI=HASH(0x4e05af50a60), "/wishlist?bar") called at t/03_mech.t line 78
Secret string too short at /home/cpan/.cpan/build/HTTP-Session2-1.10-0/blib/lib/HTTP/Session2/Base.pm line 79.
	HTTP::Session2::Base::__ANON__(HTTP::Session2::ServerStore=HASH(0x4e073bbbd48), "s3cret") called at t/03_mech.t line 121
	main::server_session(HASH(0x4e073bbb778)) called at t/03_mech.t line 17
	main::__ANON__(HASH(0x4e073bbb778)) called at /home/cpan/bin/perl/lib/site_perl/5.43.4/Test/WWW/Mechanize/PSGI.pm line 46
	Test::WWW::Mechanize::PSGI::try {...} () called at /home/cpan/bin/perl/lib/site_perl/5.43.4/Try/Tiny.pm line 102
	eval {...} called at /home/cpan/bin/perl/lib/site_perl/5.43.4/Try/Tiny.pm line 93
	Try::Tiny::try(CODE(0x4e073bbb898), Try::Tiny::Catch=REF(0x4e073bbb6d0)) called at /home/cpan/bin/perl/lib/site_perl/5.43.4/Test/WWW/Mechanize/PSGI.pm line 53
	Test::WWW::Mechanize::PSGI::simple_request(Test::WWW::Mechanize::PSGI=HASH(0x4e05af50a60), HTTP::Request=HASH(0x4e073b80ca0), undef, undef) called at /home/cpan/bin/perl/lib/site_perl/5.43.4/LWP/UserAgent.pm line 310
	LWP::UserAgent::request(Test::WWW::Mechanize::PSGI=HASH(0x4e05af50a60), HTTP::Request=HASH(0x4e073b80ca0)) called at /home/cpan/bin/perl/lib/site_perl/5.43.4/WWW/Mechanize.pm line 1699
	WWW::Mechanize::_make_request(Test::WWW::Mechanize::PSGI=HASH(0x4e05af50a60), HTTP::Request=HASH(0x4e073b80ca0)) called at /home/cpan/bin/perl/lib/site_perl/5.43.4/WWW/Mechanize.pm line 1534
	WWW::Mechanize::request(Test::WWW::Mechanize::PSGI=HASH(0x4e05af50a60), HTTP::Request=HASH(0x4e073b80ca0)) called at /home/cpan/bin/perl/lib/site_perl/5.43.4/LWP/UserAgent.pm line 500
	LWP::UserAgent::post(Test::WWW::Mechanize::PSGI=HASH(0x4e05af50a60), "http://localhost/wishlist?bar", HASH(0x4dfd53e9820)) called at /home/cpan/bin/perl/lib/site_perl/5.43.4/WWW/Mechanize.pm line 136
	WWW::Mechanize::post(Test::WWW::Mechanize::PSGI=HASH(0x4e05af50a60), "/wishlist?bar", HASH(0x4dfd53e9820)) called at /home/cpan/bin/perl/lib/site_perl/5.43.4/Test/WWW/Mechanize.pm line 321
	Test::WWW::Mechanize::post_ok(Test::WWW::Mechanize::PSGI=HASH(0x4e05af50a60), "/wishlist?bar") called at t/03_mech.t line 81
Secret string too short at /home/cpan/.cpan/build/HTTP-Session2-1.10-0/blib/lib/HTTP/Session2/Base.pm line 79.
	HTTP::Session2::Base::__ANON__(HTTP::Session2::ServerStore=HASH(0x4e073bbbf58), "s3cret") called at t/03_mech.t line 121
	main::server_session(HASH(0x4e073bb9250)) called at t/03_mech.t line 17
	main::__ANON__(HASH(0x4e073bb9250)) called at /home/cpan/bin/perl/lib/site_perl/5.43.4/Test/WWW/Mechanize/PSGI.pm line 46
	Test::WWW::Mechanize::PSGI::try {...} () called at /home/cpan/bin/perl/lib/site_perl/5.43.4/Try/Tiny.pm line 102
	eval {...} called at /home/cpan/bin/perl/lib/site_perl/5.43.4/Try/Tiny.pm line 93
	Try::Tiny::try(CODE(0x4e073bbb0a0), Try::Tiny::Catch=REF(0x4e073bb9148)) called at /home/cpan/bin/perl/lib/site_perl/5.43.4/Test/WWW/Mechanize/PSGI.pm line 53
	Test::WWW::Mechanize::PSGI::simple_request(Test::WWW::Mechanize::PSGI=HASH(0x4e05af50a60), HTTP::Request=HASH(0x4e073b80fd0), undef, undef) called at /home/cpan/bin/perl/lib/site_perl/5.43.4/LWP/UserAgent.pm line 310
	LWP::UserAgent::request(Test::WWW::Mechanize::PSGI=HASH(0x4e05af50a60), HTTP::Request=HASH(0x4e073b80fd0)) called at /home/cpan/bin/perl/lib/site_perl/5.43.4/WWW/Mechanize.pm line 1699
	WWW::Mechanize::_make_request(Test::WWW::Mechanize::PSGI=HASH(0x4e05af50a60), HTTP::Request=HASH(0x4e073b80fd0)) called at /home/cpan/bin/perl/lib/site_perl/5.43.4/WWW/Mechanize.pm line 1534
	WWW::Mechanize::request(Test::WWW::Mechanize::PSGI=HASH(0x4e05af50a60), HTTP::Request=HASH(0x4e073b80fd0)) called at /home/cpan/bin/perl/lib/site_perl/5.43.4/LWP/UserAgent.pm line 454
	LWP::UserAgent::get(Test::WWW::Mechanize::PSGI=HASH(0x4e05af50a60), "http://localhost/wishlist") called at /home/cpan/bin/perl/lib/site_perl/5.43.4/WWW/Mechanize.pm line 124
	WWW::Mechanize::get(Test::WWW::Mechanize::PSGI=HASH(0x4e05af50a60), "/wishlist") called at /home/cpan/bin/perl/lib/site_perl/5.43.4/Test/WWW/Mechanize.pm line 192
	Test::WWW::Mechanize::get_ok(Test::WWW::Mechanize::PSGI=HASH(0x4e05af50a60), "/wishlist") called at t/03_mech.t line 82
Secret string too short at /home/cpan/.cpan/build/HTTP-Session2-1.10-0/blib/lib/HTTP/Session2/Base.pm line 79.
	HTTP::Session2::Base::__ANON__(HTTP::Session2::ServerStore=HASH(0x4e073bb9820), "s3cret") called at t/03_mech.t line 121
	main::server_session(HASH(0x4e073b80c28)) called at t/03_mech.t line 17
	main::__ANON__(HASH(0x4e073b80c28)) called at /home/cpan/bin/perl/lib/site_perl/5.43.4/Test/WWW/Mechanize/PSGI.pm line 46
	Test::WWW::Mechanize::PSGI::try {...} () called at /home/cpan/bin/perl/lib/site_perl/5.43.4/Try/Tiny.pm line 102
	eval {...} called at /home/cpan/bin/perl/lib/site_perl/5.43.4/Try/Tiny.pm line 93
	Try::Tiny::try(CODE(0x4e073bb9178), Try::Tiny::Catch=REF(0x4e073bbb5c8)) called at /home/cpan/bin/perl/lib/site_perl/5.43.4/Test/WWW/Mechanize/PSGI.pm line 53
	Test::WWW::Mechanize::PSGI::simple_request(Test::WWW::Mechanize::PSGI=HASH(0x4e05af50a60), HTTP::Request=HASH(0x4e073bbb928), undef, undef) called at /home/cpan/bin/perl/lib/site_perl/5.43.4/LWP/UserAgent.pm line 310
	LWP::UserAgent::request(Test::WWW::Mechanize::PSGI=HASH(0x4e05af50a60), HTTP::Request=HASH(0x4e073bbb928)) called at /home/cpan/bin/perl/lib/site_perl/5.43.4/WWW/Mechanize.pm line 1699
	WWW::Mechanize::_make_request(Test::WWW::Mechanize::PSGI=HASH(0x4e05af50a60), HTTP::Request=HASH(0x4e073bbb928)) called at /home/cpan/bin/perl/lib/site_perl/5.43.4/WWW/Mechanize.pm line 1534
	WWW::Mechanize::request(Test::WWW::Mechanize::PSGI=HASH(0x4e05af50a60), HTTP::Request=HASH(0x4e073bbb928)) called at /home/cpan/bin/perl/lib/site_perl/5.43.4/LWP/UserAgent.pm line 500
	LWP::UserAgent::post(Test::WWW::Mechanize::PSGI=HASH(0x4e05af50a60), "http://localhost/account/login?john", HASH(0x4dfd53e9820)) called at /home/cpan/bin/perl/lib/site_perl/5.43.4/WWW/Mechanize.pm line 136
	WWW::Mechanize::post(Test::WWW::Mechanize::PSGI=HASH(0x4e05af50a60), "/account/login?john", HASH(0x4dfd53e9820)) called at /home/cpan/bin/perl/lib/site_perl/5.43.4/Test/WWW/Mechanize.pm line 321
	Test::WWW::Mechanize::post_ok(Test::WWW::Mechanize::PSGI=HASH(0x4e05af50a60), "/account/login?john") called at t/03_mech.t line 84
Secret string too short at /home/cpan/.cpan/build/HTTP-Session2-1.10-0/blib/lib/HTTP/Session2/Base.pm line 79.
	HTTP::Session2::Base::__ANON__(HTTP::Session2::ServerStore=HASH(0x4e073bb9af0), "s3cret") called at t/03_mech.t line 121
	main::server_session(HASH(0x4e073bb9c10)) called at t/03_mech.t line 17
	main::__ANON__(HASH(0x4e073bb9c10)) called at /home/cpan/bin/perl/lib/site_perl/5.43.4/Test/WWW/Mechanize/PSGI.pm line 46
	Test::WWW::Mechanize::PSGI::try {...} () called at /home/cpan/bin/perl/lib/site_perl/5.43.4/Try/Tiny.pm line 102
	eval {...} called at /home/cpan/bin/perl/lib/site_perl/5.43.4/Try/Tiny.pm line 93
	Try::Tiny::try(CODE(0x4e073bb9880), Try::Tiny::Catch=REF(0x4e073bb9670)) called at /home/cpan/bin/perl/lib/site_perl/5.43.4/Test/WWW/Mechanize/PSGI.pm line 53
	Test::WWW::Mechanize::PSGI::simple_request(Test::WWW::Mechanize::PSGI=HASH(0x4e05af50a60), HTTP::Request=HASH(0x4e073ba1a00), undef, undef) called at /home/cpan/bin/perl/lib/site_perl/5.43.4/LWP/UserAgent.pm line 310
	LWP::UserAgent::request(Test::WWW::Mechanize::PSGI=HASH(0x4e05af50a60), HTTP::Request=HASH(0x4e073ba1a00)) called at /home/cpan/bin/perl/lib/site_perl/5.43.4/WWW/Mechanize.pm line 1699
	WWW::Mechanize::_make_request(Test::WWW::Mechanize::PSGI=HASH(0x4e05af50a60), HTTP::Request=HASH(0x4e073ba1a00)) called at /home/cpan/bin/perl/lib/site_perl/5.43.4/WWW/Mechanize.pm line 1534
	WWW::Mechanize::request(Test::WWW::Mechanize::PSGI=HASH(0x4e05af50a60), HTTP::Request=HASH(0x4e073ba1a00)) called at /home/cpan/bin/perl/lib/site_perl/5.43.4/LWP/UserAgent.pm line 454
	LWP::UserAgent::get(Test::WWW::Mechanize::PSGI=HASH(0x4e05af50a60), "http://localhost/wishlist") called at /home/cpan/bin/perl/lib/site_perl/5.43.4/WWW/Mechanize.pm line 124
	WWW::Mechanize::get(Test::WWW::Mechanize::PSGI=HASH(0x4e05af50a60), "/wishlist") called at /home/cpan/bin/perl/lib/site_perl/5.43.4/Test/WWW/Mechanize.pm line 192
	Test::WWW::Mechanize::get_ok(Test::WWW::Mechanize::PSGI=HASH(0x4e05af50a60), "/wishlist", "Wishlist is still available") called at t/03_mech.t line 85
Secret string too short at /home/cpan/.cpan/build/HTTP-Session2-1.10-0/blib/lib/HTTP/Session2/Base.pm line 79.
	HTTP::Session2::Base::__ANON__(HTTP::Session2::ServerStore=HASH(0x4e073bb9f40), "s3cret") called at t/03_mech.t line 121
	main::server_session(HASH(0x4e073bb9cb8)) called at t/03_mech.t line 17
	main::__ANON__(HASH(0x4e073bb9cb8)) called at /home/cpan/bin/perl/lib/site_perl/5.43.4/Test/WWW/Mechanize/PSGI.pm line 46
	Test::WWW::Mechanize::PSGI::try {...} () called at /home/cpan/bin/perl/lib/site_perl/5.43.4/Try/Tiny.pm line 102
	eval {...} called at /home/cpan/bin/perl/lib/site_perl/5.43.4/Try/Tiny.pm line 93
	Try::Tiny::try(CODE(0x4e073bbb5f8), Try::Tiny::Catch=REF(0x4e073bb9a78)) called at /home/cpan/bin/perl/lib/site_perl/5.43.4/Test/WWW/Mechanize/PSGI.pm line 53
	Test::WWW::Mechanize::PSGI::simple_request(Test::WWW::Mechanize::PSGI=HASH(0x4e05af50a60), HTTP::Request=HASH(0x4e073bb9580), undef, undef) called at /home/cpan/bin/perl/lib/site_perl/5.43.4/LWP/UserAgent.pm line 310
	LWP::UserAgent::request(Test::WWW::Mechanize::PSGI=HASH(0x4e05af50a60), HTTP::Request=HASH(0x4e073bb9580)) called at /home/cpan/bin/perl/lib/site_perl/5.43.4/WWW/Mechanize.pm line 1699
	WWW::Mechanize::_make_request(Test::WWW::Mechanize::PSGI=HASH(0x4e05af50a60), HTTP::Request=HASH(0x4e073bb9580)) called at /home/cpan/bin/perl/lib/site_perl/5.43.4/WWW/Mechanize.pm line 1534
	WWW::Mechanize::request(Test::WWW::Mechanize::PSGI=HASH(0x4e05af50a60), HTTP::Request=HASH(0x4e073bb9580)) called at /home/cpan/bin/perl/lib/site_perl/5.43.4/LWP/UserAgent.pm line 500
	LWP::UserAgent::post(Test::WWW::Mechanize::PSGI=HASH(0x4e05af50a60), "http://localhost/wishlist?baz") called at /home/cpan/bin/perl/lib/site_perl/5.43.4/WWW/Mechanize.pm line 136
	WWW::Mechanize::post(Test::WWW::Mechanize::PSGI=HASH(0x4e05af50a60), "/wishlist?baz") called at t/03_mech.t line 87
Secret string too short at /home/cpan/.cpan/build/HTTP-Session2-1.10-0/blib/lib/HTTP/Session2/Base.pm line 79.
	HTTP::Session2::Base::__ANON__(HTTP::Session2::ServerStore=HASH(0x4e073bb9b38), "s3cret") called at t/03_mech.t line 121
	main::server_session(HASH(0x4dfb000e3e8)) called at t/03_mech.t line 17
	main::__ANON__(HASH(0x4dfb000e3e8)) called at /home/cpan/bin/perl/lib/site_perl/5.43.4/Test/WWW/Mechanize/PSGI.pm line 46
	Test::WWW::Mechanize::PSGI::try {...} () called at /home/cpan/bin/perl/lib/site_perl/5.43.4/Try/Tiny.pm line 102
	eval {...} called at /home/cpan/bin/perl/lib/site_perl/5.43.4/Try/Tiny.pm line 93
	Try::Tiny::try(CODE(0x4e073bb9e20), Try::Tiny::Catch=REF(0x4e073bb9fe8)) called at /home/cpan/bin/perl/lib/site_perl/5.43.4/Test/WWW/Mechanize/PSGI.pm line 53
	Test::WWW::Mechanize::PSGI::simple_request(Test::WWW::Mechanize::PSGI=HASH(0x4e05af50a60), HTTP::Request=HASH(0x4e073b80b08), undef, undef) called at /home/cpan/bin/perl/lib/site_perl/5.43.4/LWP/UserAgent.pm line 310
	LWP::UserAgent::request(Test::WWW::Mechanize::PSGI=HASH(0x4e05af50a60), HTTP::Request=HASH(0x4e073b80b08)) called at /home/cpan/bin/perl/lib/site_perl/5.43.4/WWW/Mechanize.pm line 1699
	WWW::Mechanize::_make_request(Test::WWW::Mechanize::PSGI=HASH(0x4e05af50a60), HTTP::Request=HASH(0x4e073b80b08)) called at /home/cpan/bin/perl/lib/site_perl/5.43.4/WWW/Mechanize.pm line 1534
	WWW::Mechanize::request(Test::WWW::Mechanize::PSGI=HASH(0x4e05af50a60), HTTP::Request=HASH(0x4e073b80b08)) called at /home/cpan/bin/perl/lib/site_perl/5.43.4/LWP/UserAgent.pm line 500
	LWP::UserAgent::post(Test::WWW::Mechanize::PSGI=HASH(0x4e05af50a60), "http://localhost/wishlist?baz", HASH(0x4dfd53e9820)) called at /home/cpan/bin/perl/lib/site_perl/5.43.4/WWW/Mechanize.pm line 136
	WWW::Mechanize::post(Test::WWW::Mechanize::PSGI=HASH(0x4e05af50a60), "/wishlist?baz", HASH(0x4dfd53e9820)) called at /home/cpan/bin/perl/lib/site_perl/5.43.4/Test/WWW/Mechanize.pm line 321
	Test::WWW::Mechanize::post_ok(Test::WWW::Mechanize::PSGI=HASH(0x4e05af50a60), "/wishlist?baz") called at t/03_mech.t line 90
Secret string too short at /home/cpan/.cpan/build/HTTP-Session2-1.10-0/blib/lib/HTTP/Session2/Base.pm line 79.
	HTTP::Session2::Base::__ANON__(HTTP::Session2::ServerStore=HASH(0x4dfb000e910), "s3cret") called at t/03_mech.t line 121
	main::server_session(HASH(0x4dfb000e418)) called at t/03_mech.t line 17
	main::__ANON__(HASH(0x4dfb000e418)) called at /home/cpan/bin/perl/lib/site_perl/5.43.4/Test/WWW/Mechanize/PSGI.pm line 46
	Test::WWW::Mechanize::PSGI::try {...} () called at /home/cpan/bin/perl/lib/site_perl/5.43.4/Try/Tiny.pm line 102
	eval {...} called at /home/cpan/bin/perl/lib/site_perl/5.43.4/Try/Tiny.pm line 93
	Try::Tiny::try(CODE(0x4e073bb96e8), Try::Tiny::Catch=REF(0x4dfb000e208)) called at /home/cpan/bin/perl/lib/site_perl/5.43.4/Test/WWW/Mechanize/PSGI.pm line 53
	Test::WWW::Mechanize::PSGI::simple_request(Test::WWW::Mechanize::PSGI=HASH(0x4e05af50a60), HTTP::Request=HASH(0x4dfb000e238), undef, undef) called at /home/cpan/bin/perl/lib/site_perl/5.43.4/LWP/UserAgent.pm line 310
	LWP::UserAgent::request(Test::WWW::Mechanize::PSGI=HASH(0x4e05af50a60), HTTP::Request=HASH(0x4dfb000e238)) called at /home/cpan/bin/perl/lib/site_perl/5.43.4/WWW/Mechanize.pm line 1699
	WWW::Mechanize::_make_request(Test::WWW::Mechanize::PSGI=HASH(0x4e05af50a60), HTTP::Request=HASH(0x4dfb000e238)) called at /home/cpan/bin/perl/lib/site_perl/5.43.4/WWW/Mechanize.pm line 1534
	WWW::Mechanize::request(Test::WWW::Mechanize::PSGI=HASH(0x4e05af50a60), HTTP::Request=HASH(0x4dfb000e238)) called at /home/cpan/bin/perl/lib/site_perl/5.43.4/LWP/UserAgent.pm line 454
	LWP::UserAgent::get(Test::WWW::Mechanize::PSGI=HASH(0x4e05af50a60), "http://localhost/wishlist") called at /home/cpan/bin/perl/lib/site_perl/5.43.4/WWW/Mechanize.pm line 124
	WWW::Mechanize::get(Test::WWW::Mechanize::PSGI=HASH(0x4e05af50a60), "/wishlist") called at /home/cpan/bin/perl/lib/site_perl/5.43.4/Test/WWW/Mechanize.pm line 192
	Test::WWW::Mechanize::get_ok(Test::WWW::Mechanize::PSGI=HASH(0x4e05af50a60), "/wishlist", "Wishlist is still available") called at t/03_mech.t line 91
Secret string too short at /home/cpan/.cpan/build/HTTP-Session2-1.10-0/blib/lib/HTTP/Session2/Base.pm line 79.
	HTTP::Session2::Base::__ANON__(HTTP::Session2::ServerStore=HASH(0x4dfb000eda8), "s3cret") called at t/03_mech.t line 121
	main::server_session(HASH(0x4dfb000e148)) called at t/03_mech.t line 17
	main::__ANON__(HASH(0x4dfb000e148)) called at /home/cpan/bin/perl/lib/site_perl/5.43.4/Test/WWW/Mechanize/PSGI.pm line 46
	Test::WWW::Mechanize::PSGI::try {...} () called at /home/cpan/bin/perl/lib/site_perl/5.43.4/Try/Tiny.pm line 102
	eval {...} called at /home/cpan/bin/perl/lib/site_perl/5.43.4/Try/Tiny.pm line 93
	Try::Tiny::try(CODE(0x4dfb000e388), Try::Tiny::Catch=REF(0x4dfb000eac0)) called at /home/cpan/bin/perl/lib/site_perl/5.43.4/Test/WWW/Mechanize/PSGI.pm line 53
	Test::WWW::Mechanize::PSGI::simple_request(Test::WWW::Mechanize::PSGI=HASH(0x4e05af50a60), HTTP::Request=HASH(0x4dfb000e808), undef, undef) called at /home/cpan/bin/perl/lib/site_perl/5.43.4/LWP/UserAgent.pm line 310
	LWP::UserAgent::request(Test::WWW::Mechanize::PSGI=HASH(0x4e05af50a60), HTTP::Request=HASH(0x4dfb000e808)) called at /home/cpan/bin/perl/lib/site_perl/5.43.4/WWW/Mechanize.pm line 1699
	WWW::Mechanize::_make_request(Test::WWW::Mechanize::PSGI=HASH(0x4e05af50a60), HTTP::Request=HASH(0x4dfb000e808)) called at /home/cpan/bin/perl/lib/site_perl/5.43.4/WWW/Mechanize.pm line 1534
	WWW::Mechanize::request(Test::WWW::Mechanize::PSGI=HASH(0x4e05af50a60), HTTP::Request=HASH(0x4dfb000e808)) called at /home/cpan/bin/perl/lib/site_perl/5.43.4/LWP/UserAgent.pm line 454
	LWP::UserAgent::get(Test::WWW::Mechanize::PSGI=HASH(0x4e05af50a60), "http://localhost/my/name") called at /home/cpan/bin/perl/lib/site_perl/5.43.4/WWW/Mechanize.pm line 124
	WWW::Mechanize::get(Test::WWW::Mechanize::PSGI=HASH(0x4e05af50a60), "/my/name") called at /home/cpan/bin/perl/lib/site_perl/5.43.4/Test/WWW/Mechanize.pm line 192
	Test::WWW::Mechanize::get_ok(Test::WWW::Mechanize::PSGI=HASH(0x4e05af50a60), "/my/name") called at t/03_mech.t line 93
Secret string too short at /home/cpan/.cpan/build/HTTP-Session2-1.10-0/blib/lib/HTTP/Session2/Base.pm line 79.
	HTTP::Session2::Base::__ANON__(HTTP::Session2::ServerStore=HASH(0x4e073b9c628), "s3cret") called at t/03_mech.t line 121
	main::server_session(HASH(0x4e073b9c0e8)) called at t/03_mech.t line 17
	main::__ANON__(HASH(0x4e073b9c0e8)) called at /home/cpan/bin/perl/lib/site_perl/5.43.4/Test/WWW/Mechanize/PSGI.pm line 46
	Test::WWW::Mechanize::PSGI::try {...} () called at /home/cpan/bin/perl/lib/site_perl/5.43.4/Try/Tiny.pm line 102
	eval {...} called at /home/cpan/bin/perl/lib/site_perl/5.43.4/Try/Tiny.pm line 93
	Try::Tiny::try(CODE(0x4e073b9c358), Try::Tiny::Catch=REF(0x4dfb000e400)) called at /home/cpan/bin/perl/lib/site_perl/5.43.4/Test/WWW/Mechanize/PSGI.pm line 53
	Test::WWW::Mechanize::PSGI::simple_request(Test::WWW::Mechanize::PSGI=HASH(0x4e05af50a60), HTTP::Request=HASH(0x4dfb000e4f0), undef, undef) called at /home/cpan/bin/perl/lib/site_perl/5.43.4/LWP/UserAgent.pm line 310
	LWP::UserAgent::request(Test::WWW::Mechanize::PSGI=HASH(0x4e05af50a60), HTTP::Request=HASH(0x4dfb000e4f0)) called at /home/cpan/bin/perl/lib/site_perl/5.43.4/WWW/Mechanize.pm line 1699
	WWW::Mechanize::_make_request(Test::WWW::Mechanize::PSGI=HASH(0x4e05af50a60), HTTP::Request=HASH(0x4dfb000e4f0)) called at /home/cpan/bin/perl/lib/site_perl/5.43.4/WWW/Mechanize.pm line 1534
	WWW::Mechanize::request(Test::WWW::Mechanize::PSGI=HASH(0x4e05af50a60), HTTP::Request=HASH(0x4dfb000e4f0)) called at /home/cpan/bin/perl/lib/site_perl/5.43.4/LWP/UserAgent.pm line 500
	LWP::UserAgent::post(Test::WWW::Mechanize::PSGI=HASH(0x4e05af50a60), "http://localhost/account/logout?john") called at /home/cpan/bin/perl/lib/site_perl/5.43.4/WWW/Mechanize.pm line 136
	WWW::Mechanize::post(Test::WWW::Mechanize::PSGI=HASH(0x4e05af50a60), "/account/logout?john") called at t/03_mech.t line 97
Secret string too short at /home/cpan/.cpan/build/HTTP-Session2-1.10-0/blib/lib/HTTP/Session2/Base.pm line 79.
	HTTP::Session2::Base::__ANON__(HTTP::Session2::ClientStore=HASH(0x4e0391cdee0), "s3cret") called at t/03_mech.t line 127
	main::client_session(HASH(0x4e073b9c838)) called at t/03_mech.t line 17
	main::__ANON__(HASH(0x4e073b9c838)) called at /home/cpan/bin/perl/lib/site_perl/5.43.4/Test/WWW/Mechanize/PSGI.pm line 46
	Test::WWW::Mechanize::PSGI::try {...} () called at /home/cpan/bin/perl/lib/site_perl/5.43.4/Try/Tiny.pm line 102
	eval {...} called at /home/cpan/bin/perl/lib/site_perl/5.43.4/Try/Tiny.pm line 93
	Try::Tiny::try(CODE(0x4dfe79bb6a0), Try::Tiny::Catch=REF(0x4e05af50bb0)) called at /home/cpan/bin/perl/lib/site_perl/5.43.4/Test/WWW/Mechanize/PSGI.pm line 53
	Test::WWW::Mechanize::PSGI::simple_request(Test::WWW::Mechanize::PSGI=HASH(0x4e073b9c148), HTTP::Request=HASH(0x4e073b9c520), undef, undef) called at /home/cpan/bin/perl/lib/site_perl/5.43.4/LWP/UserAgent.pm line 310
	LWP::UserAgent::request(Test::WWW::Mechanize::PSGI=HASH(0x4e073b9c148), HTTP::Request=HASH(0x4e073b9c520)) called at /home/cpan/bin/perl/lib/site_perl/5.43.4/WWW/Mechanize.pm line 1699
	WWW::Mechanize::_make_request(Test::WWW::Mechanize::PSGI=HASH(0x4e073b9c148), HTTP::Request=HASH(0x4e073b9c520)) called at /home/cpan/bin/perl/lib/site_perl/5.43.4/WWW/Mechanize.pm line 1534
	WWW::Mechanize::request(Test::WWW::Mechanize::PSGI=HASH(0x4e073b9c148), HTTP::Request=HASH(0x4e073b9c520)) called at /home/cpan/bin/perl/lib/site_perl/5.43.4/LWP/UserAgent.pm line 454
	LWP::UserAgent::get(Test::WWW::Mechanize::PSGI=HASH(0x4e073b9c148), "/") called at /home/cpan/bin/perl/lib/site_perl/5.43.4/WWW/Mechanize.pm line 124
	WWW::Mechanize::get(Test::WWW::Mechanize::PSGI=HASH(0x4e073b9c148), "/") called at /home/cpan/bin/perl/lib/site_perl/5.43.4/Test/WWW/Mechanize.pm line 192
	Test::WWW::Mechanize::get_ok(Test::WWW::Mechanize::PSGI=HASH(0x4e073b9c148), "/") called at t/03_mech.t line 74
Secret string too short at /home/cpan/.cpan/build/HTTP-Session2-1.10-0/blib/lib/HTTP/Session2/Base.pm line 79.
	HTTP::Session2::Base::__ANON__(HTTP::Session2::ClientStore=HASH(0x4e073b80070), "s3cret") called at t/03_mech.t line 127
	main::client_session(HASH(0x4dffb572520)) called at t/03_mech.t line 17
	main::__ANON__(HASH(0x4dffb572520)) called at /home/cpan/bin/perl/lib/site_perl/5.43.4/Test/WWW/Mechanize/PSGI.pm line 46
	Test::WWW::Mechanize::PSGI::try {...} () called at /home/cpan/bin/perl/lib/site_perl/5.43.4/Try/Tiny.pm line 102
	eval {...} called at /home/cpan/bin/perl/lib/site_perl/5.43.4/Try/Tiny.pm line 93
	Try::Tiny::try(CODE(0x4e05af509a0), Try::Tiny::Catch=REF(0x4e05af50280)) called at /home/cpan/bin/perl/lib/site_perl/5.43.4/Test/WWW/Mechanize/PSGI.pm line 53
	Test::WWW::Mechanize::PSGI::simple_request(Test::WWW::Mechanize::PSGI=HASH(0x4e073b9c148), HTTP::Request=HASH(0x4e073b9c958), undef, undef) called at /home/cpan/bin/perl/lib/site_perl/5.43.4/LWP/UserAgent.pm line 310
	LWP::UserAgent::request(Test::WWW::Mechanize::PSGI=HASH(0x4e073b9c148), HTTP::Request=HASH(0x4e073b9c958)) called at /home/cpan/bin/perl/lib/site_perl/5.43.4/WWW/Mechanize.pm line 1699
	WWW::Mechanize::_make_request(Test::WWW::Mechanize::PSGI=HASH(0x4e073b9c148), HTTP::Request=HASH(0x4e073b9c958)) called at /home/cpan/bin/perl/lib/site_perl/5.43.4/WWW/Mechanize.pm line 1534
	WWW::Mechanize::request(Test::WWW::Mechanize::PSGI=HASH(0x4e073b9c148), HTTP::Request=HASH(0x4e073b9c958)) called at /home/cpan/bin/perl/lib/site_perl/5.43.4/LWP/UserAgent.pm line 500
	LWP::UserAgent::post(Test::WWW::Mechanize::PSGI=HASH(0x4e073b9c148), "http://localhost/wishlist?foo", HASH(0x4dfd53e9820)) called at /home/cpan/bin/perl/lib/site_perl/5.43.4/WWW/Mechanize.pm line 136
	WWW::Mechanize::post(Test::WWW::Mechanize::PSGI=HASH(0x4e073b9c148), "/wishlist?foo", HASH(0x4dfd53e9820)) called at /home/cpan/bin/perl/lib/site_perl/5.43.4/Test/WWW/Mechanize.pm line 321
	Test::WWW::Mechanize::post_ok(Test::WWW::Mechanize::PSGI=HASH(0x4e073b9c148), "/wishlist?foo") called at t/03_mech.t line 75
Do not use HTTP::Session2::ClientStore. Use HTTP::Session2::ServerStore or HTTP::Session2::ClientStore2 instead. at /home/cpan/.cpan/build/HTTP-Session2-1.10-0/blib/lib/HTTP/Session2/ClientStore.pm line 25.
Secret string too short at /home/cpan/.cpan/build/HTTP-Session2-1.10-0/blib/lib/HTTP/Session2/Base.pm line 79.
	HTTP::Session2::Base::__ANON__(HTTP::Session2::ClientStore=HASH(0x4e073bbb3e8), "s3cret") called at t/03_mech.t line 127
	main::client_session(HASH(0x4e073bbb460)) called at t/03_mech.t line 17
	main::__ANON__(HASH(0x4e073bbb460)) called at /home/cpan/bin/perl/lib/site_perl/5.43.4/Test/WWW/Mechanize/PSGI.pm line 46
	Test::WWW::Mechanize::PSGI::try {...} () called at /home/cpan/bin/perl/lib/site_perl/5.43.4/Try/Tiny.pm line 102
	eval {...} called at /home/cpan/bin/perl/lib/site_perl/5.43.4/Try/Tiny.pm line 93
	Try::Tiny::try(CODE(0x4e0391cdce8), Try::Tiny::Catch=REF(0x4e073b80b38)) called at /home/cpan/bin/perl/lib/site_perl/5.43.4/Test/WWW/Mechanize/PSGI.pm line 53
	Test::WWW::Mechanize::PSGI::simple_request(Test::WWW::Mechanize::PSGI=HASH(0x4e073b9c148), HTTP::Request=HASH(0x4e073b9c2b0), undef, undef) called at /home/cpan/bin/perl/lib/site_perl/5.43.4/LWP/UserAgent.pm line 310
	LWP::UserAgent::request(Test::WWW::Mechanize::PSGI=HASH(0x4e073b9c148), HTTP::Request=HASH(0x4e073b9c2b0)) called at /home/cpan/bin/perl/lib/site_perl/5.43.4/WWW/Mechanize.pm line 1699
	WWW::Mechanize::_make_request(Test::WWW::Mechanize::PSGI=HASH(0x4e073b9c148), HTTP::Request=HASH(0x4e073b9c2b0)) called at /home/cpan/bin/perl/lib/site_perl/5.43.4/WWW/Mechanize.pm line 1534
	WWW::Mechanize::request(Test::WWW::Mechanize::PSGI=HASH(0x4e073b9c148), HTTP::Request=HASH(0x4e073b9c2b0)) called at /home/cpan/bin/perl/lib/site_perl/5.43.4/LWP/UserAgent.pm line 454
	LWP::UserAgent::get(Test::WWW::Mechanize::PSGI=HASH(0x4e073b9c148), "http://localhost/wishlist") called at /home/cpan/bin/perl/lib/site_perl/5.43.4/WWW/Mechanize.pm line 124
	WWW::Mechanize::get(Test::WWW::Mechanize::PSGI=HASH(0x4e073b9c148), "/wishlist") called at /home/cpan/bin/perl/lib/site_perl/5.43.4/Test/WWW/Mechanize.pm line 192
	Test::WWW::Mechanize::get_ok(Test::WWW::Mechanize::PSGI=HASH(0x4e073b9c148), "/wishlist") called at t/03_mech.t line 76
Do not use HTTP::Session2::ClientStore. Use HTTP::Session2::ServerStore or HTTP::Session2::ClientStore2 instead. at /home/cpan/.cpan/build/HTTP-Session2-1.10-0/blib/lib/HTTP/Session2/ClientStore.pm line 35.
Secret string too short at /home/cpan/.cpan/build/HTTP-Session2-1.10-0/blib/lib/HTTP/Session2/Base.pm line 79.
	HTTP::Session2::Base::__ANON__(HTTP::Session2::ClientStore=HASH(0x4e073bbba60), "s3cret") called at t/03_mech.t line 127
	main::client_session(HASH(0x4e073b80358)) called at t/03_mech.t line 17
	main::__ANON__(HASH(0x4e073b80358)) called at /home/cpan/bin/perl/lib/site_perl/5.43.4/Test/WWW/Mechanize/PSGI.pm line 46
	Test::WWW::Mechanize::PSGI::try {...} () called at /home/cpan/bin/perl/lib/site_perl/5.43.4/Try/Tiny.pm line 102
	eval {...} called at /home/cpan/bin/perl/lib/site_perl/5.43.4/Try/Tiny.pm line 93
	Try::Tiny::try(CODE(0x4e073bbb160), Try::Tiny::Catch=REF(0x4e073bbb520)) called at /home/cpan/bin/perl/lib/site_perl/5.43.4/Test/WWW/Mechanize/PSGI.pm line 53
	Test::WWW::Mechanize::PSGI::simple_request(Test::WWW::Mechanize::PSGI=HASH(0x4e073b9c148), HTTP::Request=HASH(0x4e073ba1f10), undef, undef) called at /home/cpan/bin/perl/lib/site_perl/5.43.4/LWP/UserAgent.pm line 310
	LWP::UserAgent::request(Test::WWW::Mechanize::PSGI=HASH(0x4e073b9c148), HTTP::Request=HASH(0x4e073ba1f10)) called at /home/cpan/bin/perl/lib/site_perl/5.43.4/WWW/Mechanize.pm line 1699
	WWW::Mechanize::_make_request(Test::WWW::Mechanize::PSGI=HASH(0x4e073b9c148), HTTP::Request=HASH(0x4e073ba1f10)) called at /home/cpan/bin/perl/lib/site_perl/5.43.4/WWW/Mechanize.pm line 1534
	WWW::Mechanize::request(Test::WWW::Mechanize::PSGI=HASH(0x4e073b9c148), HTTP::Request=HASH(0x4e073ba1f10)) called at /home/cpan/bin/perl/lib/site_perl/5.43.4/LWP/UserAgent.pm line 500
	LWP::UserAgent::post(Test::WWW::Mechanize::PSGI=HASH(0x4e073b9c148), "http://localhost/wishlist?bar") called at /home/cpan/bin/perl/lib/site_perl/5.43.4/WWW/Mechanize.pm line 136
	WWW::Mechanize::post(Test::WWW::Mechanize::PSGI=HASH(0x4e073b9c148), "/wishlist?bar") called at t/03_mech.t line 78
Do not use HTTP::Session2::ClientStore. Use HTTP::Session2::ServerStore or HTTP::Session2::ClientStore2 instead. at /home/cpan/.cpan/build/HTTP-Session2-1.10-0/blib/lib/HTTP/Session2/ClientStore.pm line 35.
Secret string too short at /home/cpan/.cpan/build/HTTP-Session2-1.10-0/blib/lib/HTTP/Session2/Base.pm line 79.
	HTTP::Session2::Base::__ANON__(HTTP::Session2::ClientStore=HASH(0x4e073bbbdf0), "s3cret") called at t/03_mech.t line 127
	main::client_session(HASH(0x4e073ba1dc0)) called at t/03_mech.t line 17
	main::__ANON__(HASH(0x4e073ba1dc0)) called at /home/cpan/bin/perl/lib/site_perl/5.43.4/Test/WWW/Mechanize/PSGI.pm line 46
	Test::WWW::Mechanize::PSGI::try {...} () called at /home/cpan/bin/perl/lib/site_perl/5.43.4/Try/Tiny.pm line 102
	eval {...} called at /home/cpan/bin/perl/lib/site_perl/5.43.4/Try/Tiny.pm line 93
	Try::Tiny::try(CODE(0x4e073bbb430), Try::Tiny::Catch=REF(0x4e073bbbef8)) called at /home/cpan/bin/perl/lib/site_perl/5.43.4/Test/WWW/Mechanize/PSGI.pm line 53
	Test::WWW::Mechanize::PSGI::simple_request(Test::WWW::Mechanize::PSGI=HASH(0x4e073b9c148), HTTP::Request=HASH(0x4e073bbb898), undef, undef) called at /home/cpan/bin/perl/lib/site_perl/5.43.4/LWP/UserAgent.pm line 310
	LWP::UserAgent::request(Test::WWW::Mechanize::PSGI=HASH(0x4e073b9c148), HTTP::Request=HASH(0x4e073bbb898)) called at /home/cpan/bin/perl/lib/site_perl/5.43.4/WWW/Mechanize.pm line 1699
	WWW::Mechanize::_make_request(Test::WWW::Mechanize::PSGI=HASH(0x4e073b9c148), HTTP::Request=HASH(0x4e073bbb898)) called at /home/cpan/bin/perl/lib/site_perl/5.43.4/WWW/Mechanize.pm line 1534
	WWW::Mechanize::request(Test::WWW::Mechanize::PSGI=HASH(0x4e073b9c148), HTTP::Request=HASH(0x4e073bbb898)) called at /home/cpan/bin/perl/lib/site_perl/5.43.4/LWP/UserAgent.pm line 500
	LWP::UserAgent::post(Test::WWW::Mechanize::PSGI=HASH(0x4e073b9c148), "http://localhost/wishlist?bar", HASH(0x4dfd53e9820)) called at /home/cpan/bin/perl/lib/site_perl/5.43.4/WWW/Mechanize.pm line 136
	WWW::Mechanize::post(Test::WWW::Mechanize::PSGI=HASH(0x4e073b9c148), "/wishlist?bar", HASH(0x4dfd53e9820)) called at /home/cpan/bin/perl/lib/site_perl/5.43.4/Test/WWW/Mechanize.pm line 321
	Test::WWW::Mechanize::post_ok(Test::WWW::Mechanize::PSGI=HASH(0x4e073b9c148), "/wishlist?bar") called at t/03_mech.t line 81
Do not use HTTP::Session2::ClientStore. Use HTTP::Session2::ServerStore or HTTP::Session2::ClientStore2 instead. at /home/cpan/.cpan/build/HTTP-Session2-1.10-0/blib/lib/HTTP/Session2/ClientStore.pm line 35.
Do not use HTTP::Session2::ClientStore. Use HTTP::Session2::ServerStore or HTTP::Session2::ClientStore2 instead. at /home/cpan/.cpan/build/HTTP-Session2-1.10-0/blib/lib/HTTP/Session2/ClientStore.pm line 25.
Secret string too short at /home/cpan/.cpan/build/HTTP-Session2-1.10-0/blib/lib/HTTP/Session2/Base.pm line 79.
	HTTP::Session2::Base::__ANON__(HTTP::Session2::ClientStore=HASH(0x4e073b80208), "s3cret") called at t/03_mech.t line 127
	main::client_session(HASH(0x4e073bbbdf0)) called at t/03_mech.t line 17
	main::__ANON__(HASH(0x4e073bbbdf0)) called at /home/cpan/bin/perl/lib/site_perl/5.43.4/Test/WWW/Mechanize/PSGI.pm line 46
	Test::WWW::Mechanize::PSGI::try {...} () called at /home/cpan/bin/perl/lib/site_perl/5.43.4/Try/Tiny.pm line 102
	eval {...} called at /home/cpan/bin/perl/lib/site_perl/5.43.4/Try/Tiny.pm line 93
	Try::Tiny::try(CODE(0x4e073bbbe20), Try::Tiny::Catch=REF(0x4e073bb93b8)) called at /home/cpan/bin/perl/lib/site_perl/5.43.4/Test/WWW/Mechanize/PSGI.pm line 53
	Test::WWW::Mechanize::PSGI::simple_request(Test::WWW::Mechanize::PSGI=HASH(0x4e073b9c148), HTTP::Request=HASH(0x4e073b808f8), undef, undef) called at /home/cpan/bin/perl/lib/site_perl/5.43.4/LWP/UserAgent.pm line 310
	LWP::UserAgent::request(Test::WWW::Mechanize::PSGI=HASH(0x4e073b9c148), HTTP::Request=HASH(0x4e073b808f8)) called at /home/cpan/bin/perl/lib/site_perl/5.43.4/WWW/Mechanize.pm line 1699
	WWW::Mechanize::_make_request(Test::WWW::Mechanize::PSGI=HASH(0x4e073b9c148), HTTP::Request=HASH(0x4e073b808f8)) called at /home/cpan/bin/perl/lib/site_perl/5.43.4/WWW/Mechanize.pm line 1534
	WWW::Mechanize::request(Test::WWW::Mechanize::PSGI=HASH(0x4e073b9c148), HTTP::Request=HASH(0x4e073b808f8)) called at /home/cpan/bin/perl/lib/site_perl/5.43.4/LWP/UserAgent.pm line 454
	LWP::UserAgent::get(Test::WWW::Mechanize::PSGI=HASH(0x4e073b9c148), "http://localhost/wishlist") called at /home/cpan/bin/perl/lib/site_perl/5.43.4/WWW/Mechanize.pm line 124
	WWW::Mechanize::get(Test::WWW::Mechanize::PSGI=HASH(0x4e073b9c148), "/wishlist") called at /home/cpan/bin/perl/lib/site_perl/5.43.4/Test/WWW/Mechanize.pm line 192
	Test::WWW::Mechanize::get_ok(Test::WWW::Mechanize::PSGI=HASH(0x4e073b9c148), "/wishlist") called at t/03_mech.t line 82
Do not use HTTP::Session2::ClientStore. Use HTTP::Session2::ServerStore or HTTP::Session2::ClientStore2 instead. at /home/cpan/.cpan/build/HTTP-Session2-1.10-0/blib/lib/HTTP/Session2/ClientStore.pm line 35.
Secret string too short at /home/cpan/.cpan/build/HTTP-Session2-1.10-0/blib/lib/HTTP/Session2/Base.pm line 79.
	HTTP::Session2::Base::__ANON__(HTTP::Session2::ClientStore=HASH(0x4dfb000e370), "s3cret") called at t/03_mech.t line 127
	main::client_session(HASH(0x4e073bb9b98)) called at t/03_mech.t line 17
	main::__ANON__(HASH(0x4e073bb9b98)) called at /home/cpan/bin/perl/lib/site_perl/5.43.4/Test/WWW/Mechanize/PSGI.pm line 46
	Test::WWW::Mechanize::PSGI::try {...} () called at /home/cpan/bin/perl/lib/site_perl/5.43.4/Try/Tiny.pm line 102
	eval {...} called at /home/cpan/bin/perl/lib/site_perl/5.43.4/Try/Tiny.pm line 93
	Try::Tiny::try(CODE(0x4df76a8e490), Try::Tiny::Catch=REF(0x4dfb000e2c8)) called at /home/cpan/bin/perl/lib/site_perl/5.43.4/Test/WWW/Mechanize/PSGI.pm line 53
	Test::WWW::Mechanize::PSGI::simple_request(Test::WWW::Mechanize::PSGI=HASH(0x4e073b9c148), HTTP::Request=HASH(0x4e073bbb5b0), undef, undef) called at /home/cpan/bin/perl/lib/site_perl/5.43.4/LWP/UserAgent.pm line 310
	LWP::UserAgent::request(Test::WWW::Mechanize::PSGI=HASH(0x4e073b9c148), HTTP::Request=HASH(0x4e073bbb5b0)) called at /home/cpan/bin/perl/lib/site_perl/5.43.4/WWW/Mechanize.pm line 1699
	WWW::Mechanize::_make_request(Test::WWW::Mechanize::PSGI=HASH(0x4e073b9c148), HTTP::Request=HASH(0x4e073bbb5b0)) called at /home/cpan/bin/perl/lib/site_perl/5.43.4/WWW/Mechanize.pm line 1534
	WWW::Mechanize::request(Test::WWW::Mechanize::PSGI=HASH(0x4e073b9c148), HTTP::Request=HASH(0x4e073bbb5b0)) called at /home/cpan/bin/perl/lib/site_perl/5.43.4/LWP/UserAgent.pm line 500
	LWP::UserAgent::post(Test::WWW::Mechanize::PSGI=HASH(0x4e073b9c148), "http://localhost/account/login?john", HASH(0x4dfd53e9820)) called at /home/cpan/bin/perl/lib/site_perl/5.43.4/WWW/Mechanize.pm line 136
	WWW::Mechanize::post(Test::WWW::Mechanize::PSGI=HASH(0x4e073b9c148), "/account/login?john", HASH(0x4dfd53e9820)) called at /home/cpan/bin/perl/lib/site_perl/5.43.4/Test/WWW/Mechanize.pm line 321
	Test::WWW::Mechanize::post_ok(Test::WWW::Mechanize::PSGI=HASH(0x4e073b9c148), "/account/login?john") called at t/03_mech.t line 84
Do not use HTTP::Session2::ClientStore. Use HTTP::Session2::ServerStore or HTTP::Session2::ClientStore2 instead. at /home/cpan/.cpan/build/HTTP-Session2-1.10-0/blib/lib/HTTP/Session2/ClientStore.pm line 35.
Do not use HTTP::Session2::ClientStore. Use HTTP::Session2::ServerStore or HTTP::Session2::ClientStore2 instead. at /home/cpan/.cpan/build/HTTP-Session2-1.10-0/blib/lib/HTTP/Session2/ClientStore.pm line 35.
Do not use HTTP::Session2::ClientStore. Use HTTP::Session2::ServerStore or HTTP::Session2::ClientStore2 instead. at /home/cpan/.cpan/build/HTTP-Session2-1.10-0/blib/lib/HTTP/Session2/ClientStore.pm line 25.
Secret string too short at /home/cpan/.cpan/build/HTTP-Session2-1.10-0/blib/lib/HTTP/Session2/Base.pm line 79.
	HTTP::Session2::Base::__ANON__(HTTP::Session2::ClientStore=HASH(0x4e073bb98e0), "s3cret") called at t/03_mech.t line 127
	main::client_session(HASH(0x4dfb000e370)) called at t/03_mech.t line 17
	main::__ANON__(HASH(0x4dfb000e370)) called at /home/cpan/bin/perl/lib/site_perl/5.43.4/Test/WWW/Mechanize/PSGI.pm line 46
	Test::WWW::Mechanize::PSGI::try {...} () called at /home/cpan/bin/perl/lib/site_perl/5.43.4/Try/Tiny.pm line 102
	eval {...} called at /home/cpan/bin/perl/lib/site_perl/5.43.4/Try/Tiny.pm line 93
	Try::Tiny::try(CODE(0x4e073bb9958), Try::Tiny::Catch=REF(0x4e073bbb6d0)) called at /home/cpan/bin/perl/lib/site_perl/5.43.4/Test/WWW/Mechanize/PSGI.pm line 53
	Test::WWW::Mechanize::PSGI::simple_request(Test::WWW::Mechanize::PSGI=HASH(0x4e073b9c148), HTTP::Request=HASH(0x4e073bbbb38), undef, undef) called at /home/cpan/bin/perl/lib/site_perl/5.43.4/LWP/UserAgent.pm line 310
	LWP::UserAgent::request(Test::WWW::Mechanize::PSGI=HASH(0x4e073b9c148), HTTP::Request=HASH(0x4e073bbbb38)) called at /home/cpan/bin/perl/lib/site_perl/5.43.4/WWW/Mechanize.pm line 1699
	WWW::Mechanize::_make_request(Test::WWW::Mechanize::PSGI=HASH(0x4e073b9c148), HTTP::Request=HASH(0x4e073bbbb38)) called at /home/cpan/bin/perl/lib/site_perl/5.43.4/WWW/Mechanize.pm line 1534
	WWW::Mechanize::request(Test::WWW::Mechanize::PSGI=HASH(0x4e073b9c148), HTTP::Request=HASH(0x4e073bbbb38)) called at /home/cpan/bin/perl/lib/site_perl/5.43.4/LWP/UserAgent.pm line 454
	LWP::UserAgent::get(Test::WWW::Mechanize::PSGI=HASH(0x4e073b9c148), "http://localhost/wishlist") called at /home/cpan/bin/perl/lib/site_perl/5.43.4/WWW/Mechanize.pm line 124
	WWW::Mechanize::get(Test::WWW::Mechanize::PSGI=HASH(0x4e073b9c148), "/wishlist") called at /home/cpan/bin/perl/lib/site_perl/5.43.4/Test/WWW/Mechanize.pm line 192
	Test::WWW::Mechanize::get_ok(Test::WWW::Mechanize::PSGI=HASH(0x4e073b9c148), "/wishlist", "Wishlist is still available") called at t/03_mech.t line 85
Do not use HTTP::Session2::ClientStore. Use HTTP::Session2::ServerStore or HTTP::Session2::ClientStore2 instead. at /home/cpan/.cpan/build/HTTP-Session2-1.10-0/blib/lib/HTTP/Session2/ClientStore.pm line 35.
Secret string too short at /home/cpan/.cpan/build/HTTP-Session2-1.10-0/blib/lib/HTTP/Session2/Base.pm line 79.
	HTTP::Session2::Base::__ANON__(HTTP::Session2::ClientStore=HASH(0x4dfb000e250), "s3cret") called at t/03_mech.t line 127
	main::client_session(HASH(0x4dfb000e760)) called at t/03_mech.t line 17
	main::__ANON__(HASH(0x4dfb000e760)) called at /home/cpan/bin/perl/lib/site_perl/5.43.4/Test/WWW/Mechanize/PSGI.pm line 46
	Test::WWW::Mechanize::PSGI::try {...} () called at /home/cpan/bin/perl/lib/site_perl/5.43.4/Try/Tiny.pm line 102
	eval {...} called at /home/cpan/bin/perl/lib/site_perl/5.43.4/Try/Tiny.pm line 93
	Try::Tiny::try(CODE(0x4dff5fbaf88), Try::Tiny::Catch=REF(0x4dfb000eb50)) called at /home/cpan/bin/perl/lib/site_perl/5.43.4/Test/WWW/Mechanize/PSGI.pm line 53
	Test::WWW::Mechanize::PSGI::simple_request(Test::WWW::Mechanize::PSGI=HASH(0x4e073b9c148), HTTP::Request=HASH(0x4e073b80268), undef, undef) called at /home/cpan/bin/perl/lib/site_perl/5.43.4/LWP/UserAgent.pm line 310
	LWP::UserAgent::request(Test::WWW::Mechanize::PSGI=HASH(0x4e073b9c148), HTTP::Request=HASH(0x4e073b80268)) called at /home/cpan/bin/perl/lib/site_perl/5.43.4/WWW/Mechanize.pm line 1699
	WWW::Mechanize::_make_request(Test::WWW::Mechanize::PSGI=HASH(0x4e073b9c148), HTTP::Request=HASH(0x4e073b80268)) called at /home/cpan/bin/perl/lib/site_perl/5.43.4/WWW/Mechanize.pm line 1534
	WWW::Mechanize::request(Test::WWW::Mechanize::PSGI=HASH(0x4e073b9c148), HTTP::Request=HASH(0x4e073b80268)) called at /home/cpan/bin/perl/lib/site_perl/5.43.4/LWP/UserAgent.pm line 500
	LWP::UserAgent::post(Test::WWW::Mechanize::PSGI=HASH(0x4e073b9c148), "http://localhost/wishlist?baz") called at /home/cpan/bin/perl/lib/site_perl/5.43.4/WWW/Mechanize.pm line 136
	WWW::Mechanize::post(Test::WWW::Mechanize::PSGI=HASH(0x4e073b9c148), "/wishlist?baz") called at t/03_mech.t line 87
Do not use HTTP::Session2::ClientStore. Use HTTP::Session2::ServerStore or HTTP::Session2::ClientStore2 instead. at /home/cpan/.cpan/build/HTTP-Session2-1.10-0/blib/lib/HTTP/Session2/ClientStore.pm line 35.
Secret string too short at /home/cpan/.cpan/build/HTTP-Session2-1.10-0/blib/lib/HTTP/Session2/Base.pm line 79.
	HTTP::Session2::Base::__ANON__(HTTP::Session2::ClientStore=HASH(0x4e073b9c0d0), "s3cret") called at t/03_mech.t line 127
	main::client_session(HASH(0x4e073b9cb80)) called at t/03_mech.t line 17
	main::__ANON__(HASH(0x4e073b9cb80)) called at /home/cpan/bin/perl/lib/site_perl/5.43.4/Test/WWW/Mechanize/PSGI.pm line 46
	Test::WWW::Mechanize::PSGI::try {...} () called at /home/cpan/bin/perl/lib/site_perl/5.43.4/Try/Tiny.pm line 102
	eval {...} called at /home/cpan/bin/perl/lib/site_perl/5.43.4/Try/Tiny.pm line 93
	Try::Tiny::try(CODE(0x4e073bb9910), Try::Tiny::Catch=REF(0x4e073bb9dc0)) called at /home/cpan/bin/perl/lib/site_perl/5.43.4/Test/WWW/Mechanize/PSGI.pm line 53
	Test::WWW::Mechanize::PSGI::simple_request(Test::WWW::Mechanize::PSGI=HASH(0x4e073b9c148), HTTP::Request=HASH(0x4e073bbb3e8), undef, undef) called at /home/cpan/bin/perl/lib/site_perl/5.43.4/LWP/UserAgent.pm line 310
	LWP::UserAgent::request(Test::WWW::Mechanize::PSGI=HASH(0x4e073b9c148), HTTP::Request=HASH(0x4e073bbb3e8)) called at /home/cpan/bin/perl/lib/site_perl/5.43.4/WWW/Mechanize.pm line 1699
	WWW::Mechanize::_make_request(Test::WWW::Mechanize::PSGI=HASH(0x4e073b9c148), HTTP::Request=HASH(0x4e073bbb3e8)) called at /home/cpan/bin/perl/lib/site_perl/5.43.4/WWW/Mechanize.pm line 1534
	WWW::Mechanize::request(Test::WWW::Mechanize::PSGI=HASH(0x4e073b9c148), HTTP::Request=HASH(0x4e073bbb3e8)) called at /home/cpan/bin/perl/lib/site_perl/5.43.4/LWP/UserAgent.pm line 500
	LWP::UserAgent::post(Test::WWW::Mechanize::PSGI=HASH(0x4e073b9c148), "http://localhost/wishlist?baz", HASH(0x4dfd53e9820)) called at /home/cpan/bin/perl/lib/site_perl/5.43.4/WWW/Mechanize.pm line 136
	WWW::Mechanize::post(Test::WWW::Mechanize::PSGI=HASH(0x4e073b9c148), "/wishlist?baz", HASH(0x4dfd53e9820)) called at /home/cpan/bin/perl/lib/site_perl/5.43.4/Test/WWW/Mechanize.pm line 321
	Test::WWW::Mechanize::post_ok(Test::WWW::Mechanize::PSGI=HASH(0x4e073b9c148), "/wishlist?baz") called at t/03_mech.t line 90
Do not use HTTP::Session2::ClientStore. Use HTTP::Session2::ServerStore or HTTP::Session2::ClientStore2 instead. at /home/cpan/.cpan/build/HTTP-Session2-1.10-0/blib/lib/HTTP/Session2/ClientStore.pm line 35.
Do not use HTTP::Session2::ClientStore. Use HTTP::Session2::ServerStore or HTTP::Session2::ClientStore2 instead. at /home/cpan/.cpan/build/HTTP-Session2-1.10-0/blib/lib/HTTP/Session2/ClientStore.pm line 25.
Secret string too short at /home/cpan/.cpan/build/HTTP-Session2-1.10-0/blib/lib/HTTP/Session2/Base.pm line 79.
	HTTP::Session2::Base::__ANON__(HTTP::Session2::ClientStore=HASH(0x4dfb000ece8), "s3cret") called at t/03_mech.t line 127
	main::client_session(HASH(0x4e073b9c0d0)) called at t/03_mech.t line 17
	main::__ANON__(HASH(0x4e073b9c0d0)) called at /home/cpan/bin/perl/lib/site_perl/5.43.4/Test/WWW/Mechanize/PSGI.pm line 46
	Test::WWW::Mechanize::PSGI::try {...} () called at /home/cpan/bin/perl/lib/site_perl/5.43.4/Try/Tiny.pm line 102
	eval {...} called at /home/cpan/bin/perl/lib/site_perl/5.43.4/Try/Tiny.pm line 93
	Try::Tiny::try(CODE(0x4dfb000ea00), Try::Tiny::Catch=REF(0x4e073bb9f70)) called at /home/cpan/bin/perl/lib/site_perl/5.43.4/Test/WWW/Mechanize/PSGI.pm line 53
	Test::WWW::Mechanize::PSGI::simple_request(Test::WWW::Mechanize::PSGI=HASH(0x4e073b9c148), HTTP::Request=HASH(0x4e073bbbc28), undef, undef) called at /home/cpan/bin/perl/lib/site_perl/5.43.4/LWP/UserAgent.pm line 310
	LWP::UserAgent::request(Test::WWW::Mechanize::PSGI=HASH(0x4e073b9c148), HTTP::Request=HASH(0x4e073bbbc28)) called at /home/cpan/bin/perl/lib/site_perl/5.43.4/WWW/Mechanize.pm line 1699
	WWW::Mechanize::_make_request(Test::WWW::Mechanize::PSGI=HASH(0x4e073b9c148), HTTP::Request=HASH(0x4e073bbbc28)) called at /home/cpan/bin/perl/lib/site_perl/5.43.4/WWW/Mechanize.pm line 1534
	WWW::Mechanize::request(Test::WWW::Mechanize::PSGI=HASH(0x4e073b9c148), HTTP::Request=HASH(0x4e073bbbc28)) called at /home/cpan/bin/perl/lib/site_perl/5.43.4/LWP/UserAgent.pm line 454
	LWP::UserAgent::get(Test::WWW::Mechanize::PSGI=HASH(0x4e073b9c148), "http://localhost/wishlist") called at /home/cpan/bin/perl/lib/site_perl/5.43.4/WWW/Mechanize.pm line 124
	WWW::Mechanize::get(Test::WWW::Mechanize::PSGI=HASH(0x4e073b9c148), "/wishlist") called at /home/cpan/bin/perl/lib/site_perl/5.43.4/Test/WWW/Mechanize.pm line 192
	Test::WWW::Mechanize::get_ok(Test::WWW::Mechanize::PSGI=HASH(0x4e073b9c148), "/wishlist", "Wishlist is still available") called at t/03_mech.t line 91
Do not use HTTP::Session2::ClientStore. Use HTTP::Session2::ServerStore or HTTP::Session2::ClientStore2 instead. at /home/cpan/.cpan/build/HTTP-Session2-1.10-0/blib/lib/HTTP/Session2/ClientStore.pm line 35.
Secret string too short at /home/cpan/.cpan/build/HTTP-Session2-1.10-0/blib/lib/HTTP/Session2/Base.pm line 79.
	HTTP::Session2::Base::__ANON__(HTTP::Session2::ClientStore=HASH(0x4dffc662058), "s3cret") called at t/03_mech.t line 127
	main::client_session(HASH(0x4dfb000ece8)) called at t/03_mech.t line 17
	main::__ANON__(HASH(0x4dfb000ece8)) called at /home/cpan/bin/perl/lib/site_perl/5.43.4/Test/WWW/Mechanize/PSGI.pm line 46
	Test::WWW::Mechanize::PSGI::try {...} () called at /home/cpan/bin/perl/lib/site_perl/5.43.4/Try/Tiny.pm line 102
	eval {...} called at /home/cpan/bin/perl/lib/site_perl/5.43.4/Try/Tiny.pm line 93
	Try::Tiny::try(CODE(0x4e073b9cbc8), Try::Tiny::Catch=REF(0x4e073bb9430)) called at /home/cpan/bin/perl/lib/site_perl/5.43.4/Test/WWW/Mechanize/PSGI.pm line 53
	Test::WWW::Mechanize::PSGI::simple_request(Test::WWW::Mechanize::PSGI=HASH(0x4e073b9c148), HTTP::Request=HASH(0x4e073bb9658), undef, undef) called at /home/cpan/bin/perl/lib/site_perl/5.43.4/LWP/UserAgent.pm line 310
	LWP::UserAgent::request(Test::WWW::Mechanize::PSGI=HASH(0x4e073b9c148), HTTP::Request=HASH(0x4e073bb9658)) called at /home/cpan/bin/perl/lib/site_perl/5.43.4/WWW/Mechanize.pm line 1699
	WWW::Mechanize::_make_request(Test::WWW::Mechanize::PSGI=HASH(0x4e073b9c148), HTTP::Request=HASH(0x4e073bb9658)) called at /home/cpan/bin/perl/lib/site_perl/5.43.4/WWW/Mechanize.pm line 1534
	WWW::Mechanize::request(Test::WWW::Mechanize::PSGI=HASH(0x4e073b9c148), HTTP::Request=HASH(0x4e073bb9658)) called at /home/cpan/bin/perl/lib/site_perl/5.43.4/LWP/UserAgent.pm line 454
	LWP::UserAgent::get(Test::WWW::Mechanize::PSGI=HASH(0x4e073b9c148), "http://localhost/my/name") called at /home/cpan/bin/perl/lib/site_perl/5.43.4/WWW/Mechanize.pm line 124
	WWW::Mechanize::get(Test::WWW::Mechanize::PSGI=HASH(0x4e073b9c148), "/my/name") called at /home/cpan/bin/perl/lib/site_perl/5.43.4/Test/WWW/Mechanize.pm line 192
	Test::WWW::Mechanize::get_ok(Test::WWW::Mechanize::PSGI=HASH(0x4e073b9c148), "/my/name") called at t/03_mech.t line 93
Do not use HTTP::Session2::ClientStore. Use HTTP::Session2::ServerStore or HTTP::Session2::ClientStore2 instead. at /home/cpan/.cpan/build/HTTP-Session2-1.10-0/blib/lib/HTTP/Session2/ClientStore.pm line 35.
Secret string too short at /home/cpan/.cpan/build/HTTP-Session2-1.10-0/blib/lib/HTTP/Session2/Base.pm line 79.
	HTTP::Session2::Base::__ANON__(HTTP::Session2::ClientStore=HASH(0x4dffc662940), "s3cret") called at t/03_mech.t line 127
	main::client_session(HASH(0x4dfb000ec40)) called at t/03_mech.t line 17
	main::__ANON__(HASH(0x4dfb000ec40)) called at /home/cpan/bin/perl/lib/site_perl/5.43.4/Test/WWW/Mechanize/PSGI.pm line 46
	Test::WWW::Mechanize::PSGI::try {...} () called at /home/cpan/bin/perl/lib/site_perl/5.43.4/Try/Tiny.pm line 102
	eval {...} called at /home/cpan/bin/perl/lib/site_perl/5.43.4/Try/Tiny.pm line 93
	Try::Tiny::try(CODE(0x4dffc662598), Try::Tiny::Catch=REF(0x4dffc6621f0)) called at /home/cpan/bin/perl/lib/site_perl/5.43.4/Test/WWW/Mechanize/PSGI.pm line 53
	Test::WWW::Mechanize::PSGI::simple_request(Test::WWW::Mechanize::PSGI=HASH(0x4e073b9c148), HTTP::Request=HASH(0x4dffc6621d8), undef, undef) called at /home/cpan/bin/perl/lib/site_perl/5.43.4/LWP/UserAgent.pm line 310
	LWP::UserAgent::request(Test::WWW::Mechanize::PSGI=HASH(0x4e073b9c148), HTTP::Request=HASH(0x4dffc6621d8)) called at /home/cpan/bin/perl/lib/site_perl/5.43.4/WWW/Mechanize.pm line 1699
	WWW::Mechanize::_make_request(Test::WWW::Mechanize::PSGI=HASH(0x4e073b9c148), HTTP::Request=HASH(0x4dffc6621d8)) called at /home/cpan/bin/perl/lib/site_perl/5.43.4/WWW/Mechanize.pm line 1534
	WWW::Mechanize::request(Test::WWW::Mechanize::PSGI=HASH(0x4e073b9c148), HTTP::Request=HASH(0x4dffc6621d8)) called at /home/cpan/bin/perl/lib/site_perl/5.43.4/LWP/UserAgent.pm line 500
	LWP::UserAgent::post(Test::WWW::Mechanize::PSGI=HASH(0x4e073b9c148), "http://localhost/account/logout?john") called at /home/cpan/bin/perl/lib/site_perl/5.43.4/WWW/Mechanize.pm line 136
	WWW::Mechanize::post(Test::WWW::Mechanize::PSGI=HASH(0x4e073b9c148), "/account/logout?john") called at t/03_mech.t line 97
Do not use HTTP::Session2::ClientStore. Use HTTP::Session2::ServerStore or HTTP::Session2::ClientStore2 instead. at /home/cpan/.cpan/build/HTTP-Session2-1.10-0/blib/lib/HTTP/Session2/ClientStore.pm line 35.
Do not use HTTP::Session2::ClientStore. Use HTTP::Session2::ServerStore or HTTP::Session2::ClientStore2 instead. at /home/cpan/.cpan/build/HTTP-Session2-1.10-0/blib/lib/HTTP/Session2/ClientStore.pm line 35.
t/03_mech.t ................. ok
Do not use HTTP::Session2::ClientStore. Use HTTP::Session2::ServerStore or HTTP::Session2::ClientStore2 instead. at /home/cpan/.cpan/build/HTTP-Session2-1.10-0/blib/lib/HTTP/Session2/ClientStore.pm line 25.
t/04_plack_response.t ....... ok
Secret string too short at /home/cpan/.cpan/build/HTTP-Session2-1.10-0/blib/lib/HTTP/Session2/Base.pm line 79.
	HTTP::Session2::Base::__ANON__(HTTP::Session2::ClientStore=HASH(0xe02090356b8), "s3cret") called at t/05_keep_me_signed_in.t line 20
Do not use HTTP::Session2::ClientStore. Use HTTP::Session2::ServerStore or HTTP::Session2::ClientStore2 instead. at /home/cpan/.cpan/build/HTTP-Session2-1.10-0/blib/lib/HTTP/Session2/ClientStore.pm line 25.
t/05_keep_me_signed_in.t .... ok
Secret string too short at /home/cpan/.cpan/build/HTTP-Session2-1.10-0/blib/lib/HTTP/Session2/Base.pm line 79.
	HTTP::Session2::Base::__ANON__(HTTP::Session2::Base=HASH(0xf815b1b1040), "i am secret") called at t/06_base_abstract.t line 7
t/06_base_abstract.t ........ ok
Secret string too short at /home/cpan/.cpan/build/HTTP-Session2-1.10-0/blib/lib/HTTP/Session2/Base.pm line 79.
	HTTP::Session2::Base::__ANON__(HTTP::Session2::ClientStore=HASH(0x4f0ac4f5e0), "secret") called at t/07_client_store.t line 23
	main::__ANON__() called at /home/cpan/bin/perl/lib/5.43.4/Test/Builder.pm line 368
	eval {...} called at /home/cpan/bin/perl/lib/5.43.4/Test/Builder.pm line 368
	Test::Builder::subtest(Test::Builder=HASH(0x4f1a247928), "get/set/remove", CODE(0x4f27876a60)) called at /home/cpan/bin/perl/lib/5.43.4/Test/More.pm line 831
	Test::More::subtest("get/set/remove", CODE(0x4f27876a60)) called at t/07_client_store.t line 31
Secret string too short at /home/cpan/.cpan/build/HTTP-Session2-1.10-0/blib/lib/HTTP/Session2/Base.pm line 79.
	HTTP::Session2::Base::__ANON__(HTTP::Session2::ClientStore=HASH(0x4f0ac36118), "secret") called at t/07_client_store.t line 35
	main::__ANON__() called at /home/cpan/bin/perl/lib/5.43.4/Test/Builder.pm line 368
	eval {...} called at /home/cpan/bin/perl/lib/5.43.4/Test/Builder.pm line 368
	Test::Builder::subtest(Test::Builder=HASH(0x4f1a247928), "validate_token", CODE(0x4f278767f0)) called at /home/cpan/bin/perl/lib/5.43.4/Test/More.pm line 831
	Test::More::subtest("validate_token", CODE(0x4f278767f0)) called at t/07_client_store.t line 71
Do not use HTTP::Session2::ClientStore. Use HTTP::Session2::ServerStore or HTTP::Session2::ClientStore2 instead. at /home/cpan/.cpan/build/HTTP-Session2-1.10-0/blib/lib/HTTP/Session2/ClientStore.pm line 25.
Secret string too short at /home/cpan/.cpan/build/HTTP-Session2-1.10-0/blib/lib/HTTP/Session2/Base.pm line 79.
	HTTP::Session2::Base::__ANON__(HTTP::Session2::ClientStore=HASH(0x4f0ac4ab80), "secret") called at t/07_client_store.t line 51
	main::__ANON__() called at /home/cpan/bin/perl/lib/5.43.4/Test/Builder.pm line 368
	eval {...} called at /home/cpan/bin/perl/lib/5.43.4/Test/Builder.pm line 368
	Test::Builder::subtest(Test::Builder=HASH(0x4f1a247928), "bad", CODE(0x4f0ac1bf88)) called at /home/cpan/bin/perl/lib/5.43.4/Test/More.pm line 831
	Test::More::subtest("bad", CODE(0x4f0ac1bf88)) called at t/07_client_store.t line 57
	main::__ANON__() called at /home/cpan/bin/perl/lib/5.43.4/Test/Builder.pm line 368
	eval {...} called at /home/cpan/bin/perl/lib/5.43.4/Test/Builder.pm line 368
	Test::Builder::subtest(Test::Builder=HASH(0x4f1a247928), "validate_token", CODE(0x4f278767f0)) called at /home/cpan/bin/perl/lib/5.43.4/Test/More.pm line 831
	Test::More::subtest("validate_token", CODE(0x4f278767f0)) called at t/07_client_store.t line 71
Do not use HTTP::Session2::ClientStore. Use HTTP::Session2::ServerStore or HTTP::Session2::ClientStore2 instead. at /home/cpan/.cpan/build/HTTP-Session2-1.10-0/blib/lib/HTTP/Session2/ClientStore.pm line 35.
Secret string too short at /home/cpan/.cpan/build/HTTP-Session2-1.10-0/blib/lib/HTTP/Session2/Base.pm line 79.
	HTTP::Session2::Base::__ANON__(HTTP::Session2::ClientStore=HASH(0x4f0ac4fb20), "secret") called at t/07_client_store.t line 65
	main::__ANON__() called at /home/cpan/bin/perl/lib/5.43.4/Test/Builder.pm line 368
	eval {...} called at /home/cpan/bin/perl/lib/5.43.4/Test/Builder.pm line 368
	Test::Builder::subtest(Test::Builder=HASH(0x4f1a247928), "good", CODE(0x4f0ac1bf88)) called at /home/cpan/bin/perl/lib/5.43.4/Test/More.pm line 831
	Test::More::subtest("good", CODE(0x4f0ac1bf88)) called at t/07_client_store.t line 70
	main::__ANON__() called at /home/cpan/bin/perl/lib/5.43.4/Test/Builder.pm line 368
	eval {...} called at /home/cpan/bin/perl/lib/5.43.4/Test/Builder.pm line 368
	Test::Builder::subtest(Test::Builder=HASH(0x4f1a247928), "validate_token", CODE(0x4f278767f0)) called at /home/cpan/bin/perl/lib/5.43.4/Test/More.pm line 831
	Test::More::subtest("validate_token", CODE(0x4f278767f0)) called at t/07_client_store.t line 71
Do not use HTTP::Session2::ClientStore. Use HTTP::Session2::ServerStore or HTTP::Session2::ClientStore2 instead. at /home/cpan/.cpan/build/HTTP-Session2-1.10-0/blib/lib/HTTP/Session2/ClientStore.pm line 35.
Secret string too short at /home/cpan/.cpan/build/HTTP-Session2-1.10-0/blib/lib/HTTP/Session2/Base.pm line 79.
	HTTP::Session2::Base::__ANON__(HTTP::Session2::ClientStore=HASH(0x4f0ac4f148), "secret") called at t/07_client_store.t line 76
	main::__ANON__() called at /home/cpan/bin/perl/lib/5.43.4/Test/Builder.pm line 368
	eval {...} called at /home/cpan/bin/perl/lib/5.43.4/Test/Builder.pm line 368
	Test::Builder::subtest(Test::Builder=HASH(0x4f1a247928), "ignore_old", CODE(0x4f286f8fd0)) called at /home/cpan/bin/perl/lib/5.43.4/Test/More.pm line 831
	Test::More::subtest("ignore_old", CODE(0x4f286f8fd0)) called at t/07_client_store.t line 106
Do not use HTTP::Session2::ClientStore. Use HTTP::Session2::ServerStore or HTTP::Session2::ClientStore2 instead. at /home/cpan/.cpan/build/HTTP-Session2-1.10-0/blib/lib/HTTP/Session2/ClientStore.pm line 25.
Secret string too short at /home/cpan/.cpan/build/HTTP-Session2-1.10-0/blib/lib/HTTP/Session2/Base.pm line 79.
	HTTP::Session2::Base::__ANON__(HTTP::Session2::ClientStore=HASH(0x4f0ac33b08), "secret") called at t/07_client_store.t line 87
	main::__ANON__() called at /home/cpan/bin/perl/lib/5.43.4/Test/Builder.pm line 368
	eval {...} called at /home/cpan/bin/perl/lib/5.43.4/Test/Builder.pm line 368
	Test::Builder::subtest(Test::Builder=HASH(0x4f1a247928), "ignore_old disabled", CODE(0x4f0ac39460)) called at /home/cpan/bin/perl/lib/5.43.4/Test/More.pm line 831
	Test::More::subtest("ignore_old disabled", CODE(0x4f0ac39460)) called at t/07_client_store.t line 95
	main::__ANON__() called at /home/cpan/bin/perl/lib/5.43.4/Test/Builder.pm line 368
	eval {...} called at /home/cpan/bin/perl/lib/5.43.4/Test/Builder.pm line 368
	Test::Builder::subtest(Test::Builder=HASH(0x4f1a247928), "ignore_old", CODE(0x4f286f8fd0)) called at /home/cpan/bin/perl/lib/5.43.4/Test/More.pm line 831
	Test::More::subtest("ignore_old", CODE(0x4f286f8fd0)) called at t/07_client_store.t line 106
Do not use HTTP::Session2::ClientStore. Use HTTP::Session2::ServerStore or HTTP::Session2::ClientStore2 instead. at /home/cpan/.cpan/build/HTTP-Session2-1.10-0/blib/lib/HTTP/Session2/ClientStore.pm line 35.
Secret string too short at /home/cpan/.cpan/build/HTTP-Session2-1.10-0/blib/lib/HTTP/Session2/Base.pm line 79.
	HTTP::Session2::Base::__ANON__(HTTP::Session2::ClientStore=HASH(0x4f0ac36520), "secret") called at t/07_client_store.t line 97
	main::__ANON__() called at /home/cpan/bin/perl/lib/5.43.4/Test/Builder.pm line 368
	eval {...} called at /home/cpan/bin/perl/lib/5.43.4/Test/Builder.pm line 368
	Test::Builder::subtest(Test::Builder=HASH(0x4f1a247928), "ignore_old enabled", CODE(0x4f0ac39460)) called at /home/cpan/bin/perl/lib/5.43.4/Test/More.pm line 831
	Test::More::subtest("ignore_old enabled", CODE(0x4f0ac39460)) called at t/07_client_store.t line 105
	main::__ANON__() called at /home/cpan/bin/perl/lib/5.43.4/Test/Builder.pm line 368
	eval {...} called at /home/cpan/bin/perl/lib/5.43.4/Test/Builder.pm line 368
	Test::Builder::subtest(Test::Builder=HASH(0x4f1a247928), "ignore_old", CODE(0x4f286f8fd0)) called at /home/cpan/bin/perl/lib/5.43.4/Test/More.pm line 831
	Test::More::subtest("ignore_old", CODE(0x4f286f8fd0)) called at t/07_client_store.t line 106
t/07_client_store.t ......... ok
Secret string too short at /home/cpan/.cpan/build/HTTP-Session2-1.10-0/blib/lib/HTTP/Session2/Base.pm line 79.
	HTTP::Session2::Base::__ANON__(HTTP::Session2::Expired=HASH(0x812b3c99610), 33333) called at t/08_expired.t line 7
t/08_expired.t .............. ok
# /dev/urandom available
# /dev/urandom(1): -Ty2V7JeRAGKiH0atUpq9iUjB6kXHA3
# /dev/urandom(2): fNL1O1quZXmZAGXpV1_YxTn787pzj3o
# perl:            397b36eccc328d161d8ca54114b19f1
t/09_random.t ............... ok
t/11_secret_string.t ........ ok
Secret string too short at /home/cpan/.cpan/build/HTTP-Session2-1.10-0/blib/lib/HTTP/Session2/Base.pm line 79.
	HTTP::Session2::Base::__ANON__(HTTP::Session2::ClientStore2=HASH(0x23802757208), "s3cret") called at t/client_store2/01_basic.t line 24
	main::__ANON__("client -> server: request without cookie", CODE(0x2380272cd18)) called at t/client_store2/01_basic.t line 30
	main::__ANON__() called at /home/cpan/bin/perl/lib/5.43.4/Test/Builder.pm line 368
	eval {...} called at /home/cpan/bin/perl/lib/5.43.4/Test/Builder.pm line 368
	Test::Builder::subtest(Test::Builder=HASH(0x237617029b8), "First request", CODE(0x237947856b8)) called at /home/cpan/bin/perl/lib/5.43.4/Test/More.pm line 831
	Test::More::subtest("First request", CODE(0x237947856b8)) called at t/client_store2/01_basic.t line 9
	main::scenario("First request", CODE(0x237947856b8)) called at t/client_store2/01_basic.t line 36
Secret string too short at /home/cpan/.cpan/build/HTTP-Session2-1.10-0/blib/lib/HTTP/Session2/Base.pm line 79.
	HTTP::Session2::Base::__ANON__(HTTP::Session2::ClientStore2=HASH(0x2380272c4a8), "s3cret") called at t/client_store2/01_basic.t line 41
	main::__ANON__("client -> server: request without cookie", CODE(0x23802736598)) called at t/client_store2/01_basic.t line 47
	main::__ANON__() called at /home/cpan/bin/perl/lib/5.43.4/Test/Builder.pm line 368
	eval {...} called at /home/cpan/bin/perl/lib/5.43.4/Test/Builder.pm line 368
	Test::Builder::subtest(Test::Builder=HASH(0x237617029b8), "Store something without login", CODE(0x237947856b8)) called at /home/cpan/bin/perl/lib/5.43.4/Test/More.pm line 831
	Test::More::subtest("Store something without login", CODE(0x237947856b8)) called at t/client_store2/01_basic.t line 9
	main::scenario("Store something without login", CODE(0x237947856b8)) called at t/client_store2/01_basic.t line 63
WARNING: The key derivation method "opensslv1" is deprecated. Using -pbkdf=>'pbkdf2' would be better.
Pass -nodeprecate=>1 to inhibit this message.
 at /home/cpan/.cpan/build/HTTP-Session2-1.10-0/blib/lib/HTTP/Session2/ClientStore2.pm line 177.
Secret string too short at /home/cpan/.cpan/build/HTTP-Session2-1.10-0/blib/lib/HTTP/Session2/Base.pm line 79.
	HTTP::Session2::Base::__ANON__(HTTP::Session2::ClientStore2=HASH(0x2380273b5e0), "s3cret") called at t/client_store2/01_basic.t line 69
	main::__ANON__("client -> server: request without cookie", CODE(0x23802736490)) called at t/client_store2/01_basic.t line 76
	main::__ANON__() called at /home/cpan/bin/perl/lib/5.43.4/Test/Builder.pm line 368
	eval {...} called at /home/cpan/bin/perl/lib/5.43.4/Test/Builder.pm line 368
	Test::Builder::subtest(Test::Builder=HASH(0x237617029b8), "Login", CODE(0x237947856b8)) called at /home/cpan/bin/perl/lib/5.43.4/Test/More.pm line 831
	Test::More::subtest("Login", CODE(0x237947856b8)) called at t/client_store2/01_basic.t line 9
	main::scenario("Login", CODE(0x237947856b8)) called at t/client_store2/01_basic.t line 96
Ciphertext does not begin with a valid header for 'salt' header mode at /home/cpan/.cpan/build/HTTP-Session2-1.10-0/blib/lib/HTTP/Session2/ClientStore2.pm line 81.
Ciphertext does not begin with a valid header for 'salt' header mode at /home/cpan/.cpan/build/HTTP-Session2-1.10-0/blib/lib/HTTP/Session2/ClientStore2.pm line 81.
WARNING: The key derivation method "opensslv1" is deprecated. Using -pbkdf=>'pbkdf2' would be better.
Pass -nodeprecate=>1 to inhibit this message.
 at /home/cpan/.cpan/build/HTTP-Session2-1.10-0/blib/lib/HTTP/Session2/ClientStore2.pm line 177.
Secret string too short at /home/cpan/.cpan/build/HTTP-Session2-1.10-0/blib/lib/HTTP/Session2/Base.pm line 79.
	HTTP::Session2::Base::__ANON__(HTTP::Session2::ClientStore2=HASH(0x23802757bf8), "s3cret") called at t/client_store2/01_basic.t line 102
	main::__ANON__("client -> server: request without cookie", CODE(0x2380273a0e8)) called at t/client_store2/01_basic.t line 109
	main::__ANON__() called at /home/cpan/bin/perl/lib/5.43.4/Test/Builder.pm line 368
	eval {...} called at /home/cpan/bin/perl/lib/5.43.4/Test/Builder.pm line 368
	Test::Builder::subtest(Test::Builder=HASH(0x237617029b8), "In a login session", CODE(0x237947856b8)) called at /home/cpan/bin/perl/lib/5.43.4/Test/More.pm line 831
	Test::More::subtest("In a login session", CODE(0x237947856b8)) called at t/client_store2/01_basic.t line 9
	main::scenario("In a login session", CODE(0x237947856b8)) called at t/client_store2/01_basic.t line 118
Ciphertext does not begin with a valid header for 'salt' header mode at /home/cpan/.cpan/build/HTTP-Session2-1.10-0/blib/lib/HTTP/Session2/ClientStore2.pm line 81.
WARNING: The key derivation method "opensslv1" is deprecated. Using -pbkdf=>'pbkdf2' would be better.
Pass -nodeprecate=>1 to inhibit this message.
 at /home/cpan/.cpan/build/HTTP-Session2-1.10-0/blib/lib/HTTP/Session2/ClientStore2.pm line 177.
Secret string too short at /home/cpan/.cpan/build/HTTP-Session2-1.10-0/blib/lib/HTTP/Session2/Base.pm line 79.
	HTTP::Session2::Base::__ANON__(HTTP::Session2::ClientStore2=HASH(0x2380272c910), "s3cret") called at t/client_store2/01_basic.t line 123
	main::__ANON__("client -> server: request without cookie", CODE(0x23802736748)) called at t/client_store2/01_basic.t line 130
	main::__ANON__() called at /home/cpan/bin/perl/lib/5.43.4/Test/Builder.pm line 368
	eval {...} called at /home/cpan/bin/perl/lib/5.43.4/Test/Builder.pm line 368
	Test::Builder::subtest(Test::Builder=HASH(0x237617029b8), "Logout", CODE(0x237947856b8)) called at /home/cpan/bin/perl/lib/5.43.4/Test/More.pm line 831
	Test::More::subtest("Logout", CODE(0x237947856b8)) called at t/client_store2/01_basic.t line 9
	main::scenario("Logout", CODE(0x237947856b8)) called at t/client_store2/01_basic.t line 143
Ciphertext does not begin with a valid header for 'salt' header mode at /home/cpan/.cpan/build/HTTP-Session2-1.10-0/blib/lib/HTTP/Session2/ClientStore2.pm line 81.
t/client_store2/01_basic.t .. ok
WARNING: The key derivation method "opensslv1" is deprecated. Using -pbkdf=>'pbkdf2' would be better.
Pass -nodeprecate=>1 to inhibit this message.
 at /home/cpan/.cpan/build/HTTP-Session2-1.10-0/blib/lib/HTTP/Session2/ClientStore2.pm line 177.
WARNING: The key derivation method "opensslv1" is deprecated. Using -pbkdf=>'pbkdf2' would be better.
Pass -nodeprecate=>1 to inhibit this message.
 at /home/cpan/.cpan/build/HTTP-Session2-1.10-0/blib/lib/HTTP/Session2/ClientStore2.pm line 177.
WARNING: The key derivation method "opensslv1" is deprecated. Using -pbkdf=>'pbkdf2' would be better.
Pass -nodeprecate=>1 to inhibit this message.
 at /home/cpan/.cpan/build/HTTP-Session2-1.10-0/blib/lib/HTTP/Session2/ClientStore2.pm line 177.
t/client_store2/02_mech.t ... ok
WARNING: The key derivation method "opensslv1" is deprecated. Using -pbkdf=>'pbkdf2' would be better.
Pass -nodeprecate=>1 to inhibit this message.
 at /home/cpan/.cpan/build/HTTP-Session2-1.10-0/blib/lib/HTTP/Session2/ClientStore2.pm line 177.
t/client_store2/03_colon.t .. ok
All tests successful.
Files=14, Tests=84,  2 wallclock secs ( 0.06 usr  0.02 sys +  1.45 cusr  0.39 csys =  1.92 CPU)
Result: PASS

------------------------------
PREREQUISITES
------------------------------

Prerequisite modules loaded:

requires:

    Module                     Need     Have    
    -------------------------- -------- --------
    Cookie::Baker              0        0.12    
    Crypt::CBC                 0        3.07    
    Data::MessagePack          0        1.02    
    Digest::HMAC               0        1.05    
    Digest::SHA                0        6.04    
    Digest::SHA1               0        2.13    
    MIME::Base64               3.11     3.16_01 
    Mouse                      0        v2.5.11 
    parent                     0        0.244   
    perl                       5.008005 5.043004
    Time::HiRes                0        1.9779  

build_requires:

    Module                     Need     Have    
    -------------------------- -------- --------
    Crypt::Rijndael            0        1.16    
    Plack::Request             0        1.0051  
    Plack::Response            0        1.0051  
    Test::More                 0.98     1.302214
    Test::WWW::Mechanize::PSGI 0        0.39    

configure_requires:

    Module                     Need     Have    
    -------------------------- -------- --------
    Module::Build::Tiny        0.035    0.052   


------------------------------
ENVIRONMENT AND OTHER CONTEXT
------------------------------

Environment variables:

    AUTOMATED_TESTING = 1
    DATE_MANIP_TEST_DM5 = 1
    LC_ALL = C
    NONINTERACTIVE_TESTING = 1
    NO_NETWORK_TESTING = 1
    PATH = /home/cpan/bin/perl/bin:/home/cpan/bin:/home/cpan/bin:/bin:/sbin:/usr/bin:/usr/sbin:/usr/X11R6/bin:/usr/local/bin:/usr/local/sbin
    PERL5LIB = 
    PERL5OPT = 
    PERL5_CPANPLUS_IS_RUNNING = 5171
    PERL5_CPAN_IS_RUNNING = 5171
    PERL_MM_USE_DEFAULT = 1
    PERL_PERTURB_KEYS = 0
    PERL_USE_UNSAFE_INC = 1
    SHELL = /usr/local/bin/bash
    TERM = screen
    TMPDIR = /home/cpan/tmp

Perl special variables (and OS-specific diagnostics, for MSWin32):

    $^X = /home/cpan/bin/perl/bin/perl5.43.4
    $UID/$EUID = 1001 / 1001
    $GID = 1001 1001
    $EGID = 1001 1001

Perl module toolchain versions installed:

    Module              Have    
    ------------------- --------
    CPAN                2.38    
    CPAN::Meta          2.150010
    Cwd                 3.94    
    ExtUtils::CBuilder  0.280242
    ExtUtils::Command   7.76    
    ExtUtils::Install   2.22    
    ExtUtils::MakeMaker 7.76    
    ExtUtils::Manifest  1.75    
    ExtUtils::ParseXS   3.60    
    File::Spec          3.94    
    JSON                4.10    
    JSON::PP            4.16    
    Module::Build       0.4234  
    Module::Signature   n/a     
    Parse::CPAN::Meta   2.150010
    Test2               1.302214
    Test::Harness       3.52    
    Test::More          1.302214
    YAML                1.31    
    YAML::Syck          1.36    
    version             0.9933  


--

Summary of my perl5 (revision 5 version 43 subversion 4) configuration:
  Commit id: 1a9cfc30d525f8057cce4e47097937f2908dd1cc
  Platform:
    osname=openbsd
    osvers=7.7
    archname=OpenBSD.amd64-openbsd-thread-multi
    uname='openbsd cjg-openbsd7 7.7 generic#2 amd64 '
    config_args='-des -Dprefix=/home/cpan/bin/perl -Dscriptdir=/home/cpan/bin/perl/bin -Dusedevel -Duse64bitall -Duseithreads'
    hint=recommended
    useposix=true
    d_sigaction=define
    useithreads=define
    usemultiplicity=define
    use64bitint=define
    use64bitall=define
    uselongdouble=undef
    usemymalloc=n
    default_inc_excludes_dot=define
  Compiler:
    cc='cc'
    ccflags ='-pthread -DNO_LOCALE_NUMERIC -DNO_LOCALE_COLLATE -DNO_LOCALE_MONETARY -DNO_LOCALE_TIME -DNO_LOCALE_MESSAGES -DLIBC_HANDLES_MISMATCHED_CTYPE -fno-strict-aliasing -pipe -fstack-protector-strong -I/usr/local/include'
    optimize='-O2'
    cppflags='-pthread -DNO_LOCALE_NUMERIC -DNO_LOCALE_COLLATE -DNO_LOCALE_MONETARY -DNO_LOCALE_TIME -DNO_LOCALE_MESSAGES -DLIBC_HANDLES_MISMATCHED_CTYPE -fno-strict-aliasing -pipe -fstack-protector-strong -I/usr/local/include'
    ccversion=''
    gccversion='OpenBSD Clang 16.0.6'
    gccosandvers=''
    intsize=4
    longsize=8
    ptrsize=8
    doublesize=8
    byteorder=12345678
    doublekind=3
    d_longlong=define
    longlongsize=8
    d_longdbl=define
    longdblsize=16
    longdblkind=3
    ivtype='long'
    ivsize=8
    nvtype='double'
    nvsize=8
    Off_t='off_t'
    lseeksize=8
    alignbytes=8
    prototype=define
  Linker and Libraries:
    ld='cc'
    ldflags ='-pthread -Wl,-E  -fstack-protector-strong -L/usr/local/lib'
    libpth=/usr/lib/clang/16/lib /usr/lib /usr/local/lib
    libs=-lpthread -lm -lutil -lc
    perllibs=-lpthread -lm -lutil -lc
    libc=/usr/lib/libc.so.100.3
    so=so
    useshrplib=false
    libperl=libperl.a
    gnulibc_version=''
  Dynamic Linking:
    dlsrc=dl_dlopen.xs
    dlext=so
    d_dlsymun=undef
    ccdlflags=' '
    cccdlflags='-DPIC -fPIC '
    lddlflags='-shared -fPIC  -L/usr/local/lib -fstack-protector-strong'


Characteristics of this binary (from libperl): 
  Compile-time options:
    HAS_LONG_DOUBLE
    HAS_STRTOLD
    HAS_TIMES
    MULTIPLICITY
    PERLIO_LAYERS
    PERL_COPY_ON_WRITE
    PERL_DONT_CREATE_GVSV
    PERL_HASH_FUNC_SIPHASH13
    PERL_HASH_USE_SBOX32
    PERL_MALLOC_WRAP
    PERL_OP_PARENT
    PERL_PRESERVE_IVUV
    PERL_USE_DEVEL
    PERL_USE_SAFE_PUTENV
    USE_64_BIT_ALL
    USE_64_BIT_INT
    USE_ITHREADS
    USE_LARGE_FILES
    USE_LOCALE
    USE_LOCALE_CTYPE
    USE_PERLIO
    USE_PERL_ATOF
    USE_REENTRANT_API
    USE_THREAD_SAFE_LOCALE
  Built under openbsd
  Compiled at Oct 16 2025 12:43:15
  %ENV:
    PERL5LIB=""
    PERL5OPT=""
    PERL5_CPANPLUS_IS_RUNNING="5171"
    PERL5_CPAN_IS_RUNNING="5171"
    PERL_MM_USE_DEFAULT="1"
    PERL_PERTURB_KEYS="0"
    PERL_USE_UNSAFE_INC="1"
  @INC:
    /home/cpan/bin/perl/lib/site_perl/5.43.4/OpenBSD.amd64-openbsd-thread-multi
    /home/cpan/bin/perl/lib/site_perl/5.43.4
    /home/cpan/bin/perl/lib/5.43.4/OpenBSD.amd64-openbsd-thread-multi
    /home/cpan/bin/perl/lib/5.43.4
    .