IO-Iron v0.13 Perl 5 v5.29.8 x86_64-linux-thread-multi

Status
Pass
From
Andreas J. König (ANDK)
Dist
IO-Iron v0.13
Platform
Perl 5 v5.29.8 x86_64-linux-thread-multi
Date
2019-02-26 12:36:28
ID
231796f6-39c3-11e9-8057-723f0eda5942
This distribution has been tested as part of the CPAN Testers
project, supporting the Perl programming language.  See
http://wiki.cpantesters.org/ for more information or email
questions to cpan-testers-discuss@perl.org


--
Dear Mikko Koivunalho,

This is a computer-generated report for IO-Iron-0.13
on perl 5.29.8, created by CPAN-Reporter-1.2018.

Thank you for uploading your work to CPAN.  Congratulations!
All tests were successful.

Sections of this report:

    * Tester comments
    * Program output
    * Prerequisites
    * Environment and other context

------------------------------
TESTER COMMENTS
------------------------------

Additional comments from tester:

this report is from an automated smoke testing program
and was not reviewed by a human for accuracy

------------------------------
PROGRAM OUTPUT
------------------------------

Output from '/usr/bin/make test':

PERL_DL_NONLAZY=1 "/home/sand/src/perl/repoperls/installed-perls/host/k93bionic/v5.29.8/7ee9/bin/perl" "-MExtUtils::Command::MM" "-MTest::Harness" "-e" "undef *Test::Harness::Switches; test_harness(0, 'blib/lib', 'blib/arch')" t/*.t t/Iron/*.t t/IronCache/*.t t/IronMQ/*.t t/IronWorker/*.t
# 
# Versions for all modules listed in MYMETA.json (including optional ones):
# 
# === Configure Requires ===
# 
#     Module              Want Have
#     ------------------- ---- ----
#     ExtUtils::MakeMaker  any 7.34
# 
# === Build Requires ===
# 
#     Module              Want Have
#     ------------------- ---- ----
#     ExtUtils::MakeMaker  any 7.34
# 
# === Test Requires ===
# 
#     Module              Want     Have
#     ------------------- ---- --------
#     Data::Dumper         any    2.173
#     ExtUtils::MakeMaker  any     7.34
#     File::Copy           any     2.34
#     File::Remove         any     1.58
#     File::Spec           any     3.77
#     Log::Any::Test       any    1.707
#     Test::Exception      any     0.43
#     Test::More           any 1.302162
#     lib                  any     0.65
# 
# === Test Recommends ===
# 
#     Module         Want     Have
#     ---------- -------- --------
#     CPAN::Meta 2.120900 2.150010
# 
# === Runtime Requires ===
# 
#     Module             Want     Have
#     ------------------ ---- --------
#     Carp                any     1.50
#     Carp::Assert        any     0.21
#     Carp::Assert::More  any     1.16
#     Const::Fast         any    0.014
#     Data::UUID          any    1.221
#     English             any     1.10
#     Exception::Class    any     1.44
#     Exporter            any     5.73
#     File::HomeDir       any    1.004
#     File::Spec          any     3.77
#     Hash::Util         0.06     0.22
#     JSON::MaybeXS       any 1.004000
#     Log::Any            any    1.707
#     Params::Validate    any     1.29
#     Path::Tiny          any    0.108
#     REST::Client        any      273
#     Scalar::Util        any     1.50
#     Try::Tiny           any     0.30
#     URI::Escape         any     3.31
#     parent              any    0.237
#     strict              any     1.11
#     warnings            any     1.43
# 
t/00-report-prereqs.t ........ ok
# Testing IO::Iron::IronWorker::Client (0.13), Perl 5.029008, /home/sand/src/perl/repoperls/installed-perls/host/k93bionic/v5.29.8/7ee9/bin/perl
# test ReadIronMQConfig
# Current dir config filename: ./iron.json
# Extra config filename: t/.IronMQTestConfig.json
t/Iron/client_readconfig.t ... ok
# Testing IO::Iron::Common (0.13), Perl 5.029008, /home/sand/src/perl/repoperls/installed-perls/host/k93bionic/v5.29.8/7ee9/bin/perl
t/Iron/common.t .............. ok
# Testing IO::Iron (0.13), Perl 5.029008, /home/sand/src/perl/repoperls/installed-perls/host/k93bionic/v5.29.8/7ee9/bin/perl
t/Iron/load.t ................ ok
# Testing IO::Iron::IronCache::Client (0.13) with policies, Perl 5.029008, /home/sand/src/perl/repoperls/installed-perls/host/k93bionic/v5.29.8/7ee9/bin/perl
t/IronCache/cache_policy.t ... ok
# Testing IO::Iron::IronCache::Client (0.13), Perl 5.029008, /home/sand/src/perl/repoperls/installed-perls/host/k93bionic/v5.29.8/7ee9/bin/perl
t/IronCache/cache_policy2.t .. ok
# Testing IO::Iron::IronCache::Client (0.13), Perl 5.029008, /home/sand/src/perl/repoperls/installed-perls/host/k93bionic/v5.29.8/7ee9/bin/perl
t/IronCache/load.t ........... ok
# Testing IO::Iron::IronMQ::Client (0.13), Perl 5.029008, /home/sand/src/perl/repoperls/installed-perls/host/k93bionic/v5.29.8/7ee9/bin/perl
t/IronMQ/load.t .............. ok
# Testing IO::Iron::IronCache::Client (0.13), Perl 5.029008, /home/sand/src/perl/repoperls/installed-perls/host/k93bionic/v5.29.8/7ee9/bin/perl
t/IronWorker/load.t .......... ok
All tests successful.
Files=9, Tests=104,  3 wallclock secs ( 0.05 usr  0.06 sys +  1.37 cusr  0.63 csys =  2.11 CPU)
Result: PASS

------------------------------
PREREQUISITES
------------------------------

Prerequisite modules loaded:

requires:

    Module              Need      Have    
    ------------------- --------- --------
    Carp                0         1.50    
    Carp::Assert        0         0.21    
    Carp::Assert::More  0         1.16    
    Const::Fast         0         0.014   
    Data::UUID          0         1.221   
    English             0         1.10    
    Exception::Class    0         1.44    
    Exporter            0         5.73    
    File::HomeDir       0         1.004   
    File::Spec          0         3.77    
    Hash::Util          0.06      0.22    
    JSON::MaybeXS       0         1.004000
    Log::Any            0         1.707   
    Params::Validate    0         1.29    
    parent              0         0.237   
    Path::Tiny          0         0.108   
    perl                5.010000  5.029008
    REST::Client        0         273     
    Scalar::Util        0         1.50    
    strict              0         1.11    
    Try::Tiny           0         0.30    
    URI::Escape         0         3.31    
    warnings            0         1.43    

build_requires:

    Module              Need      Have    
    ------------------- --------- --------
    Data::Dumper        0         2.173   
    ExtUtils::MakeMaker 0         7.34    
    File::Copy          0         2.34    
    File::Remove        0         1.58    
    File::Spec          0         3.77    
    lib                 0         0.65    
    Log::Any::Test      0         1.707   
    Test::Exception     0         0.43    
    Test::More          0         1.302162

configure_requires:

    Module              Need      Have    
    ------------------- --------- --------
    ExtUtils::MakeMaker 0         7.34    
    perl                5.010_000 5.029008


------------------------------
ENVIRONMENT AND OTHER CONTEXT
------------------------------

Environment variables:

    AUTOMATED_TESTING = 1
    LANG = en_US.UTF-8
    PATH = /home/sand/bin:/usr/local/bin:/usr/local/sbin:/usr/sbin:/usr/bin:/sbin:/bin:/usr/games:/usr/local/games:/usr/local/perl/bin:/usr/X11/bin
    PERL = /home/sand/src/perl/repoperls/installed-perls/host/k93bionic/v5.29.8/7ee9/bin/perl
    PERL5LIB = /tmp/loop_over_bdir-16716-P3CY3l/URI-Title-1.900-0/blib/arch:/tmp/loop_over_bdir-16716-P3CY3l/URI-Title-1.900-0/blib/lib:/tmp/loop_over_bdir-16716-P3CY3l/Logfile-0.300-0/blib/arch:/tmp/loop_over_bdir-16716-P3CY3l/Logfile-0.300-0/blib/lib:/tmp/loop_over_bdir-16716-P3CY3l/Bio-MAGE-20020902.6-0/blib/arch:/tmp/loop_over_bdir-16716-P3CY3l/Bio-MAGE-20020902.6-0/blib/lib:/tmp/loop_over_bdir-16716-P3CY3l/UMMF-0.26-0/blib/arch:/tmp/loop_over_bdir-16716-P3CY3l/UMMF-0.26-0/blib/lib:/tmp/loop_over_bdir-16716-P3CY3l/Getopt-Complete-0.25-0/blib/arch:/tmp/loop_over_bdir-16716-P3CY3l/Getopt-Complete-0.25-0/blib/lib:/tmp/loop_over_bdir-16716-P3CY3l/Finance-Quote-1.08-0/blib/arch:/tmp/loop_over_bdir-16716-P3CY3l/Finance-Quote-1.08-0/blib/lib:/tmp/loop_over_bdir-16716-P3CY3l/MojoX-Plugin-AnyCache-0.01-0/blib/arch:/tmp/loop_over_bdir-16716-P3CY3l/MojoX-Plugin-AnyCache-0.01-0/blib/lib:/tmp/loop_over_bdir-16716-P3CY3l/XML-XQL-0.68-0/blib/arch:/tmp/loop_over_bdir-16716-P3CY3l/XML-XQL-0.68-0/blib/lib:/tmp/loop_over_bdir-16716-P3CY3l/API-Name-0.02-0/blib/arch:/tmp/loop_over_bdir-16716-P3CY3l/API-Name-0.02-0/blib/lib:/tmp/loop_over_bdir-16716-P3CY3l/Reflex-0.099-0/blib/arch:/tmp/loop_over_bdir-16716-P3CY3l/Reflex-0.099-0/blib/lib
    PERL5OPT = 
    PERL5_CPANPLUS_IS_RUNNING = 16733
    PERL5_CPAN_IS_RUNNING = 16733
    PERL_CANARY_STABILITY_NOPROMPT = 1
    PERL_MM_USE_DEFAULT = 1
    PERL_USE_UNSAFE_INC = 1
    SHELL = /usr/bin/zsh
    TERM = screen

Perl special variables (and OS-specific diagnostics, for MSWin32):

    $^X = /home/sand/src/perl/repoperls/installed-perls/host/k93bionic/v5.29.8/7ee9/bin/perl
    $UID/$EUID = 1005 / 1005
    $GID = 1005 1005
    $EGID = 1005 1005

Perl module toolchain versions installed:

    Module              Have    
    ------------------- --------
    CPAN                2.22    
    CPAN::Meta          2.150010
    Cwd                 3.77    
    ExtUtils::CBuilder  0.280230
    ExtUtils::Command   7.34    
    ExtUtils::Install   2.14    
    ExtUtils::MakeMaker 7.34    
    ExtUtils::Manifest  1.71    
    ExtUtils::ParseXS   3.40    
    File::Spec          3.77    
    JSON                4.02    
    JSON::PP            4.00    
    Module::Build       0.4224  
    Module::Signature   0.83    
    Parse::CPAN::Meta   2.150010
    Test::Harness       3.42    
    Test::More          1.302162
    YAML                1.27    
    YAML::Syck          1.31    
    version             0.9924  


--

Summary of my perl5 (revision 5 version 29 subversion 8) configuration:
  Commit id: ca8b93afd02ddde55c1aa9e6fbff9acdad31593d
  Platform:
    osname=linux
    osvers=4.15.0-45-generic
    archname=x86_64-linux-thread-multi
    uname='linux k93bionic 4.15.0-45-generic #48-ubuntu smp tue jan 29 16:28:13 utc 2019 x86_64 x86_64 x86_64 gnulinux '
    config_args='-Dprefix=/home/sand/src/perl/repoperls/installed-perls/host/k93bionic/v5.29.8/7ee9 -Dmyhostname=k93bionic -Dinstallusrbinperl=n -Uversiononly -Dusedevel -des -Ui_db -Dlibswanted=cl pthread socket inet nsl gdbm dbm malloc dl ld sun m crypt sec util c cposix posix ucb BSD gdbm_compat -Duseithreads -Uuselongdouble -DEBUGGING=-g'
    hint=recommended
    useposix=true
    d_sigaction=define
    useithreads=define
    usemultiplicity=define
    use64bitint=define
    use64bitall=define
    uselongdouble=undef
    usemymalloc=n
    default_inc_excludes_dot=define
    bincompat5005=undef
  Compiler:
    cc='cc'
    ccflags ='-D_REENTRANT -D_GNU_SOURCE -fwrapv -fno-strict-aliasing -pipe -fstack-protector-strong -I/usr/local/include -D_LARGEFILE_SOURCE -D_FILE_OFFSET_BITS=64'
    optimize='-O2 -g'
    cppflags='-D_REENTRANT -D_GNU_SOURCE -fwrapv -fno-strict-aliasing -pipe -fstack-protector-strong -I/usr/local/include'
    ccversion=''
    gccversion='7.3.0'
    gccosandvers=''
    intsize=4
    longsize=8
    ptrsize=8
    doublesize=8
    byteorder=12345678
    doublekind=3
    d_longlong=define
    longlongsize=8
    d_longdbl=define
    longdblsize=16
    longdblkind=3
    ivtype='long'
    ivsize=8
    nvtype='double'
    nvsize=8
    Off_t='off_t'
    lseeksize=8
    alignbytes=8
    prototype=define
  Linker and Libraries:
    ld='cc'
    ldflags =' -fstack-protector-strong -L/usr/local/lib'
    libpth=/usr/local/lib /usr/lib/gcc/x86_64-linux-gnu/7/include-fixed /usr/include/x86_64-linux-gnu /usr/lib /lib/x86_64-linux-gnu /lib/../lib /usr/lib/x86_64-linux-gnu /usr/lib/../lib /lib
    libs=-lpthread -lnsl -ldl -lm -lcrypt -lutil -lc
    perllibs=-lpthread -lnsl -ldl -lm -lcrypt -lutil -lc
    libc=libc-2.27.so
    so=so
    useshrplib=false
    libperl=libperl.a
    gnulibc_version='2.27'
  Dynamic Linking:
    dlsrc=dl_dlopen.xs
    dlext=so
    d_dlsymun=undef
    ccdlflags='-Wl,-E'
    cccdlflags='-fPIC'
    lddlflags='-shared -O2 -g -L/usr/local/lib -fstack-protector-strong'


Characteristics of this binary (from libperl): 
  Compile-time options:
    HAS_TIMES
    MULTIPLICITY
    PERLIO_LAYERS
    PERL_COPY_ON_WRITE
    PERL_DONT_CREATE_GVSV
    PERL_IMPLICIT_CONTEXT
    PERL_MALLOC_WRAP
    PERL_OP_PARENT
    PERL_PRESERVE_IVUV
    PERL_USE_DEVEL
    USE_64_BIT_ALL
    USE_64_BIT_INT
    USE_ITHREADS
    USE_LARGE_FILES
    USE_LOCALE
    USE_LOCALE_COLLATE
    USE_LOCALE_CTYPE
    USE_LOCALE_NUMERIC
    USE_LOCALE_TIME
    USE_PERLIO
    USE_PERL_ATOF
    USE_REENTRANT_API
    USE_THREAD_SAFE_LOCALE
  Built under linux
  Compiled at Feb 25 2019 20:18:14
  %ENV:
    PERL="/home/sand/src/perl/repoperls/installed-perls/host/k93bionic/v5.29.8/7ee9/bin/perl"
    PERL5LIB="/tmp/loop_over_bdir-16716-P3CY3l/URI-Title-1.900-0/blib/arch:/tmp/loop_over_bdir-16716-P3CY3l/URI-Title-1.900-0/blib/lib:/tmp/loop_over_bdir-16716-P3CY3l/Logfile-0.300-0/blib/arch:/tmp/loop_over_bdir-16716-P3CY3l/Logfile-0.300-0/blib/lib:/tmp/loop_over_bdir-16716-P3CY3l/Bio-MAGE-20020902.6-0/blib/arch:/tmp/loop_over_bdir-16716-P3CY3l/Bio-MAGE-20020902.6-0/blib/lib:/tmp/loop_over_bdir-16716-P3CY3l/UMMF-0.26-0/blib/arch:/tmp/loop_over_bdir-16716-P3CY3l/UMMF-0.26-0/blib/lib:/tmp/loop_over_bdir-16716-P3CY3l/Getopt-Complete-0.25-0/blib/arch:/tmp/loop_over_bdir-16716-P3CY3l/Getopt-Complete-0.25-0/blib/lib:/tmp/loop_over_bdir-16716-P3CY3l/Finance-Quote-1.08-0/blib/arch:/tmp/loop_over_bdir-16716-P3CY3l/Finance-Quote-1.08-0/blib/lib:/tmp/loop_over_bdir-16716-P3CY3l/MojoX-Plugin-AnyCache-0.01-0/blib/arch:/tmp/loop_over_bdir-16716-P3CY3l/MojoX-Plugin-AnyCache-0.01-0/blib/lib:/tmp/loop_over_bdir-16716-P3CY3l/XML-XQL-0.68-0/blib/arch:/tmp/loop_over_bdir-16716-P3CY3l/XML-XQL-0.68-0/blib/lib:/tmp/loop_over_bdir-16716-P3CY3l/API-Name-0.02-0/blib/arch:/tmp/loop_over_bdir-16716-P3CY3l/API-Name-0.02-0/blib/lib:/tmp/loop_over_bdir-16716-P3CY3l/Reflex-0.099-0/blib/arch:/tmp/loop_over_bdir-16716-P3CY3l/Reflex-0.099-0/blib/lib"
    PERL5OPT=""
    PERL5_CPANPLUS_IS_RUNNING="16733"
    PERL5_CPAN_IS_RUNNING="16733"
    PERL_CANARY_STABILITY_NOPROMPT="1"
    PERL_MM_USE_DEFAULT="1"
    PERL_USE_UNSAFE_INC="1"
  @INC:
    /tmp/loop_over_bdir-16716-P3CY3l/URI-Title-1.900-0/blib/arch
    /tmp/loop_over_bdir-16716-P3CY3l/URI-Title-1.900-0/blib/lib
    /tmp/loop_over_bdir-16716-P3CY3l/Logfile-0.300-0/blib/arch
    /tmp/loop_over_bdir-16716-P3CY3l/Logfile-0.300-0/blib/lib
    /tmp/loop_over_bdir-16716-P3CY3l/Bio-MAGE-20020902.6-0/blib/arch
    /tmp/loop_over_bdir-16716-P3CY3l/Bio-MAGE-20020902.6-0/blib/lib
    /tmp/loop_over_bdir-16716-P3CY3l/UMMF-0.26-0/blib/arch
    /tmp/loop_over_bdir-16716-P3CY3l/UMMF-0.26-0/blib/lib
    /tmp/loop_over_bdir-16716-P3CY3l/Getopt-Complete-0.25-0/blib/arch
    /tmp/loop_over_bdir-16716-P3CY3l/Getopt-Complete-0.25-0/blib/lib
    /tmp/loop_over_bdir-16716-P3CY3l/Finance-Quote-1.08-0/blib/arch
    /tmp/loop_over_bdir-16716-P3CY3l/Finance-Quote-1.08-0/blib/lib
    /tmp/loop_over_bdir-16716-P3CY3l/MojoX-Plugin-AnyCache-0.01-0/blib/arch
    /tmp/loop_over_bdir-16716-P3CY3l/MojoX-Plugin-AnyCache-0.01-0/blib/lib
    /tmp/loop_over_bdir-16716-P3CY3l/XML-XQL-0.68-0/blib/arch
    /tmp/loop_over_bdir-16716-P3CY3l/XML-XQL-0.68-0/blib/lib
    /tmp/loop_over_bdir-16716-P3CY3l/API-Name-0.02-0/blib/arch
    /tmp/loop_over_bdir-16716-P3CY3l/API-Name-0.02-0/blib/lib
    /tmp/loop_over_bdir-16716-P3CY3l/Reflex-0.099-0/blib/arch
    /tmp/loop_over_bdir-16716-P3CY3l/Reflex-0.099-0/blib/lib
    /home/sand/src/perl/repoperls/installed-perls/host/k93bionic/v5.29.8/7ee9/lib/site_perl/5.29.8/x86_64-linux-thread-multi
    /home/sand/src/perl/repoperls/installed-perls/host/k93bionic/v5.29.8/7ee9/lib/site_perl/5.29.8
    /home/sand/src/perl/repoperls/installed-perls/host/k93bionic/v5.29.8/7ee9/lib/5.29.8/x86_64-linux-thread-multi
    /home/sand/src/perl/repoperls/installed-perls/host/k93bionic/v5.29.8/7ee9/lib/5.29.8
    .