Test-TCP v2.22_01-TRIAL Perl 5 v5.24.1 i686-linux-thread-multi

Status
Pass
From
Chris Williams (BINGOS)
Dist
Test-TCP v2.22_01-TRIAL
Platform
Perl 5 v5.24.1 i686-linux-thread-multi
Date
2019-11-02 10:32:57
ID
22e3cd6e-fd5c-11e9-9066-e374b0ba08e8
This distribution has been tested as part of the CPAN Testers
project, supporting the Perl programming language.  See
http://wiki.cpantesters.org/ for more information or email
questions to cpan-testers-discuss@perl.org


--

Dear NML,

This is a computer-generated error report created automatically by
CPANPLUS, version 0.9178. Testers personal comments may appear
at the end of this report.


Thank you for uploading your work to CPAN.  Congratulations!
All tests were successful.

TEST RESULTS:

Below is the error stack from stage 'make test':

PERL_DL_NONLAZY=1 "/home/cpan/pit/thr/perl-5.24.1/bin/perl" "-MExtUtils::Command::MM" "-MTest::Harness" "-e" "undef *Test::Harness::Switches; test_harness(0, 'blib/lib', 'blib/arch')" t/*.t
# Test::More: 1.302164
t/00_compile.t ................. ok
t/01_simple.t .................. ok
t/02_abrt.t .................... ok
t/03_return_when_sigterm.t ..... ok
t/04_die.t ..................... ok
# $Config{sig_name}: ZERO HUP INT QUIT ILL TRAP ABRT BUS FPE KILL USR1 SEGV USR2 PIPE ALRM TERM STKFLT CHLD CONT STOP TSTP TTIN TTOU URG XCPU XFSZ VTALRM PROF WINCH IO PWR SYS NUM32 NUM33 RTMIN NUM35 NUM36 NUM37 NUM38 NUM39 NUM40 NUM41 NUM42 NUM43 NUM44 NUM45 NUM46 NUM47 NUM48 NUM49 NUM50 NUM51 NUM52 NUM53 NUM54 NUM55 NUM56 NUM57 NUM58 NUM59 NUM60 NUM61 NUM62 NUM63 RTMAX IOT CLD POLL 
# CHILD_ERROR_NATIVE: 2
# $?: 2
t/05_sigint.t .................. ok
t/06_nest.t .................... ok
t/07_optional.t ................ ok
t/08_exit.t .................... ok
t/09_fork.t .................... ok
t/10_oo.t ...................... ok
    # found an empty IPv6 port
t/11_net_empty_port.t .......... ok
t/12_pass_wait_port_options.t .. ok
t/13_undef_port.t .............. ok
t/14_listen.t .................. ok
All tests successful.
Files=15, Tests=151, 28 wallclock secs ( 0.04 usr  0.01 sys +  1.17 cusr  0.17 csys =  1.39 CPU)
Result: PASS


PREREQUISITES:

Here is a list of prerequisites you specified and versions we
managed to load:

	  Module Name                        Have     Want
	  File::Temp                       0.2309        0
	  IO::Socket::INET                   1.35        0
	  IO::Socket::IP                     0.37        0
	  Socket                         2.020_03        0
	  Test::More                     1.302164        0
	  Test::SharedFork                   0.35     0.29
	  Time::HiRes                      1.9741        0

Perl module toolchain versions installed:
	Module Name                        Have
	CPANPLUS                         0.9178
	CPANPLUS::Dist::Build              0.90
	Cwd                                3.75
	ExtUtils::CBuilder             0.280231
	ExtUtils::Command                  7.36
	ExtUtils::Install                  2.14
	ExtUtils::MakeMaker                7.36
	ExtUtils::Manifest                 1.72
	ExtUtils::ParseXS                  3.35
	File::Spec                         3.75
	Module::Build                    0.4229
	Pod::Parser                        1.63
	Pod::Simple                        3.32
	Test2                          1.302164
	Test::Harness                      3.42
	Test::More                     1.302164
	version                          0.9924

******************************** NOTE ********************************
The comments above are created mechanically, possibly without manual
checking by the sender.  As there are many people performing automatic
tests on each upload to CPAN, it is likely that you will receive
identical messages about the same problem.

If you believe that the message is mistaken, please reply to the first
one with correction and/or additional informations, and do not take
it personally.  We appreciate your patience. :)
**********************************************************************

Additional comments:


This report was machine-generated by CPANPLUS::Dist::YACSmoke 1.08.
Powered by minismokebox version 0.68

CPANPLUS is prefering Build.PL

------------------------------
ENVIRONMENT AND OTHER CONTEXT
------------------------------

Environment variables:

    AUTOMATED_TESTING = 1
    LANG = en_GB.UTF-8
    LANGUAGE = en_GB:en
    NONINTERACTIVE_TESTING = 1
    PATH = /usr/local/bin:/usr/bin:/bin:/usr/local/games:/usr/games
    PERL5LIB = /home/cpan/pit/jail/TLo1omy4XH/lib/perl5:/home/cpan/pit/thr/conf/perl-5.24.1/.cpanplus/5.24.1/build/QgIuc5FTap/Test-TCP-2.22/blib/lib:/home/cpan/pit/thr/conf/perl-5.24.1/.cpanplus/5.24.1/build/QgIuc5FTap/Test-TCP-2.22/blib/arch
    PERL5_CPANPLUS_IS_RUNNING = 25183
    PERL5_CPANPLUS_IS_VERSION = 0.9178
    PERL5_MINISMOKEBOX = 0.68
    PERL5_YACSMOKE_BASE = /home/cpan/pit/thr/conf/perl-5.24.1
    PERL_EXTUTILS_AUTOINSTALL = --defaultdeps
    PERL_LOCAL_LIB_ROOT = /home/cpan/pit/jail/TLo1omy4XH
    PERL_MB_OPT = --install_base "/home/cpan/pit/jail/TLo1omy4XH"
    PERL_MM_OPT = INSTALL_BASE=/home/cpan/pit/jail/TLo1omy4XH
    PERL_MM_USE_DEFAULT = 1
    SHELL = /bin/bash
    TERM = screen

Perl special variables (and OS-specific diagnostics, for MSWin32):

    Perl: $^X = /home/cpan/pit/thr/perl-5.24.1/bin/perl
    UID:  $<  = 1001
    EUID: $>  = 1001
    GID:  $(  = 1001 1001
    EGID: $)  = 1001 1001


-------------------------------


--

Summary of my perl5 (revision 5 version 24 subversion 1) configuration:
   
  Platform:
    osname=linux, osvers=4.19.0-5-686, archname=i686-linux-thread-multi
    uname='linux dagobah 4.19.0-5-686 #1 smp debian 4.19.37-5+deb10u1 (2019-07-19) i686 gnulinux '
    config_args='-des -Dprefix=/home/cpan/pit/thr/perl-5.24.1 -Dusethreads'
    hint=recommended, useposix=true, d_sigaction=define
    useithreads=define, usemultiplicity=define
    use64bitint=undef, use64bitall=undef, uselongdouble=undef
    usemymalloc=n, bincompat5005=undef
  Compiler:
    cc='cc', ccflags ='-D_REENTRANT -D_GNU_SOURCE -fwrapv -fno-strict-aliasing -pipe -fstack-protector-strong -I/usr/local/include -D_LARGEFILE_SOURCE -D_FILE_OFFSET_BITS=64',
    optimize='-O2',
    cppflags='-D_REENTRANT -D_GNU_SOURCE -fwrapv -fno-strict-aliasing -pipe -fstack-protector-strong -I/usr/local/include'
    ccversion='', gccversion='8.3.0', gccosandvers=''
    intsize=4, longsize=4, ptrsize=4, doublesize=8, byteorder=1234, doublekind=3
    d_longlong=define, longlongsize=8, d_longdbl=define, longdblsize=12, longdblkind=3
    ivtype='long', ivsize=4, nvtype='double', nvsize=8, Off_t='off_t', lseeksize=8
    alignbytes=4, prototype=define
  Linker and Libraries:
    ld='cc', ldflags =' -fstack-protector-strong -L/usr/local/lib'
    libpth=/usr/local/lib /usr/lib/gcc/i686-linux-gnu/8/include-fixed /usr/include/i386-linux-gnu /usr/lib /lib/i386-linux-gnu /lib/../lib /usr/lib/i386-linux-gnu /usr/lib/../lib /lib /lib64 /usr/lib64
    libs=-lpthread -lnsl -lgdbm -ldl -lm -lcrypt -lutil -lc
    perllibs=-lpthread -lnsl -ldl -lm -lcrypt -lutil -lc
    libc=libc-2.28.so, so=so, useshrplib=false, libperl=libperl.a
    gnulibc_version='2.28'
  Dynamic Linking:
    dlsrc=dl_dlopen.xs, dlext=so, d_dlsymun=undef, ccdlflags='-Wl,-E'
    cccdlflags='-fPIC', lddlflags='-shared -O2 -L/usr/local/lib -fstack-protector-strong'


Characteristics of this binary (from libperl): 
  Compile-time options: HAS_TIMES MULTIPLICITY PERLIO_LAYERS
                        PERL_COPY_ON_WRITE PERL_DONT_CREATE_GVSV
                        PERL_HASH_FUNC_ONE_AT_A_TIME_HARD
                        PERL_IMPLICIT_CONTEXT PERL_MALLOC_WRAP
                        PERL_PRESERVE_IVUV USE_ITHREADS USE_LARGE_FILES
                        USE_LOCALE USE_LOCALE_COLLATE USE_LOCALE_CTYPE
                        USE_LOCALE_NUMERIC USE_LOCALE_TIME USE_PERLIO
                        USE_PERL_ATOF USE_REENTRANT_API
  Locally applied patches:
	Devel::PatchPerl 1.64
  Built under linux
  Compiled at Aug  9 2019 02:15:55
  %ENV:
    PERL5LIB="/home/cpan/pit/jail/TLo1omy4XH/lib/perl5:/home/cpan/pit/thr/conf/perl-5.24.1/.cpanplus/5.24.1/build/QgIuc5FTap/Test-TCP-2.22/blib/lib:/home/cpan/pit/thr/conf/perl-5.24.1/.cpanplus/5.24.1/build/QgIuc5FTap/Test-TCP-2.22/blib/arch"
    PERL5_CPANPLUS_IS_RUNNING="25183"
    PERL5_CPANPLUS_IS_VERSION="0.9178"
    PERL5_MINISMOKEBOX="0.68"
    PERL5_YACSMOKE_BASE="/home/cpan/pit/thr/conf/perl-5.24.1"
    PERL_EXTUTILS_AUTOINSTALL="--defaultdeps"
    PERL_LOCAL_LIB_ROOT="/home/cpan/pit/jail/TLo1omy4XH"
    PERL_MB_OPT="--install_base "/home/cpan/pit/jail/TLo1omy4XH""
    PERL_MM_OPT="INSTALL_BASE=/home/cpan/pit/jail/TLo1omy4XH"
    PERL_MM_USE_DEFAULT="1"
  @INC:
    /home/cpan/pit/jail/TLo1omy4XH/lib/perl5/5.24.1/i686-linux-thread-multi
    /home/cpan/pit/jail/TLo1omy4XH/lib/perl5/5.24.1
    /home/cpan/pit/jail/TLo1omy4XH/lib/perl5/i686-linux-thread-multi
    /home/cpan/pit/jail/TLo1omy4XH/lib/perl5
    /home/cpan/pit/thr/conf/perl-5.24.1/.cpanplus/5.24.1/build/QgIuc5FTap/Test-TCP-2.22/blib/lib
    /home/cpan/pit/thr/conf/perl-5.24.1/.cpanplus/5.24.1/build/QgIuc5FTap/Test-TCP-2.22/blib/arch
    /home/cpan/pit/thr/perl-5.24.1/lib/site_perl/5.24.1/i686-linux-thread-multi
    /home/cpan/pit/thr/perl-5.24.1/lib/site_perl/5.24.1
    /home/cpan/pit/thr/perl-5.24.1/lib/5.24.1/i686-linux-thread-multi
    /home/cpan/pit/thr/perl-5.24.1/lib/5.24.1
    .