Report for HTTP-Session2-1.08

Back
From: metabase:user:320bfe00-2aae-11df-837a-5e0a49663a4f
Subject: PASS HTTP-Session2-1.08 v5.20.0 GNU/Linux
Date: 2014-08-03T07:52:37Z

This distribution has been tested as part of the CPAN Testers
project, supporting the Perl programming language.  See
http://wiki.cpantesters.org/ for more information or email
questions to cpan-testers-discuss@perl.org


--
Dear Tokuhiro Matsuno,

This is a computer-generated report for HTTP-Session2-1.08
on perl 5.20.0, created by CPAN-Reporter-1.2011.

Thank you for uploading your work to CPAN.  Congratulations!
All tests were successful.

Sections of this report:

    * Tester comments
    * Program output
    * Prerequisites
    * Environment and other context

------------------------------
TESTER COMMENTS
------------------------------

Additional comments from tester:

this report is from an automated smoke testing program
and was not reviewed by a human for accuracy

------------------------------
PROGRAM OUTPUT
------------------------------

Output from './Build test':

t/00_compile.t .............. ok
Secret string too short at /tmp/loop_over_bdir-1876-ksF1l6/HTTP-Session2-1.08-4QNIt3/blib/lib/HTTP/Session2/Base.pm line 79.
	HTTP::Session2::Base::__ANON__(HTTP::Session2::ServerStore=HASH(0x25ae120), "s3cret") called at t/01_server_side.t line 23
	main::__ANON__("client -> server: request without cookie", CODE(0x25a1120)) called at t/01_server_side.t line 25
	main::__ANON__() called at /home/sand/src/perl/repoperls/installed-perls/perl/v5.20.0/9980/lib/site_perl/5.20.0/Test/Builder.pm line 222
	Test::Builder::__ANON__() called at /home/sand/src/perl/repoperls/installed-perls/perl/v5.20.0/9980/lib/site_perl/5.20.0/Test/Builder/Trace.pm line 24
	Test::Builder::Trace::nest("Test::Builder::Trace", CODE(0x25a0c10)) called at /home/sand/src/perl/repoperls/installed-perls/perl/v5.20.0/9980/lib/site_perl/5.20.0/Test/Builder.pm line 227
	Test::Builder::__ANON__() called at /home/sand/src/perl/repoperls/installed-perls/perl/v5.20.0/9980/lib/site_perl/5.20.0/Test/Builder/Util.pm line 247
	eval {...} called at /home/sand/src/perl/repoperls/installed-perls/perl/v5.20.0/9980/lib/site_perl/5.20.0/Test/Builder/Util.pm line 247
	Test::Builder::Util::try(CODE(0x1bf2d90)) called at /home/sand/src/perl/repoperls/installed-perls/perl/v5.20.0/9980/lib/site_perl/5.20.0/Test/Builder.pm line 227
	Test::Builder::subtest(Test::Builder=HASH(0x1c11878), "First request", CODE(0x2562f58)) called at /home/sand/src/perl/repoperls/installed-perls/perl/v5.20.0/9980/lib/site_perl/5.20.0/Test/More.pm line 290
	Test::More::subtest("First request", CODE(0x2562f58)) called at t/01_server_side.t line 11
	main::scenario("First request", CODE(0x2562f58)) called at t/01_server_side.t line 31
Secret string too short at /tmp/loop_over_bdir-1876-ksF1l6/HTTP-Session2-1.08-4QNIt3/blib/lib/HTTP/Session2/Base.pm line 79.
	HTTP::Session2::Base::__ANON__(HTTP::Session2::ServerStore=HASH(0x25ae588), "s3cret") called at t/01_server_side.t line 40
	main::__ANON__("client -> server: request without cookie", CODE(0x25ae8e8)) called at t/01_server_side.t line 42
	main::__ANON__() called at /home/sand/src/perl/repoperls/installed-perls/perl/v5.20.0/9980/lib/site_perl/5.20.0/Test/Builder.pm line 222
	Test::Builder::__ANON__() called at /home/sand/src/perl/repoperls/installed-perls/perl/v5.20.0/9980/lib/site_perl/5.20.0/Test/Builder/Trace.pm line 24
	Test::Builder::Trace::nest("Test::Builder::Trace", CODE(0x25a0808)) called at /home/sand/src/perl/repoperls/installed-perls/perl/v5.20.0/9980/lib/site_perl/5.20.0/Test/Builder.pm line 227
	Test::Builder::__ANON__() called at /home/sand/src/perl/repoperls/installed-perls/perl/v5.20.0/9980/lib/site_perl/5.20.0/Test/Builder/Util.pm line 247
	eval {...} called at /home/sand/src/perl/repoperls/installed-perls/perl/v5.20.0/9980/lib/site_perl/5.20.0/Test/Builder/Util.pm line 247
	Test::Builder::Util::try(CODE(0x1bf33a8)) called at /home/sand/src/perl/repoperls/installed-perls/perl/v5.20.0/9980/lib/site_perl/5.20.0/Test/Builder.pm line 227
	Test::Builder::subtest(Test::Builder=HASH(0x1c11878), "Store something without login", CODE(0x231b458)) called at /home/sand/src/perl/repoperls/installed-perls/perl/v5.20.0/9980/lib/site_perl/5.20.0/Test/More.pm line 290
	Test::More::subtest("Store something without login", CODE(0x231b458)) called at t/01_server_side.t line 11
	main::scenario("Store something without login", CODE(0x231b458)) called at t/01_server_side.t line 58
Secret string too short at /tmp/loop_over_bdir-1876-ksF1l6/HTTP-Session2-1.08-4QNIt3/blib/lib/HTTP/Session2/Base.pm line 79.
	HTTP::Session2::Base::__ANON__(HTTP::Session2::ServerStore=HASH(0x25ae4b0), "s3cret") called at t/01_server_side.t line 70
	main::__ANON__("client -> server: request without cookie", CODE(0x25bfde0)) called at t/01_server_side.t line 72
	main::__ANON__() called at /home/sand/src/perl/repoperls/installed-perls/perl/v5.20.0/9980/lib/site_perl/5.20.0/Test/Builder.pm line 222
	Test::Builder::__ANON__() called at /home/sand/src/perl/repoperls/installed-perls/perl/v5.20.0/9980/lib/site_perl/5.20.0/Test/Builder/Trace.pm line 24
	Test::Builder::Trace::nest("Test::Builder::Trace", CODE(0x25addd8)) called at /home/sand/src/perl/repoperls/installed-perls/perl/v5.20.0/9980/lib/site_perl/5.20.0/Test/Builder.pm line 227
	Test::Builder::__ANON__() called at /home/sand/src/perl/repoperls/installed-perls/perl/v5.20.0/9980/lib/site_perl/5.20.0/Test/Builder/Util.pm line 247
	eval {...} called at /home/sand/src/perl/repoperls/installed-perls/perl/v5.20.0/9980/lib/site_perl/5.20.0/Test/Builder/Util.pm line 247
	Test::Builder::Util::try(CODE(0x25ae5b8)) called at /home/sand/src/perl/repoperls/installed-perls/perl/v5.20.0/9980/lib/site_perl/5.20.0/Test/Builder.pm line 227
	Test::Builder::subtest(Test::Builder=HASH(0x1c11878), "Login", CODE(0x231b980)) called at /home/sand/src/perl/repoperls/installed-perls/perl/v5.20.0/9980/lib/site_perl/5.20.0/Test/More.pm line 290
	Test::More::subtest("Login", CODE(0x231b980)) called at t/01_server_side.t line 11
	main::scenario("Login", CODE(0x231b980)) called at t/01_server_side.t line 96
Secret string too short at /tmp/loop_over_bdir-1876-ksF1l6/HTTP-Session2-1.08-4QNIt3/blib/lib/HTTP/Session2/Base.pm line 79.
	HTTP::Session2::Base::__ANON__(HTTP::Session2::ServerStore=HASH(0x21f1610), "s3cret") called at t/01_server_side.t line 108
	main::__ANON__("client -> server: request without cookie", CODE(0x25ae5d0)) called at t/01_server_side.t line 110
	main::__ANON__() called at /home/sand/src/perl/repoperls/installed-perls/perl/v5.20.0/9980/lib/site_perl/5.20.0/Test/Builder.pm line 222
	Test::Builder::__ANON__() called at /home/sand/src/perl/repoperls/installed-perls/perl/v5.20.0/9980/lib/site_perl/5.20.0/Test/Builder/Trace.pm line 24
	Test::Builder::Trace::nest("Test::Builder::Trace", CODE(0x25ac6d0)) called at /home/sand/src/perl/repoperls/installed-perls/perl/v5.20.0/9980/lib/site_perl/5.20.0/Test/Builder.pm line 227
	Test::Builder::__ANON__() called at /home/sand/src/perl/repoperls/installed-perls/perl/v5.20.0/9980/lib/site_perl/5.20.0/Test/Builder/Util.pm line 247
	eval {...} called at /home/sand/src/perl/repoperls/installed-perls/perl/v5.20.0/9980/lib/site_perl/5.20.0/Test/Builder/Util.pm line 247
	Test::Builder::Util::try(CODE(0x1bf2f88)) called at /home/sand/src/perl/repoperls/installed-perls/perl/v5.20.0/9980/lib/site_perl/5.20.0/Test/Builder.pm line 227
	Test::Builder::subtest(Test::Builder=HASH(0x1c11878), "In a login session", CODE(0x258e7c0)) called at /home/sand/src/perl/repoperls/installed-perls/perl/v5.20.0/9980/lib/site_perl/5.20.0/Test/More.pm line 290
	Test::More::subtest("In a login session", CODE(0x258e7c0)) called at t/01_server_side.t line 11
	main::scenario("In a login session", CODE(0x258e7c0)) called at t/01_server_side.t line 124
Secret string too short at /tmp/loop_over_bdir-1876-ksF1l6/HTTP-Session2-1.08-4QNIt3/blib/lib/HTTP/Session2/Base.pm line 79.
	HTTP::Session2::Base::__ANON__(HTTP::Session2::ServerStore=HASH(0x25b8118), "s3cret") called at t/01_server_side.t line 131
	main::__ANON__("client -> server: request without cookie", CODE(0x25ac940)) called at t/01_server_side.t line 138
	main::__ANON__() called at /home/sand/src/perl/repoperls/installed-perls/perl/v5.20.0/9980/lib/site_perl/5.20.0/Test/Builder.pm line 222
	Test::Builder::__ANON__() called at /home/sand/src/perl/repoperls/installed-perls/perl/v5.20.0/9980/lib/site_perl/5.20.0/Test/Builder/Trace.pm line 24
	Test::Builder::Trace::nest("Test::Builder::Trace", CODE(0x25b8838)) called at /home/sand/src/perl/repoperls/installed-perls/perl/v5.20.0/9980/lib/site_perl/5.20.0/Test/Builder.pm line 227
	Test::Builder::__ANON__() called at /home/sand/src/perl/repoperls/installed-perls/perl/v5.20.0/9980/lib/site_perl/5.20.0/Test/Builder/Util.pm line 247
	eval {...} called at /home/sand/src/perl/repoperls/installed-perls/perl/v5.20.0/9980/lib/site_perl/5.20.0/Test/Builder/Util.pm line 247
	Test::Builder::Util::try(CODE(0x25b82c8)) called at /home/sand/src/perl/repoperls/installed-perls/perl/v5.20.0/9980/lib/site_perl/5.20.0/Test/Builder.pm line 227
	Test::Builder::subtest(Test::Builder=HASH(0x1c11878), "Logout", CODE(0x258f168)) called at /home/sand/src/perl/repoperls/installed-perls/perl/v5.20.0/9980/lib/site_perl/5.20.0/Test/More.pm line 290
	Test::More::subtest("Logout", CODE(0x258f168)) called at t/01_server_side.t line 11
	main::scenario("Logout", CODE(0x258f168)) called at t/01_server_side.t line 153
t/01_server_side.t .......... ok
Secret string too short at /tmp/loop_over_bdir-1876-ksF1l6/HTTP-Session2-1.08-4QNIt3/blib/lib/HTTP/Session2/Base.pm line 79.
	HTTP::Session2::Base::__ANON__(HTTP::Session2::ClientStore=HASH(0x2547ed8), "s3cret") called at t/02_client_side.t line 17
	main::__ANON__("client -> server: request without cookie", CODE(0x2f52e58)) called at t/02_client_side.t line 22
	main::__ANON__() called at /home/sand/src/perl/repoperls/installed-perls/perl/v5.20.0/9980/lib/site_perl/5.20.0/Test/Builder.pm line 222
	Test::Builder::__ANON__() called at /home/sand/src/perl/repoperls/installed-perls/perl/v5.20.0/9980/lib/site_perl/5.20.0/Test/Builder/Trace.pm line 24
	Test::Builder::Trace::nest("Test::Builder::Trace", CODE(0x2f52ae0)) called at /home/sand/src/perl/repoperls/installed-perls/perl/v5.20.0/9980/lib/site_perl/5.20.0/Test/Builder.pm line 227
	Test::Builder::__ANON__() called at /home/sand/src/perl/repoperls/installed-perls/perl/v5.20.0/9980/lib/site_perl/5.20.0/Test/Builder/Util.pm line 247
	eval {...} called at /home/sand/src/perl/repoperls/installed-perls/perl/v5.20.0/9980/lib/site_perl/5.20.0/Test/Builder/Util.pm line 247
	Test::Builder::Util::try(CODE(0x2545440)) called at /home/sand/src/perl/repoperls/installed-perls/perl/v5.20.0/9980/lib/site_perl/5.20.0/Test/Builder.pm line 227
	Test::Builder::subtest(Test::Builder=HASH(0x2564640), "First request", CODE(0x2f2a648)) called at /home/sand/src/perl/repoperls/installed-perls/perl/v5.20.0/9980/lib/site_perl/5.20.0/Test/More.pm line 290
	Test::More::subtest("First request", CODE(0x2f2a648)) called at t/02_client_side.t line 9
	main::scenario("First request", CODE(0x2f2a648)) called at t/02_client_side.t line 28
Secret string too short at /tmp/loop_over_bdir-1876-ksF1l6/HTTP-Session2-1.08-4QNIt3/blib/lib/HTTP/Session2/Base.pm line 79.
	HTTP::Session2::Base::__ANON__(HTTP::Session2::ClientStore=HASH(0x2f6c088), "s3cret") called at t/02_client_side.t line 33
	main::__ANON__("client -> server: request without cookie", CODE(0x2548310)) called at t/02_client_side.t line 38
	main::__ANON__() called at /home/sand/src/perl/repoperls/installed-perls/perl/v5.20.0/9980/lib/site_perl/5.20.0/Test/Builder.pm line 222
	Test::Builder::__ANON__() called at /home/sand/src/perl/repoperls/installed-perls/perl/v5.20.0/9980/lib/site_perl/5.20.0/Test/Builder/Trace.pm line 24
	Test::Builder::Trace::nest("Test::Builder::Trace", CODE(0x2f648c8)) called at /home/sand/src/perl/repoperls/installed-perls/perl/v5.20.0/9980/lib/site_perl/5.20.0/Test/Builder.pm line 227
	Test::Builder::__ANON__() called at /home/sand/src/perl/repoperls/installed-perls/perl/v5.20.0/9980/lib/site_perl/5.20.0/Test/Builder/Util.pm line 247
	eval {...} called at /home/sand/src/perl/repoperls/installed-perls/perl/v5.20.0/9980/lib/site_perl/5.20.0/Test/Builder/Util.pm line 247
	Test::Builder::Util::try(CODE(0x2f52a50)) called at /home/sand/src/perl/repoperls/installed-perls/perl/v5.20.0/9980/lib/site_perl/5.20.0/Test/Builder.pm line 227
	Test::Builder::subtest(Test::Builder=HASH(0x2564640), "Store something without login", CODE(0x2f364f0)) called at /home/sand/src/perl/repoperls/installed-perls/perl/v5.20.0/9980/lib/site_perl/5.20.0/Test/More.pm line 290
	Test::More::subtest("Store something without login", CODE(0x2f364f0)) called at t/02_client_side.t line 9
	main::scenario("Store something without login", CODE(0x2f364f0)) called at t/02_client_side.t line 54
Do not use HTTP::Session2::ClientStore. Use HTTP::Session2::ServerStore or HTTP::Session2::ClientStore2 instead. at /tmp/loop_over_bdir-1876-ksF1l6/HTTP-Session2-1.08-4QNIt3/blib/lib/HTTP/Session2/ClientStore.pm line 25.
Secret string too short at /tmp/loop_over_bdir-1876-ksF1l6/HTTP-Session2-1.08-4QNIt3/blib/lib/HTTP/Session2/Base.pm line 79.
	HTTP::Session2::Base::__ANON__(HTTP::Session2::ClientStore=HASH(0x2f41be0), "s3cret") called at t/02_client_side.t line 60
	main::__ANON__("client -> server: request without cookie", CODE(0x2547c80)) called at t/02_client_side.t line 66
	main::__ANON__() called at /home/sand/src/perl/repoperls/installed-perls/perl/v5.20.0/9980/lib/site_perl/5.20.0/Test/Builder.pm line 222
	Test::Builder::__ANON__() called at /home/sand/src/perl/repoperls/installed-perls/perl/v5.20.0/9980/lib/site_perl/5.20.0/Test/Builder/Trace.pm line 24
	Test::Builder::Trace::nest("Test::Builder::Trace", CODE(0x2548a90)) called at /home/sand/src/perl/repoperls/installed-perls/perl/v5.20.0/9980/lib/site_perl/5.20.0/Test/Builder.pm line 227
	Test::Builder::__ANON__() called at /home/sand/src/perl/repoperls/installed-perls/perl/v5.20.0/9980/lib/site_perl/5.20.0/Test/Builder/Util.pm line 247
	eval {...} called at /home/sand/src/perl/repoperls/installed-perls/perl/v5.20.0/9980/lib/site_perl/5.20.0/Test/Builder/Util.pm line 247
	Test::Builder::Util::try(CODE(0x2f6c088)) called at /home/sand/src/perl/repoperls/installed-perls/perl/v5.20.0/9980/lib/site_perl/5.20.0/Test/Builder.pm line 227
	Test::Builder::subtest(Test::Builder=HASH(0x2564640), "Login", CODE(0x2f41790)) called at /home/sand/src/perl/repoperls/installed-perls/perl/v5.20.0/9980/lib/site_perl/5.20.0/Test/More.pm line 290
	Test::More::subtest("Login", CODE(0x2f41790)) called at t/02_client_side.t line 9
	main::scenario("Login", CODE(0x2f41790)) called at t/02_client_side.t line 86
Do not use HTTP::Session2::ClientStore. Use HTTP::Session2::ServerStore or HTTP::Session2::ClientStore2 instead. at /tmp/loop_over_bdir-1876-ksF1l6/HTTP-Session2-1.08-4QNIt3/blib/lib/HTTP/Session2/ClientStore.pm line 35.
Do not use HTTP::Session2::ClientStore. Use HTTP::Session2::ServerStore or HTTP::Session2::ClientStore2 instead. at /tmp/loop_over_bdir-1876-ksF1l6/HTTP-Session2-1.08-4QNIt3/blib/lib/HTTP/Session2/ClientStore.pm line 25.
Secret string too short at /tmp/loop_over_bdir-1876-ksF1l6/HTTP-Session2-1.08-4QNIt3/blib/lib/HTTP/Session2/Base.pm line 79.
	HTTP::Session2::Base::__ANON__(HTTP::Session2::ClientStore=HASH(0x2f64d78), "s3cret") called at t/02_client_side.t line 92
	main::__ANON__("client -> server: request without cookie", CODE(0x2548448)) called at t/02_client_side.t line 98
	main::__ANON__() called at /home/sand/src/perl/repoperls/installed-perls/perl/v5.20.0/9980/lib/site_perl/5.20.0/Test/Builder.pm line 222
	Test::Builder::__ANON__() called at /home/sand/src/perl/repoperls/installed-perls/perl/v5.20.0/9980/lib/site_perl/5.20.0/Test/Builder/Trace.pm line 24
	Test::Builder::Trace::nest("Test::Builder::Trace", CODE(0x2f6c850)) called at /home/sand/src/perl/repoperls/installed-perls/perl/v5.20.0/9980/lib/site_perl/5.20.0/Test/Builder.pm line 227
	Test::Builder::__ANON__() called at /home/sand/src/perl/repoperls/installed-perls/perl/v5.20.0/9980/lib/site_perl/5.20.0/Test/Builder/Util.pm line 247
	eval {...} called at /home/sand/src/perl/repoperls/installed-perls/perl/v5.20.0/9980/lib/site_perl/5.20.0/Test/Builder/Util.pm line 247
	Test::Builder::Util::try(CODE(0x2f6c598)) called at /home/sand/src/perl/repoperls/installed-perls/perl/v5.20.0/9980/lib/site_perl/5.20.0/Test/Builder.pm line 227
	Test::Builder::subtest(Test::Builder=HASH(0x2564640), "In a login session", CODE(0x2f41f70)) called at /home/sand/src/perl/repoperls/installed-perls/perl/v5.20.0/9980/lib/site_perl/5.20.0/Test/More.pm line 290
	Test::More::subtest("In a login session", CODE(0x2f41f70)) called at t/02_client_side.t line 9
	main::scenario("In a login session", CODE(0x2f41f70)) called at t/02_client_side.t line 107
Do not use HTTP::Session2::ClientStore. Use HTTP::Session2::ServerStore or HTTP::Session2::ClientStore2 instead. at /tmp/loop_over_bdir-1876-ksF1l6/HTTP-Session2-1.08-4QNIt3/blib/lib/HTTP/Session2/ClientStore.pm line 35.
Do not use HTTP::Session2::ClientStore. Use HTTP::Session2::ServerStore or HTTP::Session2::ClientStore2 instead. at /tmp/loop_over_bdir-1876-ksF1l6/HTTP-Session2-1.08-4QNIt3/blib/lib/HTTP/Session2/ClientStore.pm line 25.
Secret string too short at /tmp/loop_over_bdir-1876-ksF1l6/HTTP-Session2-1.08-4QNIt3/blib/lib/HTTP/Session2/Base.pm line 79.
	HTTP::Session2::Base::__ANON__(HTTP::Session2::ClientStore=HASH(0x2f6c448), "s3cret") called at t/02_client_side.t line 112
	main::__ANON__("client -> server: request without cookie", CODE(0x2547b18)) called at t/02_client_side.t line 118
	main::__ANON__() called at /home/sand/src/perl/repoperls/installed-perls/perl/v5.20.0/9980/lib/site_perl/5.20.0/Test/Builder.pm line 222
	Test::Builder::__ANON__() called at /home/sand/src/perl/repoperls/installed-perls/perl/v5.20.0/9980/lib/site_perl/5.20.0/Test/Builder/Trace.pm line 24
	Test::Builder::Trace::nest("Test::Builder::Trace", CODE(0x2f651b0)) called at /home/sand/src/perl/repoperls/installed-perls/perl/v5.20.0/9980/lib/site_perl/5.20.0/Test/Builder.pm line 227
	Test::Builder::__ANON__() called at /home/sand/src/perl/repoperls/installed-perls/perl/v5.20.0/9980/lib/site_perl/5.20.0/Test/Builder/Util.pm line 247
	eval {...} called at /home/sand/src/perl/repoperls/installed-perls/perl/v5.20.0/9980/lib/site_perl/5.20.0/Test/Builder/Util.pm line 247
	Test::Builder::Util::try(CODE(0x25452d8)) called at /home/sand/src/perl/repoperls/installed-perls/perl/v5.20.0/9980/lib/site_perl/5.20.0/Test/Builder.pm line 227
	Test::Builder::subtest(Test::Builder=HASH(0x2564640), "Logout", CODE(0x2f522d0)) called at /home/sand/src/perl/repoperls/installed-perls/perl/v5.20.0/9980/lib/site_perl/5.20.0/Test/More.pm line 290
	Test::More::subtest("Logout", CODE(0x2f522d0)) called at t/02_client_side.t line 9
	main::scenario("Logout", CODE(0x2f522d0)) called at t/02_client_side.t line 131
t/02_client_side.t .......... ok
Secret string too short at /tmp/loop_over_bdir-1876-ksF1l6/HTTP-Session2-1.08-4QNIt3/blib/lib/HTTP/Session2/Base.pm line 79.
	HTTP::Session2::Base::__ANON__(HTTP::Session2::ServerStore=HASH(0x2dcc258), "s3cret") called at t/03_mech.t line 121
	main::server_session(HASH(0x2de69c0)) called at t/03_mech.t line 17
	main::__ANON__(HASH(0x2de69c0)) called at /home/sand/src/perl/repoperls/installed-perls/perl/v5.20.0/9980/lib/site_perl/5.20.0/Test/WWW/Mechanize/PSGI.pm line 39
	Test::WWW::Mechanize::PSGI::try {...} () called at /home/sand/src/perl/repoperls/installed-perls/perl/v5.20.0/9980/lib/site_perl/5.20.0/Try/Tiny.pm line 81
	eval {...} called at /home/sand/src/perl/repoperls/installed-perls/perl/v5.20.0/9980/lib/site_perl/5.20.0/Try/Tiny.pm line 72
	Try::Tiny::try(CODE(0x2de68d0), Try::Tiny::Catch=REF(0x1f644b0)) called at /home/sand/src/perl/repoperls/installed-perls/perl/v5.20.0/9980/lib/site_perl/5.20.0/Test/WWW/Mechanize/PSGI.pm line 46
	Test::WWW::Mechanize::PSGI::simple_request(Test::WWW::Mechanize::PSGI=HASH(0x2c67f80), HTTP::Request=HASH(0x2d4f150), undef, undef) called at /home/sand/src/perl/repoperls/installed-perls/perl/v5.20.0/9980/lib/site_perl/5.20.0/LWP/UserAgent.pm line 282
	LWP::UserAgent::request(Test::WWW::Mechanize::PSGI=HASH(0x2c67f80), HTTP::Request=HASH(0x2d4f150)) called at /home/sand/src/perl/repoperls/installed-perls/perl/v5.20.0/9980/lib/site_perl/5.20.0/WWW/Mechanize.pm line 2598
	WWW::Mechanize::_make_request(Test::WWW::Mechanize::PSGI=HASH(0x2c67f80), HTTP::Request=HASH(0x2d4f150)) called at /home/sand/src/perl/repoperls/installed-perls/perl/v5.20.0/9980/lib/site_perl/5.20.0/WWW/Mechanize.pm line 2312
	WWW::Mechanize::request(Test::WWW::Mechanize::PSGI=HASH(0x2c67f80), HTTP::Request=HASH(0x2d4f150)) called at /home/sand/src/perl/repoperls/installed-perls/perl/v5.20.0/9980/lib/site_perl/5.20.0/LWP/UserAgent.pm line 411
	LWP::UserAgent::get(Test::WWW::Mechanize::PSGI=HASH(0x2c67f80), "/") called at /home/sand/src/perl/repoperls/installed-perls/perl/v5.20.0/9980/lib/site_perl/5.20.0/WWW/Mechanize.pm line 407
	WWW::Mechanize::get(Test::WWW::Mechanize::PSGI=HASH(0x2c67f80), "/") called at /home/sand/src/perl/repoperls/installed-perls/perl/v5.20.0/9980/lib/site_perl/5.20.0/Test/WWW/Mechanize.pm line 159
	Test::WWW::Mechanize::get_ok(Test::WWW::Mechanize::PSGI=HASH(0x2c67f80), "/") called at t/03_mech.t line 74
Secret string too short at /tmp/loop_over_bdir-1876-ksF1l6/HTTP-Session2-1.08-4QNIt3/blib/lib/HTTP/Session2/Base.pm line 79.
	HTTP::Session2::Base::__ANON__(HTTP::Session2::ServerStore=HASH(0x2dccb58), "s3cret") called at t/03_mech.t line 121
	main::server_session(HASH(0x2df8998)) called at t/03_mech.t line 17
	main::__ANON__(HASH(0x2df8998)) called at /home/sand/src/perl/repoperls/installed-perls/perl/v5.20.0/9980/lib/site_perl/5.20.0/Test/WWW/Mechanize/PSGI.pm line 39
	Test::WWW::Mechanize::PSGI::try {...} () called at /home/sand/src/perl/repoperls/installed-perls/perl/v5.20.0/9980/lib/site_perl/5.20.0/Try/Tiny.pm line 81
	eval {...} called at /home/sand/src/perl/repoperls/installed-perls/perl/v5.20.0/9980/lib/site_perl/5.20.0/Try/Tiny.pm line 72
	Try::Tiny::try(CODE(0x2df8a10), Try::Tiny::Catch=REF(0x2dcc108)) called at /home/sand/src/perl/repoperls/installed-perls/perl/v5.20.0/9980/lib/site_perl/5.20.0/Test/WWW/Mechanize/PSGI.pm line 46
	Test::WWW::Mechanize::PSGI::simple_request(Test::WWW::Mechanize::PSGI=HASH(0x2c67f80), HTTP::Request=HASH(0x2dcca08), undef, undef) called at /home/sand/src/perl/repoperls/installed-perls/perl/v5.20.0/9980/lib/site_perl/5.20.0/LWP/UserAgent.pm line 282
	LWP::UserAgent::request(Test::WWW::Mechanize::PSGI=HASH(0x2c67f80), HTTP::Request=HASH(0x2dcca08)) called at /home/sand/src/perl/repoperls/installed-perls/perl/v5.20.0/9980/lib/site_perl/5.20.0/WWW/Mechanize.pm line 2598
	WWW::Mechanize::_make_request(Test::WWW::Mechanize::PSGI=HASH(0x2c67f80), HTTP::Request=HASH(0x2dcca08)) called at /home/sand/src/perl/repoperls/installed-perls/perl/v5.20.0/9980/lib/site_perl/5.20.0/WWW/Mechanize.pm line 2312
	WWW::Mechanize::request(Test::WWW::Mechanize::PSGI=HASH(0x2c67f80), HTTP::Request=HASH(0x2dcca08)) called at /home/sand/src/perl/repoperls/installed-perls/perl/v5.20.0/9980/lib/site_perl/5.20.0/LWP/UserAgent.pm line 419
	LWP::UserAgent::post(Test::WWW::Mechanize::PSGI=HASH(0x2c67f80), "/wishlist?foo", HASH(0x283c580)) called at /home/sand/src/perl/repoperls/installed-perls/perl/v5.20.0/9980/lib/site_perl/5.20.0/Test/WWW/Mechanize.pm line 236
	Test::WWW::Mechanize::post_ok(Test::WWW::Mechanize::PSGI=HASH(0x2c67f80), "/wishlist?foo") called at t/03_mech.t line 75
Secret string too short at /tmp/loop_over_bdir-1876-ksF1l6/HTTP-Session2-1.08-4QNIt3/blib/lib/HTTP/Session2/Base.pm line 79.
	HTTP::Session2::Base::__ANON__(HTTP::Session2::ServerStore=HASH(0x2df85d8), "s3cret") called at t/03_mech.t line 121
	main::server_session(HASH(0x2dffd98)) called at t/03_mech.t line 17
	main::__ANON__(HASH(0x2dffd98)) called at /home/sand/src/perl/repoperls/installed-perls/perl/v5.20.0/9980/lib/site_perl/5.20.0/Test/WWW/Mechanize/PSGI.pm line 39
	Test::WWW::Mechanize::PSGI::try {...} () called at /home/sand/src/perl/repoperls/installed-perls/perl/v5.20.0/9980/lib/site_perl/5.20.0/Try/Tiny.pm line 81
	eval {...} called at /home/sand/src/perl/repoperls/installed-perls/perl/v5.20.0/9980/lib/site_perl/5.20.0/Try/Tiny.pm line 72
	Try::Tiny::try(CODE(0x2e01b28), Try::Tiny::Catch=REF(0x2df8860)) called at /home/sand/src/perl/repoperls/installed-perls/perl/v5.20.0/9980/lib/site_perl/5.20.0/Test/WWW/Mechanize/PSGI.pm line 46
	Test::WWW::Mechanize::PSGI::simple_request(Test::WWW::Mechanize::PSGI=HASH(0x2c67f80), HTTP::Request=HASH(0x2df8ea8), undef, undef) called at /home/sand/src/perl/repoperls/installed-perls/perl/v5.20.0/9980/lib/site_perl/5.20.0/LWP/UserAgent.pm line 282
	LWP::UserAgent::request(Test::WWW::Mechanize::PSGI=HASH(0x2c67f80), HTTP::Request=HASH(0x2df8ea8)) called at /home/sand/src/perl/repoperls/installed-perls/perl/v5.20.0/9980/lib/site_perl/5.20.0/WWW/Mechanize.pm line 2598
	WWW::Mechanize::_make_request(Test::WWW::Mechanize::PSGI=HASH(0x2c67f80), HTTP::Request=HASH(0x2df8ea8)) called at /home/sand/src/perl/repoperls/installed-perls/perl/v5.20.0/9980/lib/site_perl/5.20.0/WWW/Mechanize.pm line 2312
	WWW::Mechanize::request(Test::WWW::Mechanize::PSGI=HASH(0x2c67f80), HTTP::Request=HASH(0x2df8ea8)) called at /home/sand/src/perl/repoperls/installed-perls/perl/v5.20.0/9980/lib/site_perl/5.20.0/LWP/UserAgent.pm line 411
	LWP::UserAgent::get(Test::WWW::Mechanize::PSGI=HASH(0x2c67f80), "http://localhost/wishlist") called at /home/sand/src/perl/repoperls/installed-perls/perl/v5.20.0/9980/lib/site_perl/5.20.0/WWW/Mechanize.pm line 407
	WWW::Mechanize::get(Test::WWW::Mechanize::PSGI=HASH(0x2c67f80), "/wishlist") called at /home/sand/src/perl/repoperls/installed-perls/perl/v5.20.0/9980/lib/site_perl/5.20.0/Test/WWW/Mechanize.pm line 159
	Test::WWW::Mechanize::get_ok(Test::WWW::Mechanize::PSGI=HASH(0x2c67f80), "/wishlist") called at t/03_mech.t line 76
Secret string too short at /tmp/loop_over_bdir-1876-ksF1l6/HTTP-Session2-1.08-4QNIt3/blib/lib/HTTP/Session2/Base.pm line 79.
	HTTP::Session2::Base::__ANON__(HTTP::Session2::ServerStore=HASH(0x2e01a50), "s3cret") called at t/03_mech.t line 121
	main::server_session(HASH(0x2df85d8)) called at t/03_mech.t line 17
	main::__ANON__(HASH(0x2df85d8)) called at /home/sand/src/perl/repoperls/installed-perls/perl/v5.20.0/9980/lib/site_perl/5.20.0/Test/WWW/Mechanize/PSGI.pm line 39
	Test::WWW::Mechanize::PSGI::try {...} () called at /home/sand/src/perl/repoperls/installed-perls/perl/v5.20.0/9980/lib/site_perl/5.20.0/Try/Tiny.pm line 81
	eval {...} called at /home/sand/src/perl/repoperls/installed-perls/perl/v5.20.0/9980/lib/site_perl/5.20.0/Try/Tiny.pm line 72
	Try::Tiny::try(CODE(0x2dffb10), Try::Tiny::Catch=REF(0x2df8ae8)) called at /home/sand/src/perl/repoperls/installed-perls/perl/v5.20.0/9980/lib/site_perl/5.20.0/Test/WWW/Mechanize/PSGI.pm line 46
	Test::WWW::Mechanize::PSGI::simple_request(Test::WWW::Mechanize::PSGI=HASH(0x2c67f80), HTTP::Request=HASH(0x2e01ae0), undef, undef) called at /home/sand/src/perl/repoperls/installed-perls/perl/v5.20.0/9980/lib/site_perl/5.20.0/LWP/UserAgent.pm line 282
	LWP::UserAgent::request(Test::WWW::Mechanize::PSGI=HASH(0x2c67f80), HTTP::Request=HASH(0x2e01ae0)) called at /home/sand/src/perl/repoperls/installed-perls/perl/v5.20.0/9980/lib/site_perl/5.20.0/WWW/Mechanize.pm line 2598
	WWW::Mechanize::_make_request(Test::WWW::Mechanize::PSGI=HASH(0x2c67f80), HTTP::Request=HASH(0x2e01ae0)) called at /home/sand/src/perl/repoperls/installed-perls/perl/v5.20.0/9980/lib/site_perl/5.20.0/WWW/Mechanize.pm line 2312
	WWW::Mechanize::request(Test::WWW::Mechanize::PSGI=HASH(0x2c67f80), HTTP::Request=HASH(0x2e01ae0)) called at /home/sand/src/perl/repoperls/installed-perls/perl/v5.20.0/9980/lib/site_perl/5.20.0/LWP/UserAgent.pm line 419
	LWP::UserAgent::post(Test::WWW::Mechanize::PSGI=HASH(0x2c67f80), "/wishlist?bar") called at t/03_mech.t line 78
Secret string too short at /tmp/loop_over_bdir-1876-ksF1l6/HTTP-Session2-1.08-4QNIt3/blib/lib/HTTP/Session2/Base.pm line 79.
	HTTP::Session2::Base::__ANON__(HTTP::Session2::ServerStore=HASH(0x2e08e70), "s3cret") called at t/03_mech.t line 121
	main::server_session(HASH(0x2df87e8)) called at t/03_mech.t line 17
	main::__ANON__(HASH(0x2df87e8)) called at /home/sand/src/perl/repoperls/installed-perls/perl/v5.20.0/9980/lib/site_perl/5.20.0/Test/WWW/Mechanize/PSGI.pm line 39
	Test::WWW::Mechanize::PSGI::try {...} () called at /home/sand/src/perl/repoperls/installed-perls/perl/v5.20.0/9980/lib/site_perl/5.20.0/Try/Tiny.pm line 81
	eval {...} called at /home/sand/src/perl/repoperls/installed-perls/perl/v5.20.0/9980/lib/site_perl/5.20.0/Try/Tiny.pm line 72
	Try::Tiny::try(CODE(0x2dcc7e0), Try::Tiny::Catch=REF(0x2df9100)) called at /home/sand/src/perl/repoperls/installed-perls/perl/v5.20.0/9980/lib/site_perl/5.20.0/Test/WWW/Mechanize/PSGI.pm line 46
	Test::WWW::Mechanize::PSGI::simple_request(Test::WWW::Mechanize::PSGI=HASH(0x2c67f80), HTTP::Request=HASH(0x2dffd98), undef, undef) called at /home/sand/src/perl/repoperls/installed-perls/perl/v5.20.0/9980/lib/site_perl/5.20.0/LWP/UserAgent.pm line 282
	LWP::UserAgent::request(Test::WWW::Mechanize::PSGI=HASH(0x2c67f80), HTTP::Request=HASH(0x2dffd98)) called at /home/sand/src/perl/repoperls/installed-perls/perl/v5.20.0/9980/lib/site_perl/5.20.0/WWW/Mechanize.pm line 2598
	WWW::Mechanize::_make_request(Test::WWW::Mechanize::PSGI=HASH(0x2c67f80), HTTP::Request=HASH(0x2dffd98)) called at /home/sand/src/perl/repoperls/installed-perls/perl/v5.20.0/9980/lib/site_perl/5.20.0/WWW/Mechanize.pm line 2312
	WWW::Mechanize::request(Test::WWW::Mechanize::PSGI=HASH(0x2c67f80), HTTP::Request=HASH(0x2dffd98)) called at /home/sand/src/perl/repoperls/installed-perls/perl/v5.20.0/9980/lib/site_perl/5.20.0/LWP/UserAgent.pm line 419
	LWP::UserAgent::post(Test::WWW::Mechanize::PSGI=HASH(0x2c67f80), "/wishlist?bar", HASH(0x283c580)) called at /home/sand/src/perl/repoperls/installed-perls/perl/v5.20.0/9980/lib/site_perl/5.20.0/Test/WWW/Mechanize.pm line 236
	Test::WWW::Mechanize::post_ok(Test::WWW::Mechanize::PSGI=HASH(0x2c67f80), "/wishlist?bar") called at t/03_mech.t line 81
Secret string too short at /tmp/loop_over_bdir-1876-ksF1l6/HTTP-Session2-1.08-4QNIt3/blib/lib/HTTP/Session2/Base.pm line 79.
	HTTP::Session2::Base::__ANON__(HTTP::Session2::ServerStore=HASH(0x2e09b48), "s3cret") called at t/03_mech.t line 121
	main::server_session(HASH(0x2dffe28)) called at t/03_mech.t line 17
	main::__ANON__(HASH(0x2dffe28)) called at /home/sand/src/perl/repoperls/installed-perls/perl/v5.20.0/9980/lib/site_perl/5.20.0/Test/WWW/Mechanize/PSGI.pm line 39
	Test::WWW::Mechanize::PSGI::try {...} () called at /home/sand/src/perl/repoperls/installed-perls/perl/v5.20.0/9980/lib/site_perl/5.20.0/Try/Tiny.pm line 81
	eval {...} called at /home/sand/src/perl/repoperls/installed-perls/perl/v5.20.0/9980/lib/site_perl/5.20.0/Try/Tiny.pm line 72
	Try::Tiny::try(CODE(0x2dffe58), Try::Tiny::Catch=REF(0x2dffc00)) called at /home/sand/src/perl/repoperls/installed-perls/perl/v5.20.0/9980/lib/site_perl/5.20.0/Test/WWW/Mechanize/PSGI.pm line 46
	Test::WWW::Mechanize::PSGI::simple_request(Test::WWW::Mechanize::PSGI=HASH(0x2c67f80), HTTP::Request=HASH(0x2d5bc08), undef, undef) called at /home/sand/src/perl/repoperls/installed-perls/perl/v5.20.0/9980/lib/site_perl/5.20.0/LWP/UserAgent.pm line 282
	LWP::UserAgent::request(Test::WWW::Mechanize::PSGI=HASH(0x2c67f80), HTTP::Request=HASH(0x2d5bc08)) called at /home/sand/src/perl/repoperls/installed-perls/perl/v5.20.0/9980/lib/site_perl/5.20.0/WWW/Mechanize.pm line 2598
	WWW::Mechanize::_make_request(Test::WWW::Mechanize::PSGI=HASH(0x2c67f80), HTTP::Request=HASH(0x2d5bc08)) called at /home/sand/src/perl/repoperls/installed-perls/perl/v5.20.0/9980/lib/site_perl/5.20.0/WWW/Mechanize.pm line 2312
	WWW::Mechanize::request(Test::WWW::Mechanize::PSGI=HASH(0x2c67f80), HTTP::Request=HASH(0x2d5bc08)) called at /home/sand/src/perl/repoperls/installed-perls/perl/v5.20.0/9980/lib/site_perl/5.20.0/LWP/UserAgent.pm line 411
	LWP::UserAgent::get(Test::WWW::Mechanize::PSGI=HASH(0x2c67f80), "http://localhost/wishlist") called at /home/sand/src/perl/repoperls/installed-perls/perl/v5.20.0/9980/lib/site_perl/5.20.0/WWW/Mechanize.pm line 407
	WWW::Mechanize::get(Test::WWW::Mechanize::PSGI=HASH(0x2c67f80), "/wishlist") called at /home/sand/src/perl/repoperls/installed-perls/perl/v5.20.0/9980/lib/site_perl/5.20.0/Test/WWW/Mechanize.pm line 159
	Test::WWW::Mechanize::get_ok(Test::WWW::Mechanize::PSGI=HASH(0x2c67f80), "/wishlist") called at t/03_mech.t line 82
Secret string too short at /tmp/loop_over_bdir-1876-ksF1l6/HTTP-Session2-1.08-4QNIt3/blib/lib/HTTP/Session2/Base.pm line 79.
	HTTP::Session2::Base::__ANON__(HTTP::Session2::ServerStore=HASH(0x2e096f8), "s3cret") called at t/03_mech.t line 121
	main::server_session(HASH(0x2e09a28)) called at t/03_mech.t line 17
	main::__ANON__(HASH(0x2e09a28)) called at /home/sand/src/perl/repoperls/installed-perls/perl/v5.20.0/9980/lib/site_perl/5.20.0/Test/WWW/Mechanize/PSGI.pm line 39
	Test::WWW::Mechanize::PSGI::try {...} () called at /home/sand/src/perl/repoperls/installed-perls/perl/v5.20.0/9980/lib/site_perl/5.20.0/Try/Tiny.pm line 81
	eval {...} called at /home/sand/src/perl/repoperls/installed-perls/perl/v5.20.0/9980/lib/site_perl/5.20.0/Try/Tiny.pm line 72
	Try::Tiny::try(CODE(0x2e01648), Try::Tiny::Catch=REF(0x2dffd50)) called at /home/sand/src/perl/repoperls/installed-perls/perl/v5.20.0/9980/lib/site_perl/5.20.0/Test/WWW/Mechanize/PSGI.pm line 46
	Test::WWW::Mechanize::PSGI::simple_request(Test::WWW::Mechanize::PSGI=HASH(0x2c67f80), HTTP::Request=HASH(0x2dffc78), undef, undef) called at /home/sand/src/perl/repoperls/installed-perls/perl/v5.20.0/9980/lib/site_perl/5.20.0/LWP/UserAgent.pm line 282
	LWP::UserAgent::request(Test::WWW::Mechanize::PSGI=HASH(0x2c67f80), HTTP::Request=HASH(0x2dffc78)) called at /home/sand/src/perl/repoperls/installed-perls/perl/v5.20.0/9980/lib/site_perl/5.20.0/WWW/Mechanize.pm line 2598
	WWW::Mechanize::_make_request(Test::WWW::Mechanize::PSGI=HASH(0x2c67f80), HTTP::Request=HASH(0x2dffc78)) called at /home/sand/src/perl/repoperls/installed-perls/perl/v5.20.0/9980/lib/site_perl/5.20.0/WWW/Mechanize.pm line 2312
	WWW::Mechanize::request(Test::WWW::Mechanize::PSGI=HASH(0x2c67f80), HTTP::Request=HASH(0x2dffc78)) called at /home/sand/src/perl/repoperls/installed-perls/perl/v5.20.0/9980/lib/site_perl/5.20.0/LWP/UserAgent.pm line 419
	LWP::UserAgent::post(Test::WWW::Mechanize::PSGI=HASH(0x2c67f80), "/account/login?john", HASH(0x283c580)) called at /home/sand/src/perl/repoperls/installed-perls/perl/v5.20.0/9980/lib/site_perl/5.20.0/Test/WWW/Mechanize.pm line 236
	Test::WWW::Mechanize::post_ok(Test::WWW::Mechanize::PSGI=HASH(0x2c67f80), "/account/login?john") called at t/03_mech.t line 84
Secret string too short at /tmp/loop_over_bdir-1876-ksF1l6/HTTP-Session2-1.08-4QNIt3/blib/lib/HTTP/Session2/Base.pm line 79.
	HTTP::Session2::Base::__ANON__(HTTP::Session2::ServerStore=HASH(0x2dcc5e8), "s3cret") called at t/03_mech.t line 121
	main::server_session(HASH(0x2df85d8)) called at t/03_mech.t line 17
	main::__ANON__(HASH(0x2df85d8)) called at /home/sand/src/perl/repoperls/installed-perls/perl/v5.20.0/9980/lib/site_perl/5.20.0/Test/WWW/Mechanize/PSGI.pm line 39
	Test::WWW::Mechanize::PSGI::try {...} () called at /home/sand/src/perl/repoperls/installed-perls/perl/v5.20.0/9980/lib/site_perl/5.20.0/Try/Tiny.pm line 81
	eval {...} called at /home/sand/src/perl/repoperls/installed-perls/perl/v5.20.0/9980/lib/site_perl/5.20.0/Try/Tiny.pm line 72
	Try::Tiny::try(CODE(0x2e01b70), Try::Tiny::Catch=REF(0x2e01df8)) called at /home/sand/src/perl/repoperls/installed-perls/perl/v5.20.0/9980/lib/site_perl/5.20.0/Test/WWW/Mechanize/PSGI.pm line 46
	Test::WWW::Mechanize::PSGI::simple_request(Test::WWW::Mechanize::PSGI=HASH(0x2c67f80), HTTP::Request=HASH(0x2dcc900), undef, undef) called at /home/sand/src/perl/repoperls/installed-perls/perl/v5.20.0/9980/lib/site_perl/5.20.0/LWP/UserAgent.pm line 282
	LWP::UserAgent::request(Test::WWW::Mechanize::PSGI=HASH(0x2c67f80), HTTP::Request=HASH(0x2dcc900)) called at /home/sand/src/perl/repoperls/installed-perls/perl/v5.20.0/9980/lib/site_perl/5.20.0/WWW/Mechanize.pm line 2598
	WWW::Mechanize::_make_request(Test::WWW::Mechanize::PSGI=HASH(0x2c67f80), HTTP::Request=HASH(0x2dcc900)) called at /home/sand/src/perl/repoperls/installed-perls/perl/v5.20.0/9980/lib/site_perl/5.20.0/WWW/Mechanize.pm line 2312
	WWW::Mechanize::request(Test::WWW::Mechanize::PSGI=HASH(0x2c67f80), HTTP::Request=HASH(0x2dcc900)) called at /home/sand/src/perl/repoperls/installed-perls/perl/v5.20.0/9980/lib/site_perl/5.20.0/LWP/UserAgent.pm line 411
	LWP::UserAgent::get(Test::WWW::Mechanize::PSGI=HASH(0x2c67f80), "http://localhost/wishlist") called at /home/sand/src/perl/repoperls/installed-perls/perl/v5.20.0/9980/lib/site_perl/5.20.0/WWW/Mechanize.pm line 407
	WWW::Mechanize::get(Test::WWW::Mechanize::PSGI=HASH(0x2c67f80), "/wishlist") called at /home/sand/src/perl/repoperls/installed-perls/perl/v5.20.0/9980/lib/site_perl/5.20.0/Test/WWW/Mechanize.pm line 159
	Test::WWW::Mechanize::get_ok(Test::WWW::Mechanize::PSGI=HASH(0x2c67f80), "/wishlist", "Wishlist is still available") called at t/03_mech.t line 85
Secret string too short at /tmp/loop_over_bdir-1876-ksF1l6/HTTP-Session2-1.08-4QNIt3/blib/lib/HTTP/Session2/Base.pm line 79.
	HTTP::Session2::Base::__ANON__(HTTP::Session2::ServerStore=HASH(0x2e096e0), "s3cret") called at t/03_mech.t line 121
	main::server_session(HASH(0x2dcc5e8)) called at t/03_mech.t line 17
	main::__ANON__(HASH(0x2dcc5e8)) called at /home/sand/src/perl/repoperls/installed-perls/perl/v5.20.0/9980/lib/site_perl/5.20.0/Test/WWW/Mechanize/PSGI.pm line 39
	Test::WWW::Mechanize::PSGI::try {...} () called at /home/sand/src/perl/repoperls/installed-perls/perl/v5.20.0/9980/lib/site_perl/5.20.0/Try/Tiny.pm line 81
	eval {...} called at /home/sand/src/perl/repoperls/installed-perls/perl/v5.20.0/9980/lib/site_perl/5.20.0/Try/Tiny.pm line 72
	Try::Tiny::try(CODE(0x2df8ba8), Try::Tiny::Catch=REF(0x2e01ab0)) called at /home/sand/src/perl/repoperls/installed-perls/perl/v5.20.0/9980/lib/site_perl/5.20.0/Test/WWW/Mechanize/PSGI.pm line 46
	Test::WWW::Mechanize::PSGI::simple_request(Test::WWW::Mechanize::PSGI=HASH(0x2c67f80), HTTP::Request=HASH(0x2e10970), undef, undef) called at /home/sand/src/perl/repoperls/installed-perls/perl/v5.20.0/9980/lib/site_perl/5.20.0/LWP/UserAgent.pm line 282
	LWP::UserAgent::request(Test::WWW::Mechanize::PSGI=HASH(0x2c67f80), HTTP::Request=HASH(0x2e10970)) called at /home/sand/src/perl/repoperls/installed-perls/perl/v5.20.0/9980/lib/site_perl/5.20.0/WWW/Mechanize.pm line 2598
	WWW::Mechanize::_make_request(Test::WWW::Mechanize::PSGI=HASH(0x2c67f80), HTTP::Request=HASH(0x2e10970)) called at /home/sand/src/perl/repoperls/installed-perls/perl/v5.20.0/9980/lib/site_perl/5.20.0/WWW/Mechanize.pm line 2312
	WWW::Mechanize::request(Test::WWW::Mechanize::PSGI=HASH(0x2c67f80), HTTP::Request=HASH(0x2e10970)) called at /home/sand/src/perl/repoperls/installed-perls/perl/v5.20.0/9980/lib/site_perl/5.20.0/LWP/UserAgent.pm line 419
	LWP::UserAgent::post(Test::WWW::Mechanize::PSGI=HASH(0x2c67f80), "/wishlist?baz") called at t/03_mech.t line 87
Secret string too short at /tmp/loop_over_bdir-1876-ksF1l6/HTTP-Session2-1.08-4QNIt3/blib/lib/HTTP/Session2/Base.pm line 79.
	HTTP::Session2::Base::__ANON__(HTTP::Session2::ServerStore=HASH(0x2e01cc0), "s3cret") called at t/03_mech.t line 121
	main::server_session(HASH(0x2e096e0)) called at t/03_mech.t line 17
	main::__ANON__(HASH(0x2e096e0)) called at /home/sand/src/perl/repoperls/installed-perls/perl/v5.20.0/9980/lib/site_perl/5.20.0/Test/WWW/Mechanize/PSGI.pm line 39
	Test::WWW::Mechanize::PSGI::try {...} () called at /home/sand/src/perl/repoperls/installed-perls/perl/v5.20.0/9980/lib/site_perl/5.20.0/Try/Tiny.pm line 81
	eval {...} called at /home/sand/src/perl/repoperls/installed-perls/perl/v5.20.0/9980/lib/site_perl/5.20.0/Try/Tiny.pm line 72
	Try::Tiny::try(CODE(0x2e09860), Try::Tiny::Catch=REF(0x2e002d8)) called at /home/sand/src/perl/repoperls/installed-perls/perl/v5.20.0/9980/lib/site_perl/5.20.0/Test/WWW/Mechanize/PSGI.pm line 46
	Test::WWW::Mechanize::PSGI::simple_request(Test::WWW::Mechanize::PSGI=HASH(0x2c67f80), HTTP::Request=HASH(0x2df8950), undef, undef) called at /home/sand/src/perl/repoperls/installed-perls/perl/v5.20.0/9980/lib/site_perl/5.20.0/LWP/UserAgent.pm line 282
	LWP::UserAgent::request(Test::WWW::Mechanize::PSGI=HASH(0x2c67f80), HTTP::Request=HASH(0x2df8950)) called at /home/sand/src/perl/repoperls/installed-perls/perl/v5.20.0/9980/lib/site_perl/5.20.0/WWW/Mechanize.pm line 2598
	WWW::Mechanize::_make_request(Test::WWW::Mechanize::PSGI=HASH(0x2c67f80), HTTP::Request=HASH(0x2df8950)) called at /home/sand/src/perl/repoperls/installed-perls/perl/v5.20.0/9980/lib/site_perl/5.20.0/WWW/Mechanize.pm line 2312
	WWW::Mechanize::request(Test::WWW::Mechanize::PSGI=HASH(0x2c67f80), HTTP::Request=HASH(0x2df8950)) called at /home/sand/src/perl/repoperls/installed-perls/perl/v5.20.0/9980/lib/site_perl/5.20.0/LWP/UserAgent.pm line 419
	LWP::UserAgent::post(Test::WWW::Mechanize::PSGI=HASH(0x2c67f80), "/wishlist?baz", HASH(0x283c580)) called at /home/sand/src/perl/repoperls/installed-perls/perl/v5.20.0/9980/lib/site_perl/5.20.0/Test/WWW/Mechanize.pm line 236
	Test::WWW::Mechanize::post_ok(Test::WWW::Mechanize::PSGI=HASH(0x2c67f80), "/wishlist?baz") called at t/03_mech.t line 90
Secret string too short at /tmp/loop_over_bdir-1876-ksF1l6/HTTP-Session2-1.08-4QNIt3/blib/lib/HTTP/Session2/Base.pm line 79.
	HTTP::Session2::Base::__ANON__(HTTP::Session2::ServerStore=HASH(0x2e015d0), "s3cret") called at t/03_mech.t line 121
	main::server_session(HASH(0x2e11318)) called at t/03_mech.t line 17
	main::__ANON__(HASH(0x2e11318)) called at /home/sand/src/perl/repoperls/installed-perls/perl/v5.20.0/9980/lib/site_perl/5.20.0/Test/WWW/Mechanize/PSGI.pm line 39
	Test::WWW::Mechanize::PSGI::try {...} () called at /home/sand/src/perl/repoperls/installed-perls/perl/v5.20.0/9980/lib/site_perl/5.20.0/Try/Tiny.pm line 81
	eval {...} called at /home/sand/src/perl/repoperls/installed-perls/perl/v5.20.0/9980/lib/site_perl/5.20.0/Try/Tiny.pm line 72
	Try::Tiny::try(CODE(0x2df8878), Try::Tiny::Catch=REF(0x2e01708)) called at /home/sand/src/perl/repoperls/installed-perls/perl/v5.20.0/9980/lib/site_perl/5.20.0/Test/WWW/Mechanize/PSGI.pm line 46
	Test::WWW::Mechanize::PSGI::simple_request(Test::WWW::Mechanize::PSGI=HASH(0x2c67f80), HTTP::Request=HASH(0x2df8b18), undef, undef) called at /home/sand/src/perl/repoperls/installed-perls/perl/v5.20.0/9980/lib/site_perl/5.20.0/LWP/UserAgent.pm line 282
	LWP::UserAgent::request(Test::WWW::Mechanize::PSGI=HASH(0x2c67f80), HTTP::Request=HASH(0x2df8b18)) called at /home/sand/src/perl/repoperls/installed-perls/perl/v5.20.0/9980/lib/site_perl/5.20.0/WWW/Mechanize.pm line 2598
	WWW::Mechanize::_make_request(Test::WWW::Mechanize::PSGI=HASH(0x2c67f80), HTTP::Request=HASH(0x2df8b18)) called at /home/sand/src/perl/repoperls/installed-perls/perl/v5.20.0/9980/lib/site_perl/5.20.0/WWW/Mechanize.pm line 2312
	WWW::Mechanize::request(Test::WWW::Mechanize::PSGI=HASH(0x2c67f80), HTTP::Request=HASH(0x2df8b18)) called at /home/sand/src/perl/repoperls/installed-perls/perl/v5.20.0/9980/lib/site_perl/5.20.0/LWP/UserAgent.pm line 411
	LWP::UserAgent::get(Test::WWW::Mechanize::PSGI=HASH(0x2c67f80), "http://localhost/wishlist") called at /home/sand/src/perl/repoperls/installed-perls/perl/v5.20.0/9980/lib/site_perl/5.20.0/WWW/Mechanize.pm line 407
	WWW::Mechanize::get(Test::WWW::Mechanize::PSGI=HASH(0x2c67f80), "/wishlist") called at /home/sand/src/perl/repoperls/installed-perls/perl/v5.20.0/9980/lib/site_perl/5.20.0/Test/WWW/Mechanize.pm line 159
	Test::WWW::Mechanize::get_ok(Test::WWW::Mechanize::PSGI=HASH(0x2c67f80), "/wishlist", "Wishlist is still available") called at t/03_mech.t line 91
Secret string too short at /tmp/loop_over_bdir-1876-ksF1l6/HTTP-Session2-1.08-4QNIt3/blib/lib/HTTP/Session2/Base.pm line 79.
	HTTP::Session2::Base::__ANON__(HTTP::Session2::ServerStore=HASH(0x2df8800), "s3cret") called at t/03_mech.t line 121
	main::server_session(HASH(0x2e10ad8)) called at t/03_mech.t line 17
	main::__ANON__(HASH(0x2e10ad8)) called at /home/sand/src/perl/repoperls/installed-perls/perl/v5.20.0/9980/lib/site_perl/5.20.0/Test/WWW/Mechanize/PSGI.pm line 39
	Test::WWW::Mechanize::PSGI::try {...} () called at /home/sand/src/perl/repoperls/installed-perls/perl/v5.20.0/9980/lib/site_perl/5.20.0/Try/Tiny.pm line 81
	eval {...} called at /home/sand/src/perl/repoperls/installed-perls/perl/v5.20.0/9980/lib/site_perl/5.20.0/Try/Tiny.pm line 72
	Try::Tiny::try(CODE(0x2dffc60), Try::Tiny::Catch=REF(0x2e13f28)) called at /home/sand/src/perl/repoperls/installed-perls/perl/v5.20.0/9980/lib/site_perl/5.20.0/Test/WWW/Mechanize/PSGI.pm line 46
	Test::WWW::Mechanize::PSGI::simple_request(Test::WWW::Mechanize::PSGI=HASH(0x2c67f80), HTTP::Request=HASH(0x2e10958), undef, undef) called at /home/sand/src/perl/repoperls/installed-perls/perl/v5.20.0/9980/lib/site_perl/5.20.0/LWP/UserAgent.pm line 282
	LWP::UserAgent::request(Test::WWW::Mechanize::PSGI=HASH(0x2c67f80), HTTP::Request=HASH(0x2e10958)) called at /home/sand/src/perl/repoperls/installed-perls/perl/v5.20.0/9980/lib/site_perl/5.20.0/WWW/Mechanize.pm line 2598
	WWW::Mechanize::_make_request(Test::WWW::Mechanize::PSGI=HASH(0x2c67f80), HTTP::Request=HASH(0x2e10958)) called at /home/sand/src/perl/repoperls/installed-perls/perl/v5.20.0/9980/lib/site_perl/5.20.0/WWW/Mechanize.pm line 2312
	WWW::Mechanize::request(Test::WWW::Mechanize::PSGI=HASH(0x2c67f80), HTTP::Request=HASH(0x2e10958)) called at /home/sand/src/perl/repoperls/installed-perls/perl/v5.20.0/9980/lib/site_perl/5.20.0/LWP/UserAgent.pm line 411
	LWP::UserAgent::get(Test::WWW::Mechanize::PSGI=HASH(0x2c67f80), "http://localhost/my/name") called at /home/sand/src/perl/repoperls/installed-perls/perl/v5.20.0/9980/lib/site_perl/5.20.0/WWW/Mechanize.pm line 407
	WWW::Mechanize::get(Test::WWW::Mechanize::PSGI=HASH(0x2c67f80), "/my/name") called at /home/sand/src/perl/repoperls/installed-perls/perl/v5.20.0/9980/lib/site_perl/5.20.0/Test/WWW/Mechanize.pm line 159
	Test::WWW::Mechanize::get_ok(Test::WWW::Mechanize::PSGI=HASH(0x2c67f80), "/my/name") called at t/03_mech.t line 93
Secret string too short at /tmp/loop_over_bdir-1876-ksF1l6/HTTP-Session2-1.08-4QNIt3/blib/lib/HTTP/Session2/Base.pm line 79.
	HTTP::Session2::Base::__ANON__(HTTP::Session2::ServerStore=HASH(0x2e112d0), "s3cret") called at t/03_mech.t line 121
	main::server_session(HASH(0x2df8800)) called at t/03_mech.t line 17
	main::__ANON__(HASH(0x2df8800)) called at /home/sand/src/perl/repoperls/installed-perls/perl/v5.20.0/9980/lib/site_perl/5.20.0/Test/WWW/Mechanize/PSGI.pm line 39
	Test::WWW::Mechanize::PSGI::try {...} () called at /home/sand/src/perl/repoperls/installed-perls/perl/v5.20.0/9980/lib/site_perl/5.20.0/Try/Tiny.pm line 81
	eval {...} called at /home/sand/src/perl/repoperls/installed-perls/perl/v5.20.0/9980/lib/site_perl/5.20.0/Try/Tiny.pm line 72
	Try::Tiny::try(CODE(0x2e14630), Try::Tiny::Catch=REF(0x2e10730)) called at /home/sand/src/perl/repoperls/installed-perls/perl/v5.20.0/9980/lib/site_perl/5.20.0/Test/WWW/Mechanize/PSGI.pm line 46
	Test::WWW::Mechanize::PSGI::simple_request(Test::WWW::Mechanize::PSGI=HASH(0x2c67f80), HTTP::Request=HASH(0x2e13760), undef, undef) called at /home/sand/src/perl/repoperls/installed-perls/perl/v5.20.0/9980/lib/site_perl/5.20.0/LWP/UserAgent.pm line 282
	LWP::UserAgent::request(Test::WWW::Mechanize::PSGI=HASH(0x2c67f80), HTTP::Request=HASH(0x2e13760)) called at /home/sand/src/perl/repoperls/installed-perls/perl/v5.20.0/9980/lib/site_perl/5.20.0/WWW/Mechanize.pm line 2598
	WWW::Mechanize::_make_request(Test::WWW::Mechanize::PSGI=HASH(0x2c67f80), HTTP::Request=HASH(0x2e13760)) called at /home/sand/src/perl/repoperls/installed-perls/perl/v5.20.0/9980/lib/site_perl/5.20.0/WWW/Mechanize.pm line 2312
	WWW::Mechanize::request(Test::WWW::Mechanize::PSGI=HASH(0x2c67f80), HTTP::Request=HASH(0x2e13760)) called at /home/sand/src/perl/repoperls/installed-perls/perl/v5.20.0/9980/lib/site_perl/5.20.0/LWP/UserAgent.pm line 419
	LWP::UserAgent::post(Test::WWW::Mechanize::PSGI=HASH(0x2c67f80), "/account/logout?john") called at t/03_mech.t line 97
Secret string too short at /tmp/loop_over_bdir-1876-ksF1l6/HTTP-Session2-1.08-4QNIt3/blib/lib/HTTP/Session2/Base.pm line 79.
	HTTP::Session2::Base::__ANON__(HTTP::Session2::ClientStore=HASH(0x2d13998), "s3cret") called at t/03_mech.t line 127
	main::client_session(HASH(0x2e10a48)) called at t/03_mech.t line 17
	main::__ANON__(HASH(0x2e10a48)) called at /home/sand/src/perl/repoperls/installed-perls/perl/v5.20.0/9980/lib/site_perl/5.20.0/Test/WWW/Mechanize/PSGI.pm line 39
	Test::WWW::Mechanize::PSGI::try {...} () called at /home/sand/src/perl/repoperls/installed-perls/perl/v5.20.0/9980/lib/site_perl/5.20.0/Try/Tiny.pm line 81
	eval {...} called at /home/sand/src/perl/repoperls/installed-perls/perl/v5.20.0/9980/lib/site_perl/5.20.0/Try/Tiny.pm line 72
	Try::Tiny::try(CODE(0x2d4efd0), Try::Tiny::Catch=REF(0x2e139e8)) called at /home/sand/src/perl/repoperls/installed-perls/perl/v5.20.0/9980/lib/site_perl/5.20.0/Test/WWW/Mechanize/PSGI.pm line 46
	Test::WWW::Mechanize::PSGI::simple_request(Test::WWW::Mechanize::PSGI=HASH(0x2df8a58), HTTP::Request=HASH(0x2df8c50), undef, undef) called at /home/sand/src/perl/repoperls/installed-perls/perl/v5.20.0/9980/lib/site_perl/5.20.0/LWP/UserAgent.pm line 282
	LWP::UserAgent::request(Test::WWW::Mechanize::PSGI=HASH(0x2df8a58), HTTP::Request=HASH(0x2df8c50)) called at /home/sand/src/perl/repoperls/installed-perls/perl/v5.20.0/9980/lib/site_perl/5.20.0/WWW/Mechanize.pm line 2598
	WWW::Mechanize::_make_request(Test::WWW::Mechanize::PSGI=HASH(0x2df8a58), HTTP::Request=HASH(0x2df8c50)) called at /home/sand/src/perl/repoperls/installed-perls/perl/v5.20.0/9980/lib/site_perl/5.20.0/WWW/Mechanize.pm line 2312
	WWW::Mechanize::request(Test::WWW::Mechanize::PSGI=HASH(0x2df8a58), HTTP::Request=HASH(0x2df8c50)) called at /home/sand/src/perl/repoperls/installed-perls/perl/v5.20.0/9980/lib/site_perl/5.20.0/LWP/UserAgent.pm line 411
	LWP::UserAgent::get(Test::WWW::Mechanize::PSGI=HASH(0x2df8a58), "/") called at /home/sand/src/perl/repoperls/installed-perls/perl/v5.20.0/9980/lib/site_perl/5.20.0/WWW/Mechanize.pm line 407
	WWW::Mechanize::get(Test::WWW::Mechanize::PSGI=HASH(0x2df8a58), "/") called at /home/sand/src/perl/repoperls/installed-perls/perl/v5.20.0/9980/lib/site_perl/5.20.0/Test/WWW/Mechanize.pm line 159
	Test::WWW::Mechanize::get_ok(Test::WWW::Mechanize::PSGI=HASH(0x2df8a58), "/") called at t/03_mech.t line 74
Secret string too short at /tmp/loop_over_bdir-1876-ksF1l6/HTTP-Session2-1.08-4QNIt3/blib/lib/HTTP/Session2/Base.pm line 79.
	HTTP::Session2::Base::__ANON__(HTTP::Session2::ClientStore=HASH(0x2dcc060), "s3cret") called at t/03_mech.t line 127
	main::client_session(HASH(0x2d137e8)) called at t/03_mech.t line 17
	main::__ANON__(HASH(0x2d137e8)) called at /home/sand/src/perl/repoperls/installed-perls/perl/v5.20.0/9980/lib/site_perl/5.20.0/Test/WWW/Mechanize/PSGI.pm line 39
	Test::WWW::Mechanize::PSGI::try {...} () called at /home/sand/src/perl/repoperls/installed-perls/perl/v5.20.0/9980/lib/site_perl/5.20.0/Try/Tiny.pm line 81
	eval {...} called at /home/sand/src/perl/repoperls/installed-perls/perl/v5.20.0/9980/lib/site_perl/5.20.0/Try/Tiny.pm line 72
	Try::Tiny::try(CODE(0x2df8500), Try::Tiny::Catch=REF(0x2cfdd20)) called at /home/sand/src/perl/repoperls/installed-perls/perl/v5.20.0/9980/lib/site_perl/5.20.0/Test/WWW/Mechanize/PSGI.pm line 46
	Test::WWW::Mechanize::PSGI::simple_request(Test::WWW::Mechanize::PSGI=HASH(0x2df8a58), HTTP::Request=HASH(0x2e020e0), undef, undef) called at /home/sand/src/perl/repoperls/installed-perls/perl/v5.20.0/9980/lib/site_perl/5.20.0/LWP/UserAgent.pm line 282
	LWP::UserAgent::request(Test::WWW::Mechanize::PSGI=HASH(0x2df8a58), HTTP::Request=HASH(0x2e020e0)) called at /home/sand/src/perl/repoperls/installed-perls/perl/v5.20.0/9980/lib/site_perl/5.20.0/WWW/Mechanize.pm line 2598
	WWW::Mechanize::_make_request(Test::WWW::Mechanize::PSGI=HASH(0x2df8a58), HTTP::Request=HASH(0x2e020e0)) called at /home/sand/src/perl/repoperls/installed-perls/perl/v5.20.0/9980/lib/site_perl/5.20.0/WWW/Mechanize.pm line 2312
	WWW::Mechanize::request(Test::WWW::Mechanize::PSGI=HASH(0x2df8a58), HTTP::Request=HASH(0x2e020e0)) called at /home/sand/src/perl/repoperls/installed-perls/perl/v5.20.0/9980/lib/site_perl/5.20.0/LWP/UserAgent.pm line 419
	LWP::UserAgent::post(Test::WWW::Mechanize::PSGI=HASH(0x2df8a58), "/wishlist?foo", HASH(0x283c580)) called at /home/sand/src/perl/repoperls/installed-perls/perl/v5.20.0/9980/lib/site_perl/5.20.0/Test/WWW/Mechanize.pm line 236
	Test::WWW::Mechanize::post_ok(Test::WWW::Mechanize::PSGI=HASH(0x2df8a58), "/wishlist?foo") called at t/03_mech.t line 75
Do not use HTTP::Session2::ClientStore. Use HTTP::Session2::ServerStore or HTTP::Session2::ClientStore2 instead. at /tmp/loop_over_bdir-1876-ksF1l6/HTTP-Session2-1.08-4QNIt3/blib/lib/HTTP/Session2/ClientStore.pm line 25.
Secret string too short at /tmp/loop_over_bdir-1876-ksF1l6/HTTP-Session2-1.08-4QNIt3/blib/lib/HTTP/Session2/Base.pm line 79.
	HTTP::Session2::Base::__ANON__(HTTP::Session2::ClientStore=HASH(0x2dffe58), "s3cret") called at t/03_mech.t line 127
	main::client_session(HASH(0x2dcc300)) called at t/03_mech.t line 17
	main::__ANON__(HASH(0x2dcc300)) called at /home/sand/src/perl/repoperls/installed-perls/perl/v5.20.0/9980/lib/site_perl/5.20.0/Test/WWW/Mechanize/PSGI.pm line 39
	Test::WWW::Mechanize::PSGI::try {...} () called at /home/sand/src/perl/repoperls/installed-perls/perl/v5.20.0/9980/lib/site_perl/5.20.0/Try/Tiny.pm line 81
	eval {...} called at /home/sand/src/perl/repoperls/installed-perls/perl/v5.20.0/9980/lib/site_perl/5.20.0/Try/Tiny.pm line 72
	Try::Tiny::try(CODE(0x2dcbef8), Try::Tiny::Catch=REF(0x2de68d0)) called at /home/sand/src/perl/repoperls/installed-perls/perl/v5.20.0/9980/lib/site_perl/5.20.0/Test/WWW/Mechanize/PSGI.pm line 46
	Test::WWW::Mechanize::PSGI::simple_request(Test::WWW::Mechanize::PSGI=HASH(0x2df8a58), HTTP::Request=HASH(0x2e098a8), undef, undef) called at /home/sand/src/perl/repoperls/installed-perls/perl/v5.20.0/9980/lib/site_perl/5.20.0/LWP/UserAgent.pm line 282
	LWP::UserAgent::request(Test::WWW::Mechanize::PSGI=HASH(0x2df8a58), HTTP::Request=HASH(0x2e098a8)) called at /home/sand/src/perl/repoperls/installed-perls/perl/v5.20.0/9980/lib/site_perl/5.20.0/WWW/Mechanize.pm line 2598
	WWW::Mechanize::_make_request(Test::WWW::Mechanize::PSGI=HASH(0x2df8a58), HTTP::Request=HASH(0x2e098a8)) called at /home/sand/src/perl/repoperls/installed-perls/perl/v5.20.0/9980/lib/site_perl/5.20.0/WWW/Mechanize.pm line 2312
	WWW::Mechanize::request(Test::WWW::Mechanize::PSGI=HASH(0x2df8a58), HTTP::Request=HASH(0x2e098a8)) called at /home/sand/src/perl/repoperls/installed-perls/perl/v5.20.0/9980/lib/site_perl/5.20.0/LWP/UserAgent.pm line 411
	LWP::UserAgent::get(Test::WWW::Mechanize::PSGI=HASH(0x2df8a58), "http://localhost/wishlist") called at /home/sand/src/perl/repoperls/installed-perls/perl/v5.20.0/9980/lib/site_perl/5.20.0/WWW/Mechanize.pm line 407
	WWW::Mechanize::get(Test::WWW::Mechanize::PSGI=HASH(0x2df8a58), "/wishlist") called at /home/sand/src/perl/repoperls/installed-perls/perl/v5.20.0/9980/lib/site_perl/5.20.0/Test/WWW/Mechanize.pm line 159
	Test::WWW::Mechanize::get_ok(Test::WWW::Mechanize::PSGI=HASH(0x2df8a58), "/wishlist") called at t/03_mech.t line 76
Do not use HTTP::Session2::ClientStore. Use HTTP::Session2::ServerStore or HTTP::Session2::ClientStore2 instead. at /tmp/loop_over_bdir-1876-ksF1l6/HTTP-Session2-1.08-4QNIt3/blib/lib/HTTP/Session2/ClientStore.pm line 35.
Secret string too short at /tmp/loop_over_bdir-1876-ksF1l6/HTTP-Session2-1.08-4QNIt3/blib/lib/HTTP/Session2/Base.pm line 79.
	HTTP::Session2::Base::__ANON__(HTTP::Session2::ClientStore=HASH(0x2e08e88), "s3cret") called at t/03_mech.t line 127
	main::client_session(HASH(0x2c67548)) called at t/03_mech.t line 17
	main::__ANON__(HASH(0x2c67548)) called at /home/sand/src/perl/repoperls/installed-perls/perl/v5.20.0/9980/lib/site_perl/5.20.0/Test/WWW/Mechanize/PSGI.pm line 39
	Test::WWW::Mechanize::PSGI::try {...} () called at /home/sand/src/perl/repoperls/installed-perls/perl/v5.20.0/9980/lib/site_perl/5.20.0/Try/Tiny.pm line 81
	eval {...} called at /home/sand/src/perl/repoperls/installed-perls/perl/v5.20.0/9980/lib/site_perl/5.20.0/Try/Tiny.pm line 72
	Try::Tiny::try(CODE(0x2df9358), Try::Tiny::Catch=REF(0x17ac7d8)) called at /home/sand/src/perl/repoperls/installed-perls/perl/v5.20.0/9980/lib/site_perl/5.20.0/Test/WWW/Mechanize/PSGI.pm line 46
	Test::WWW::Mechanize::PSGI::simple_request(Test::WWW::Mechanize::PSGI=HASH(0x2df8a58), HTTP::Request=HASH(0x2e13778), undef, undef) called at /home/sand/src/perl/repoperls/installed-perls/perl/v5.20.0/9980/lib/site_perl/5.20.0/LWP/UserAgent.pm line 282
	LWP::UserAgent::request(Test::WWW::Mechanize::PSGI=HASH(0x2df8a58), HTTP::Request=HASH(0x2e13778)) called at /home/sand/src/perl/repoperls/installed-perls/perl/v5.20.0/9980/lib/site_perl/5.20.0/WWW/Mechanize.pm line 2598
	WWW::Mechanize::_make_request(Test::WWW::Mechanize::PSGI=HASH(0x2df8a58), HTTP::Request=HASH(0x2e13778)) called at /home/sand/src/perl/repoperls/installed-perls/perl/v5.20.0/9980/lib/site_perl/5.20.0/WWW/Mechanize.pm line 2312
	WWW::Mechanize::request(Test::WWW::Mechanize::PSGI=HASH(0x2df8a58), HTTP::Request=HASH(0x2e13778)) called at /home/sand/src/perl/repoperls/installed-perls/perl/v5.20.0/9980/lib/site_perl/5.20.0/LWP/UserAgent.pm line 419
	LWP::UserAgent::post(Test::WWW::Mechanize::PSGI=HASH(0x2df8a58), "/wishlist?bar") called at t/03_mech.t line 78
Do not use HTTP::Session2::ClientStore. Use HTTP::Session2::ServerStore or HTTP::Session2::ClientStore2 instead. at /tmp/loop_over_bdir-1876-ksF1l6/HTTP-Session2-1.08-4QNIt3/blib/lib/HTTP/Session2/ClientStore.pm line 35.
Secret string too short at /tmp/loop_over_bdir-1876-ksF1l6/HTTP-Session2-1.08-4QNIt3/blib/lib/HTTP/Session2/Base.pm line 79.
	HTTP::Session2::Base::__ANON__(HTTP::Session2::ClientStore=HASH(0x2d5bc08), "s3cret") called at t/03_mech.t line 127
	main::client_session(HASH(0x2e014b0)) called at t/03_mech.t line 17
	main::__ANON__(HASH(0x2e014b0)) called at /home/sand/src/perl/repoperls/installed-perls/perl/v5.20.0/9980/lib/site_perl/5.20.0/Test/WWW/Mechanize/PSGI.pm line 39
	Test::WWW::Mechanize::PSGI::try {...} () called at /home/sand/src/perl/repoperls/installed-perls/perl/v5.20.0/9980/lib/site_perl/5.20.0/Try/Tiny.pm line 81
	eval {...} called at /home/sand/src/perl/repoperls/installed-perls/perl/v5.20.0/9980/lib/site_perl/5.20.0/Try/Tiny.pm line 72
	Try::Tiny::try(CODE(0x2dccd20), Try::Tiny::Catch=REF(0x2dff9f0)) called at /home/sand/src/perl/repoperls/installed-perls/perl/v5.20.0/9980/lib/site_perl/5.20.0/Test/WWW/Mechanize/PSGI.pm line 46
	Test::WWW::Mechanize::PSGI::simple_request(Test::WWW::Mechanize::PSGI=HASH(0x2df8a58), HTTP::Request=HASH(0x2e01e70), undef, undef) called at /home/sand/src/perl/repoperls/installed-perls/perl/v5.20.0/9980/lib/site_perl/5.20.0/LWP/UserAgent.pm line 282
	LWP::UserAgent::request(Test::WWW::Mechanize::PSGI=HASH(0x2df8a58), HTTP::Request=HASH(0x2e01e70)) called at /home/sand/src/perl/repoperls/installed-perls/perl/v5.20.0/9980/lib/site_perl/5.20.0/WWW/Mechanize.pm line 2598
	WWW::Mechanize::_make_request(Test::WWW::Mechanize::PSGI=HASH(0x2df8a58), HTTP::Request=HASH(0x2e01e70)) called at /home/sand/src/perl/repoperls/installed-perls/perl/v5.20.0/9980/lib/site_perl/5.20.0/WWW/Mechanize.pm line 2312
	WWW::Mechanize::request(Test::WWW::Mechanize::PSGI=HASH(0x2df8a58), HTTP::Request=HASH(0x2e01e70)) called at /home/sand/src/perl/repoperls/installed-perls/perl/v5.20.0/9980/lib/site_perl/5.20.0/LWP/UserAgent.pm line 419
	LWP::UserAgent::post(Test::WWW::Mechanize::PSGI=HASH(0x2df8a58), "/wishlist?bar", HASH(0x283c580)) called at /home/sand/src/perl/repoperls/installed-perls/perl/v5.20.0/9980/lib/site_perl/5.20.0/Test/WWW/Mechanize.pm line 236
	Test::WWW::Mechanize::post_ok(Test::WWW::Mechanize::PSGI=HASH(0x2df8a58), "/wishlist?bar") called at t/03_mech.t line 81
Do not use HTTP::Session2::ClientStore. Use HTTP::Session2::ServerStore or HTTP::Session2::ClientStore2 instead. at /tmp/loop_over_bdir-1876-ksF1l6/HTTP-Session2-1.08-4QNIt3/blib/lib/HTTP/Session2/ClientStore.pm line 35.
Do not use HTTP::Session2::ClientStore. Use HTTP::Session2::ServerStore or HTTP::Session2::ClientStore2 instead. at /tmp/loop_over_bdir-1876-ksF1l6/HTTP-Session2-1.08-4QNIt3/blib/lib/HTTP/Session2/ClientStore.pm line 25.
Secret string too short at /tmp/loop_over_bdir-1876-ksF1l6/HTTP-Session2-1.08-4QNIt3/blib/lib/HTTP/Session2/Base.pm line 79.
	HTTP::Session2::Base::__ANON__(HTTP::Session2::ClientStore=HASH(0x2c68088), "s3cret") called at t/03_mech.t line 127
	main::client_session(HASH(0x2e08dc8)) called at t/03_mech.t line 17
	main::__ANON__(HASH(0x2e08dc8)) called at /home/sand/src/perl/repoperls/installed-perls/perl/v5.20.0/9980/lib/site_perl/5.20.0/Test/WWW/Mechanize/PSGI.pm line 39
	Test::WWW::Mechanize::PSGI::try {...} () called at /home/sand/src/perl/repoperls/installed-perls/perl/v5.20.0/9980/lib/site_perl/5.20.0/Try/Tiny.pm line 81
	eval {...} called at /home/sand/src/perl/repoperls/installed-perls/perl/v5.20.0/9980/lib/site_perl/5.20.0/Try/Tiny.pm line 72
	Try::Tiny::try(CODE(0x2e022a8), Try::Tiny::Catch=REF(0x2e01378)) called at /home/sand/src/perl/repoperls/installed-perls/perl/v5.20.0/9980/lib/site_perl/5.20.0/Test/WWW/Mechanize/PSGI.pm line 46
	Test::WWW::Mechanize::PSGI::simple_request(Test::WWW::Mechanize::PSGI=HASH(0x2df8a58), HTTP::Request=HASH(0x2dfff78), undef, undef) called at /home/sand/src/perl/repoperls/installed-perls/perl/v5.20.0/9980/lib/site_perl/5.20.0/LWP/UserAgent.pm line 282
	LWP::UserAgent::request(Test::WWW::Mechanize::PSGI=HASH(0x2df8a58), HTTP::Request=HASH(0x2dfff78)) called at /home/sand/src/perl/repoperls/installed-perls/perl/v5.20.0/9980/lib/site_perl/5.20.0/WWW/Mechanize.pm line 2598
	WWW::Mechanize::_make_request(Test::WWW::Mechanize::PSGI=HASH(0x2df8a58), HTTP::Request=HASH(0x2dfff78)) called at /home/sand/src/perl/repoperls/installed-perls/perl/v5.20.0/9980/lib/site_perl/5.20.0/WWW/Mechanize.pm line 2312
	WWW::Mechanize::request(Test::WWW::Mechanize::PSGI=HASH(0x2df8a58), HTTP::Request=HASH(0x2dfff78)) called at /home/sand/src/perl/repoperls/installed-perls/perl/v5.20.0/9980/lib/site_perl/5.20.0/LWP/UserAgent.pm line 411
	LWP::UserAgent::get(Test::WWW::Mechanize::PSGI=HASH(0x2df8a58), "http://localhost/wishlist") called at /home/sand/src/perl/repoperls/installed-perls/perl/v5.20.0/9980/lib/site_perl/5.20.0/WWW/Mechanize.pm line 407
	WWW::Mechanize::get(Test::WWW::Mechanize::PSGI=HASH(0x2df8a58), "/wishlist") called at /home/sand/src/perl/repoperls/installed-perls/perl/v5.20.0/9980/lib/site_perl/5.20.0/Test/WWW/Mechanize.pm line 159
	Test::WWW::Mechanize::get_ok(Test::WWW::Mechanize::PSGI=HASH(0x2df8a58), "/wishlist") called at t/03_mech.t line 82
Do not use HTTP::Session2::ClientStore. Use HTTP::Session2::ServerStore or HTTP::Session2::ClientStore2 instead. at /tmp/loop_over_bdir-1876-ksF1l6/HTTP-Session2-1.08-4QNIt3/blib/lib/HTTP/Session2/ClientStore.pm line 35.
Secret string too short at /tmp/loop_over_bdir-1876-ksF1l6/HTTP-Session2-1.08-4QNIt3/blib/lib/HTTP/Session2/Base.pm line 79.
	HTTP::Session2::Base::__ANON__(HTTP::Session2::ClientStore=HASH(0x2e08f30), "s3cret") called at t/03_mech.t line 127
	main::client_session(HASH(0x2e09518)) called at t/03_mech.t line 17
	main::__ANON__(HASH(0x2e09518)) called at /home/sand/src/perl/repoperls/installed-perls/perl/v5.20.0/9980/lib/site_perl/5.20.0/Test/WWW/Mechanize/PSGI.pm line 39
	Test::WWW::Mechanize::PSGI::try {...} () called at /home/sand/src/perl/repoperls/installed-perls/perl/v5.20.0/9980/lib/site_perl/5.20.0/Try/Tiny.pm line 81
	eval {...} called at /home/sand/src/perl/repoperls/installed-perls/perl/v5.20.0/9980/lib/site_perl/5.20.0/Try/Tiny.pm line 72
	Try::Tiny::try(CODE(0x2df9190), Try::Tiny::Catch=REF(0x2e09608)) called at /home/sand/src/perl/repoperls/installed-perls/perl/v5.20.0/9980/lib/site_perl/5.20.0/Test/WWW/Mechanize/PSGI.pm line 46
	Test::WWW::Mechanize::PSGI::simple_request(Test::WWW::Mechanize::PSGI=HASH(0x2df8a58), HTTP::Request=HASH(0x2e13958), undef, undef) called at /home/sand/src/perl/repoperls/installed-perls/perl/v5.20.0/9980/lib/site_perl/5.20.0/LWP/UserAgent.pm line 282
	LWP::UserAgent::request(Test::WWW::Mechanize::PSGI=HASH(0x2df8a58), HTTP::Request=HASH(0x2e13958)) called at /home/sand/src/perl/repoperls/installed-perls/perl/v5.20.0/9980/lib/site_perl/5.20.0/WWW/Mechanize.pm line 2598
	WWW::Mechanize::_make_request(Test::WWW::Mechanize::PSGI=HASH(0x2df8a58), HTTP::Request=HASH(0x2e13958)) called at /home/sand/src/perl/repoperls/installed-perls/perl/v5.20.0/9980/lib/site_perl/5.20.0/WWW/Mechanize.pm line 2312
	WWW::Mechanize::request(Test::WWW::Mechanize::PSGI=HASH(0x2df8a58), HTTP::Request=HASH(0x2e13958)) called at /home/sand/src/perl/repoperls/installed-perls/perl/v5.20.0/9980/lib/site_perl/5.20.0/LWP/UserAgent.pm line 419
	LWP::UserAgent::post(Test::WWW::Mechanize::PSGI=HASH(0x2df8a58), "/account/login?john", HASH(0x283c580)) called at /home/sand/src/perl/repoperls/installed-perls/perl/v5.20.0/9980/lib/site_perl/5.20.0/Test/WWW/Mechanize.pm line 236
	Test::WWW::Mechanize::post_ok(Test::WWW::Mechanize::PSGI=HASH(0x2df8a58), "/account/login?john") called at t/03_mech.t line 84
Do not use HTTP::Session2::ClientStore. Use HTTP::Session2::ServerStore or HTTP::Session2::ClientStore2 instead. at /tmp/loop_over_bdir-1876-ksF1l6/HTTP-Session2-1.08-4QNIt3/blib/lib/HTTP/Session2/ClientStore.pm line 35.
Do not use HTTP::Session2::ClientStore. Use HTTP::Session2::ServerStore or HTTP::Session2::ClientStore2 instead. at /tmp/loop_over_bdir-1876-ksF1l6/HTTP-Session2-1.08-4QNIt3/blib/lib/HTTP/Session2/ClientStore.pm line 35.
Do not use HTTP::Session2::ClientStore. Use HTTP::Session2::ServerStore or HTTP::Session2::ClientStore2 instead. at /tmp/loop_over_bdir-1876-ksF1l6/HTTP-Session2-1.08-4QNIt3/blib/lib/HTTP/Session2/ClientStore.pm line 25.
Secret string too short at /tmp/loop_over_bdir-1876-ksF1l6/HTTP-Session2-1.08-4QNIt3/blib/lib/HTTP/Session2/Base.pm line 79.
	HTTP::Session2::Base::__ANON__(HTTP::Session2::ClientStore=HASH(0x2e00140), "s3cret") called at t/03_mech.t line 127
	main::client_session(HASH(0x2cfdd20)) called at t/03_mech.t line 17
	main::__ANON__(HASH(0x2cfdd20)) called at /home/sand/src/perl/repoperls/installed-perls/perl/v5.20.0/9980/lib/site_perl/5.20.0/Test/WWW/Mechanize/PSGI.pm line 39
	Test::WWW::Mechanize::PSGI::try {...} () called at /home/sand/src/perl/repoperls/installed-perls/perl/v5.20.0/9980/lib/site_perl/5.20.0/Try/Tiny.pm line 81
	eval {...} called at /home/sand/src/perl/repoperls/installed-perls/perl/v5.20.0/9980/lib/site_perl/5.20.0/Try/Tiny.pm line 72
	Try::Tiny::try(CODE(0x2e09680), Try::Tiny::Catch=REF(0x2e10c28)) called at /home/sand/src/perl/repoperls/installed-perls/perl/v5.20.0/9980/lib/site_perl/5.20.0/Test/WWW/Mechanize/PSGI.pm line 46
	Test::WWW::Mechanize::PSGI::simple_request(Test::WWW::Mechanize::PSGI=HASH(0x2df8a58), HTTP::Request=HASH(0x2dff9d8), undef, undef) called at /home/sand/src/perl/repoperls/installed-perls/perl/v5.20.0/9980/lib/site_perl/5.20.0/LWP/UserAgent.pm line 282
	LWP::UserAgent::request(Test::WWW::Mechanize::PSGI=HASH(0x2df8a58), HTTP::Request=HASH(0x2dff9d8)) called at /home/sand/src/perl/repoperls/installed-perls/perl/v5.20.0/9980/lib/site_perl/5.20.0/WWW/Mechanize.pm line 2598
	WWW::Mechanize::_make_request(Test::WWW::Mechanize::PSGI=HASH(0x2df8a58), HTTP::Request=HASH(0x2dff9d8)) called at /home/sand/src/perl/repoperls/installed-perls/perl/v5.20.0/9980/lib/site_perl/5.20.0/WWW/Mechanize.pm line 2312
	WWW::Mechanize::request(Test::WWW::Mechanize::PSGI=HASH(0x2df8a58), HTTP::Request=HASH(0x2dff9d8)) called at /home/sand/src/perl/repoperls/installed-perls/perl/v5.20.0/9980/lib/site_perl/5.20.0/LWP/UserAgent.pm line 411
	LWP::UserAgent::get(Test::WWW::Mechanize::PSGI=HASH(0x2df8a58), "http://localhost/wishlist") called at /home/sand/src/perl/repoperls/installed-perls/perl/v5.20.0/9980/lib/site_perl/5.20.0/WWW/Mechanize.pm line 407
	WWW::Mechanize::get(Test::WWW::Mechanize::PSGI=HASH(0x2df8a58), "/wishlist") called at /home/sand/src/perl/repoperls/installed-perls/perl/v5.20.0/9980/lib/site_perl/5.20.0/Test/WWW/Mechanize.pm line 159
	Test::WWW::Mechanize::get_ok(Test::WWW::Mechanize::PSGI=HASH(0x2df8a58), "/wishlist", "Wishlist is still available") called at t/03_mech.t line 85
Do not use HTTP::Session2::ClientStore. Use HTTP::Session2::ServerStore or HTTP::Session2::ClientStore2 instead. at /tmp/loop_over_bdir-1876-ksF1l6/HTTP-Session2-1.08-4QNIt3/blib/lib/HTTP/Session2/ClientStore.pm line 35.
Secret string too short at /tmp/loop_over_bdir-1876-ksF1l6/HTTP-Session2-1.08-4QNIt3/blib/lib/HTTP/Session2/Base.pm line 79.
	HTTP::Session2::Base::__ANON__(HTTP::Session2::ClientStore=HASH(0x2e13a60), "s3cret") called at t/03_mech.t line 127
	main::client_session(HASH(0x2e13910)) called at t/03_mech.t line 17
	main::__ANON__(HASH(0x2e13910)) called at /home/sand/src/perl/repoperls/installed-perls/perl/v5.20.0/9980/lib/site_perl/5.20.0/Test/WWW/Mechanize/PSGI.pm line 39
	Test::WWW::Mechanize::PSGI::try {...} () called at /home/sand/src/perl/repoperls/installed-perls/perl/v5.20.0/9980/lib/site_perl/5.20.0/Try/Tiny.pm line 81
	eval {...} called at /home/sand/src/perl/repoperls/installed-perls/perl/v5.20.0/9980/lib/site_perl/5.20.0/Try/Tiny.pm line 72
	Try::Tiny::try(CODE(0x2dcc9f0), Try::Tiny::Catch=REF(0x2dcc7c8)) called at /home/sand/src/perl/repoperls/installed-perls/perl/v5.20.0/9980/lib/site_perl/5.20.0/Test/WWW/Mechanize/PSGI.pm line 46
	Test::WWW::Mechanize::PSGI::simple_request(Test::WWW::Mechanize::PSGI=HASH(0x2df8a58), HTTP::Request=HASH(0x2d210f8), undef, undef) called at /home/sand/src/perl/repoperls/installed-perls/perl/v5.20.0/9980/lib/site_perl/5.20.0/LWP/UserAgent.pm line 282
	LWP::UserAgent::request(Test::WWW::Mechanize::PSGI=HASH(0x2df8a58), HTTP::Request=HASH(0x2d210f8)) called at /home/sand/src/perl/repoperls/installed-perls/perl/v5.20.0/9980/lib/site_perl/5.20.0/WWW/Mechanize.pm line 2598
	WWW::Mechanize::_make_request(Test::WWW::Mechanize::PSGI=HASH(0x2df8a58), HTTP::Request=HASH(0x2d210f8)) called at /home/sand/src/perl/repoperls/installed-perls/perl/v5.20.0/9980/lib/site_perl/5.20.0/WWW/Mechanize.pm line 2312
	WWW::Mechanize::request(Test::WWW::Mechanize::PSGI=HASH(0x2df8a58), HTTP::Request=HASH(0x2d210f8)) called at /home/sand/src/perl/repoperls/installed-perls/perl/v5.20.0/9980/lib/site_perl/5.20.0/LWP/UserAgent.pm line 419
	LWP::UserAgent::post(Test::WWW::Mechanize::PSGI=HASH(0x2df8a58), "/wishlist?baz") called at t/03_mech.t line 87
Do not use HTTP::Session2::ClientStore. Use HTTP::Session2::ServerStore or HTTP::Session2::ClientStore2 instead. at /tmp/loop_over_bdir-1876-ksF1l6/HTTP-Session2-1.08-4QNIt3/blib/lib/HTTP/Session2/ClientStore.pm line 35.
Secret string too short at /tmp/loop_over_bdir-1876-ksF1l6/HTTP-Session2-1.08-4QNIt3/blib/lib/HTTP/Session2/Base.pm line 79.
	HTTP::Session2::Base::__ANON__(HTTP::Session2::ClientStore=HASH(0x2e13748), "s3cret") called at t/03_mech.t line 127
	main::client_session(HASH(0x2e13a60)) called at t/03_mech.t line 17
	main::__ANON__(HASH(0x2e13a60)) called at /home/sand/src/perl/repoperls/installed-perls/perl/v5.20.0/9980/lib/site_perl/5.20.0/Test/WWW/Mechanize/PSGI.pm line 39
	Test::WWW::Mechanize::PSGI::try {...} () called at /home/sand/src/perl/repoperls/installed-perls/perl/v5.20.0/9980/lib/site_perl/5.20.0/Try/Tiny.pm line 81
	eval {...} called at /home/sand/src/perl/repoperls/installed-perls/perl/v5.20.0/9980/lib/site_perl/5.20.0/Try/Tiny.pm line 72
	Try::Tiny::try(CODE(0x2e00278), Try::Tiny::Catch=REF(0x2e08dc8)) called at /home/sand/src/perl/repoperls/installed-perls/perl/v5.20.0/9980/lib/site_perl/5.20.0/Test/WWW/Mechanize/PSGI.pm line 46
	Test::WWW::Mechanize::PSGI::simple_request(Test::WWW::Mechanize::PSGI=HASH(0x2df8a58), HTTP::Request=HASH(0x2e00110), undef, undef) called at /home/sand/src/perl/repoperls/installed-perls/perl/v5.20.0/9980/lib/site_perl/5.20.0/LWP/UserAgent.pm line 282
	LWP::UserAgent::request(Test::WWW::Mechanize::PSGI=HASH(0x2df8a58), HTTP::Request=HASH(0x2e00110)) called at /home/sand/src/perl/repoperls/installed-perls/perl/v5.20.0/9980/lib/site_perl/5.20.0/WWW/Mechanize.pm line 2598
	WWW::Mechanize::_make_request(Test::WWW::Mechanize::PSGI=HASH(0x2df8a58), HTTP::Request=HASH(0x2e00110)) called at /home/sand/src/perl/repoperls/installed-perls/perl/v5.20.0/9980/lib/site_perl/5.20.0/WWW/Mechanize.pm line 2312
	WWW::Mechanize::request(Test::WWW::Mechanize::PSGI=HASH(0x2df8a58), HTTP::Request=HASH(0x2e00110)) called at /home/sand/src/perl/repoperls/installed-perls/perl/v5.20.0/9980/lib/site_perl/5.20.0/LWP/UserAgent.pm line 419
	LWP::UserAgent::post(Test::WWW::Mechanize::PSGI=HASH(0x2df8a58), "/wishlist?baz", HASH(0x283c580)) called at /home/sand/src/perl/repoperls/installed-perls/perl/v5.20.0/9980/lib/site_perl/5.20.0/Test/WWW/Mechanize.pm line 236
	Test::WWW::Mechanize::post_ok(Test::WWW::Mechanize::PSGI=HASH(0x2df8a58), "/wishlist?baz") called at t/03_mech.t line 90
Do not use HTTP::Session2::ClientStore. Use HTTP::Session2::ServerStore or HTTP::Session2::ClientStore2 instead. at /tmp/loop_over_bdir-1876-ksF1l6/HTTP-Session2-1.08-4QNIt3/blib/lib/HTTP/Session2/ClientStore.pm line 35.
Do not use HTTP::Session2::ClientStore. Use HTTP::Session2::ServerStore or HTTP::Session2::ClientStore2 instead. at /tmp/loop_over_bdir-1876-ksF1l6/HTTP-Session2-1.08-4QNIt3/blib/lib/HTTP/Session2/ClientStore.pm line 25.
Secret string too short at /tmp/loop_over_bdir-1876-ksF1l6/HTTP-Session2-1.08-4QNIt3/blib/lib/HTTP/Session2/Base.pm line 79.
	HTTP::Session2::Base::__ANON__(HTTP::Session2::ClientStore=HASH(0x2e00440), "s3cret") called at t/03_mech.t line 127
	main::client_session(HASH(0x2df8620)) called at t/03_mech.t line 17
	main::__ANON__(HASH(0x2df8620)) called at /home/sand/src/perl/repoperls/installed-perls/perl/v5.20.0/9980/lib/site_perl/5.20.0/Test/WWW/Mechanize/PSGI.pm line 39
	Test::WWW::Mechanize::PSGI::try {...} () called at /home/sand/src/perl/repoperls/installed-perls/perl/v5.20.0/9980/lib/site_perl/5.20.0/Try/Tiny.pm line 81
	eval {...} called at /home/sand/src/perl/repoperls/installed-perls/perl/v5.20.0/9980/lib/site_perl/5.20.0/Try/Tiny.pm line 72
	Try::Tiny::try(CODE(0x2e185f0), Try::Tiny::Catch=REF(0x2e144c8)) called at /home/sand/src/perl/repoperls/installed-perls/perl/v5.20.0/9980/lib/site_perl/5.20.0/Test/WWW/Mechanize/PSGI.pm line 46
	Test::WWW::Mechanize::PSGI::simple_request(Test::WWW::Mechanize::PSGI=HASH(0x2df8a58), HTTP::Request=HASH(0x2e14150), undef, undef) called at /home/sand/src/perl/repoperls/installed-perls/perl/v5.20.0/9980/lib/site_perl/5.20.0/LWP/UserAgent.pm line 282
	LWP::UserAgent::request(Test::WWW::Mechanize::PSGI=HASH(0x2df8a58), HTTP::Request=HASH(0x2e14150)) called at /home/sand/src/perl/repoperls/installed-perls/perl/v5.20.0/9980/lib/site_perl/5.20.0/WWW/Mechanize.pm line 2598
	WWW::Mechanize::_make_request(Test::WWW::Mechanize::PSGI=HASH(0x2df8a58), HTTP::Request=HASH(0x2e14150)) called at /home/sand/src/perl/repoperls/installed-perls/perl/v5.20.0/9980/lib/site_perl/5.20.0/WWW/Mechanize.pm line 2312
	WWW::Mechanize::request(Test::WWW::Mechanize::PSGI=HASH(0x2df8a58), HTTP::Request=HASH(0x2e14150)) called at /home/sand/src/perl/repoperls/installed-perls/perl/v5.20.0/9980/lib/site_perl/5.20.0/LWP/UserAgent.pm line 411
	LWP::UserAgent::get(Test::WWW::Mechanize::PSGI=HASH(0x2df8a58), "http://localhost/wishlist") called at /home/sand/src/perl/repoperls/installed-perls/perl/v5.20.0/9980/lib/site_perl/5.20.0/WWW/Mechanize.pm line 407
	WWW::Mechanize::get(Test::WWW::Mechanize::PSGI=HASH(0x2df8a58), "/wishlist") called at /home/sand/src/perl/repoperls/installed-perls/perl/v5.20.0/9980/lib/site_perl/5.20.0/Test/WWW/Mechanize.pm line 159
	Test::WWW::Mechanize::get_ok(Test::WWW::Mechanize::PSGI=HASH(0x2df8a58), "/wishlist", "Wishlist is still available") called at t/03_mech.t line 91
Do not use HTTP::Session2::ClientStore. Use HTTP::Session2::ServerStore or HTTP::Session2::ClientStore2 instead. at /tmp/loop_over_bdir-1876-ksF1l6/HTTP-Session2-1.08-4QNIt3/blib/lib/HTTP/Session2/ClientStore.pm line 35.
Secret string too short at /tmp/loop_over_bdir-1876-ksF1l6/HTTP-Session2-1.08-4QNIt3/blib/lib/HTTP/Session2/Base.pm line 79.
	HTTP::Session2::Base::__ANON__(HTTP::Session2::ClientStore=HASH(0x2dcc6a8), "s3cret") called at t/03_mech.t line 127
	main::client_session(HASH(0x2e02200)) called at t/03_mech.t line 17
	main::__ANON__(HASH(0x2e02200)) called at /home/sand/src/perl/repoperls/installed-perls/perl/v5.20.0/9980/lib/site_perl/5.20.0/Test/WWW/Mechanize/PSGI.pm line 39
	Test::WWW::Mechanize::PSGI::try {...} () called at /home/sand/src/perl/repoperls/installed-perls/perl/v5.20.0/9980/lib/site_perl/5.20.0/Try/Tiny.pm line 81
	eval {...} called at /home/sand/src/perl/repoperls/installed-perls/perl/v5.20.0/9980/lib/site_perl/5.20.0/Try/Tiny.pm line 72
	Try::Tiny::try(CODE(0x2e10c88), Try::Tiny::Catch=REF(0x2e021b8)) called at /home/sand/src/perl/repoperls/installed-perls/perl/v5.20.0/9980/lib/site_perl/5.20.0/Test/WWW/Mechanize/PSGI.pm line 46
	Test::WWW::Mechanize::PSGI::simple_request(Test::WWW::Mechanize::PSGI=HASH(0x2df8a58), HTTP::Request=HASH(0x2e13748), undef, undef) called at /home/sand/src/perl/repoperls/installed-perls/perl/v5.20.0/9980/lib/site_perl/5.20.0/LWP/UserAgent.pm line 282
	LWP::UserAgent::request(Test::WWW::Mechanize::PSGI=HASH(0x2df8a58), HTTP::Request=HASH(0x2e13748)) called at /home/sand/src/perl/repoperls/installed-perls/perl/v5.20.0/9980/lib/site_perl/5.20.0/WWW/Mechanize.pm line 2598
	WWW::Mechanize::_make_request(Test::WWW::Mechanize::PSGI=HASH(0x2df8a58), HTTP::Request=HASH(0x2e13748)) called at /home/sand/src/perl/repoperls/installed-perls/perl/v5.20.0/9980/lib/site_perl/5.20.0/WWW/Mechanize.pm line 2312
	WWW::Mechanize::request(Test::WWW::Mechanize::PSGI=HASH(0x2df8a58), HTTP::Request=HASH(0x2e13748)) called at /home/sand/src/perl/repoperls/installed-perls/perl/v5.20.0/9980/lib/site_perl/5.20.0/LWP/UserAgent.pm line 411
	LWP::UserAgent::get(Test::WWW::Mechanize::PSGI=HASH(0x2df8a58), "http://localhost/my/name") called at /home/sand/src/perl/repoperls/installed-perls/perl/v5.20.0/9980/lib/site_perl/5.20.0/WWW/Mechanize.pm line 407
	WWW::Mechanize::get(Test::WWW::Mechanize::PSGI=HASH(0x2df8a58), "/my/name") called at /home/sand/src/perl/repoperls/installed-perls/perl/v5.20.0/9980/lib/site_perl/5.20.0/Test/WWW/Mechanize.pm line 159
	Test::WWW::Mechanize::get_ok(Test::WWW::Mechanize::PSGI=HASH(0x2df8a58), "/my/name") called at t/03_mech.t line 93
Do not use HTTP::Session2::ClientStore. Use HTTP::Session2::ServerStore or HTTP::Session2::ClientStore2 instead. at /tmp/loop_over_bdir-1876-ksF1l6/HTTP-Session2-1.08-4QNIt3/blib/lib/HTTP/Session2/ClientStore.pm line 35.
Secret string too short at /tmp/loop_over_bdir-1876-ksF1l6/HTTP-Session2-1.08-4QNIt3/blib/lib/HTTP/Session2/Base.pm line 79.
	HTTP::Session2::Base::__ANON__(HTTP::Session2::ClientStore=HASH(0x2e021d0), "s3cret") called at t/03_mech.t line 127
	main::client_session(HASH(0x2dcc6a8)) called at t/03_mech.t line 17
	main::__ANON__(HASH(0x2dcc6a8)) called at /home/sand/src/perl/repoperls/installed-perls/perl/v5.20.0/9980/lib/site_perl/5.20.0/Test/WWW/Mechanize/PSGI.pm line 39
	Test::WWW::Mechanize::PSGI::try {...} () called at /home/sand/src/perl/repoperls/installed-perls/perl/v5.20.0/9980/lib/site_perl/5.20.0/Try/Tiny.pm line 81
	eval {...} called at /home/sand/src/perl/repoperls/installed-perls/perl/v5.20.0/9980/lib/site_perl/5.20.0/Try/Tiny.pm line 72
	Try::Tiny::try(CODE(0x2e10fd0), Try::Tiny::Catch=REF(0x2e08d38)) called at /home/sand/src/perl/repoperls/installed-perls/perl/v5.20.0/9980/lib/site_perl/5.20.0/Test/WWW/Mechanize/PSGI.pm line 46
	Test::WWW::Mechanize::PSGI::simple_request(Test::WWW::Mechanize::PSGI=HASH(0x2df8a58), HTTP::Request=HASH(0x2e09a58), undef, undef) called at /home/sand/src/perl/repoperls/installed-perls/perl/v5.20.0/9980/lib/site_perl/5.20.0/LWP/UserAgent.pm line 282
	LWP::UserAgent::request(Test::WWW::Mechanize::PSGI=HASH(0x2df8a58), HTTP::Request=HASH(0x2e09a58)) called at /home/sand/src/perl/repoperls/installed-perls/perl/v5.20.0/9980/lib/site_perl/5.20.0/WWW/Mechanize.pm line 2598
	WWW::Mechanize::_make_request(Test::WWW::Mechanize::PSGI=HASH(0x2df8a58), HTTP::Request=HASH(0x2e09a58)) called at /home/sand/src/perl/repoperls/installed-perls/perl/v5.20.0/9980/lib/site_perl/5.20.0/WWW/Mechanize.pm line 2312
	WWW::Mechanize::request(Test::WWW::Mechanize::PSGI=HASH(0x2df8a58), HTTP::Request=HASH(0x2e09a58)) called at /home/sand/src/perl/repoperls/installed-perls/perl/v5.20.0/9980/lib/site_perl/5.20.0/LWP/UserAgent.pm line 419
	LWP::UserAgent::post(Test::WWW::Mechanize::PSGI=HASH(0x2df8a58), "/account/logout?john") called at t/03_mech.t line 97
Do not use HTTP::Session2::ClientStore. Use HTTP::Session2::ServerStore or HTTP::Session2::ClientStore2 instead. at /tmp/loop_over_bdir-1876-ksF1l6/HTTP-Session2-1.08-4QNIt3/blib/lib/HTTP/Session2/ClientStore.pm line 35.
Do not use HTTP::Session2::ClientStore. Use HTTP::Session2::ServerStore or HTTP::Session2::ClientStore2 instead. at /tmp/loop_over_bdir-1876-ksF1l6/HTTP-Session2-1.08-4QNIt3/blib/lib/HTTP/Session2/ClientStore.pm line 35.
t/03_mech.t ................. ok
Do not use HTTP::Session2::ClientStore. Use HTTP::Session2::ServerStore or HTTP::Session2::ClientStore2 instead. at /tmp/loop_over_bdir-1876-ksF1l6/HTTP-Session2-1.08-4QNIt3/blib/lib/HTTP/Session2/ClientStore.pm line 25.
t/04_plack_response.t ....... ok
Secret string too short at /tmp/loop_over_bdir-1876-ksF1l6/HTTP-Session2-1.08-4QNIt3/blib/lib/HTTP/Session2/Base.pm line 79.
	HTTP::Session2::Base::__ANON__(HTTP::Session2::ClientStore=HASH(0x141ce10), "s3cret") called at t/05_keep_me_signed_in.t line 15
Do not use HTTP::Session2::ClientStore. Use HTTP::Session2::ServerStore or HTTP::Session2::ClientStore2 instead. at /tmp/loop_over_bdir-1876-ksF1l6/HTTP-Session2-1.08-4QNIt3/blib/lib/HTTP/Session2/ClientStore.pm line 25.
t/05_keep_me_signed_in.t .... ok
Secret string too short at /tmp/loop_over_bdir-1876-ksF1l6/HTTP-Session2-1.08-4QNIt3/blib/lib/HTTP/Session2/Base.pm line 79.
	HTTP::Session2::Base::__ANON__(HTTP::Session2::Base=HASH(0x25e6cf8), "i am secret") called at t/06_base_abstract.t line 7
t/06_base_abstract.t ........ ok
Secret string too short at /tmp/loop_over_bdir-1876-ksF1l6/HTTP-Session2-1.08-4QNIt3/blib/lib/HTTP/Session2/Base.pm line 79.
	HTTP::Session2::Base::__ANON__(HTTP::Session2::ClientStore=HASH(0x2182d28), "secret") called at t/07_client_store.t line 23
	main::__ANON__() called at /home/sand/src/perl/repoperls/installed-perls/perl/v5.20.0/9980/lib/site_perl/5.20.0/Test/Builder.pm line 222
	Test::Builder::__ANON__() called at /home/sand/src/perl/repoperls/installed-perls/perl/v5.20.0/9980/lib/site_perl/5.20.0/Test/Builder/Trace.pm line 24
	Test::Builder::Trace::nest("Test::Builder::Trace", CODE(0x218ece8)) called at /home/sand/src/perl/repoperls/installed-perls/perl/v5.20.0/9980/lib/site_perl/5.20.0/Test/Builder.pm line 227
	Test::Builder::__ANON__() called at /home/sand/src/perl/repoperls/installed-perls/perl/v5.20.0/9980/lib/site_perl/5.20.0/Test/Builder/Util.pm line 247
	eval {...} called at /home/sand/src/perl/repoperls/installed-perls/perl/v5.20.0/9980/lib/site_perl/5.20.0/Test/Builder/Util.pm line 247
	Test::Builder::Util::try(CODE(0x1545a98)) called at /home/sand/src/perl/repoperls/installed-perls/perl/v5.20.0/9980/lib/site_perl/5.20.0/Test/Builder.pm line 227
	Test::Builder::subtest(Test::Builder=HASH(0x1564158), "get/set/remove", CODE(0x1f0c920)) called at /home/sand/src/perl/repoperls/installed-perls/perl/v5.20.0/9980/lib/site_perl/5.20.0/Test/More.pm line 290
	Test::More::subtest("get/set/remove", CODE(0x1f0c920)) called at t/07_client_store.t line 31
Secret string too short at /tmp/loop_over_bdir-1876-ksF1l6/HTTP-Session2-1.08-4QNIt3/blib/lib/HTTP/Session2/Base.pm line 79.
	HTTP::Session2::Base::__ANON__(HTTP::Session2::ClientStore=HASH(0x2198210), "secret") called at t/07_client_store.t line 35
	main::__ANON__() called at /home/sand/src/perl/repoperls/installed-perls/perl/v5.20.0/9980/lib/site_perl/5.20.0/Test/Builder.pm line 222
	Test::Builder::__ANON__() called at /home/sand/src/perl/repoperls/installed-perls/perl/v5.20.0/9980/lib/site_perl/5.20.0/Test/Builder/Trace.pm line 24
	Test::Builder::Trace::nest("Test::Builder::Trace", CODE(0x218ef70)) called at /home/sand/src/perl/repoperls/installed-perls/perl/v5.20.0/9980/lib/site_perl/5.20.0/Test/Builder.pm line 227
	Test::Builder::__ANON__() called at /home/sand/src/perl/repoperls/installed-perls/perl/v5.20.0/9980/lib/site_perl/5.20.0/Test/Builder/Util.pm line 247
	eval {...} called at /home/sand/src/perl/repoperls/installed-perls/perl/v5.20.0/9980/lib/site_perl/5.20.0/Test/Builder/Util.pm line 247
	Test::Builder::Util::try(CODE(0x15457e0)) called at /home/sand/src/perl/repoperls/installed-perls/perl/v5.20.0/9980/lib/site_perl/5.20.0/Test/Builder.pm line 227
	Test::Builder::subtest(Test::Builder=HASH(0x1564158), "validate_token", CODE(0x1f0d1c0)) called at /home/sand/src/perl/repoperls/installed-perls/perl/v5.20.0/9980/lib/site_perl/5.20.0/Test/More.pm line 290
	Test::More::subtest("validate_token", CODE(0x1f0d1c0)) called at t/07_client_store.t line 71
Do not use HTTP::Session2::ClientStore. Use HTTP::Session2::ServerStore or HTTP::Session2::ClientStore2 instead. at /tmp/loop_over_bdir-1876-ksF1l6/HTTP-Session2-1.08-4QNIt3/blib/lib/HTTP/Session2/ClientStore.pm line 25.
Secret string too short at /tmp/loop_over_bdir-1876-ksF1l6/HTTP-Session2-1.08-4QNIt3/blib/lib/HTTP/Session2/Base.pm line 79.
	HTTP::Session2::Base::__ANON__(HTTP::Session2::ClientStore=HASH(0x2198660), "secret") called at t/07_client_store.t line 51
	main::__ANON__() called at /home/sand/src/perl/repoperls/installed-perls/perl/v5.20.0/9980/lib/site_perl/5.20.0/Test/Builder.pm line 222
	Test::Builder::__ANON__() called at /home/sand/src/perl/repoperls/installed-perls/perl/v5.20.0/9980/lib/site_perl/5.20.0/Test/Builder/Trace.pm line 24
	Test::Builder::Trace::nest("Test::Builder::Trace", CODE(0x21a8228)) called at /home/sand/src/perl/repoperls/installed-perls/perl/v5.20.0/9980/lib/site_perl/5.20.0/Test/Builder.pm line 227
	Test::Builder::__ANON__() called at /home/sand/src/perl/repoperls/installed-perls/perl/v5.20.0/9980/lib/site_perl/5.20.0/Test/Builder/Util.pm line 247
	eval {...} called at /home/sand/src/perl/repoperls/installed-perls/perl/v5.20.0/9980/lib/site_perl/5.20.0/Test/Builder/Util.pm line 247
	Test::Builder::Util::try(CODE(0x21a8930)) called at /home/sand/src/perl/repoperls/installed-perls/perl/v5.20.0/9980/lib/site_perl/5.20.0/Test/Builder.pm line 227
	Test::Builder::subtest(Test::Builder=HASH(0x1564158), "bad", CODE(0x21a5db0)) called at /home/sand/src/perl/repoperls/installed-perls/perl/v5.20.0/9980/lib/site_perl/5.20.0/Test/More.pm line 290
	Test::More::subtest("bad", CODE(0x21a5db0)) called at t/07_client_store.t line 57
	main::__ANON__() called at /home/sand/src/perl/repoperls/installed-perls/perl/v5.20.0/9980/lib/site_perl/5.20.0/Test/Builder.pm line 222
	Test::Builder::__ANON__() called at /home/sand/src/perl/repoperls/installed-perls/perl/v5.20.0/9980/lib/site_perl/5.20.0/Test/Builder/Trace.pm line 24
	Test::Builder::Trace::nest("Test::Builder::Trace", CODE(0x218ef70)) called at /home/sand/src/perl/repoperls/installed-perls/perl/v5.20.0/9980/lib/site_perl/5.20.0/Test/Builder.pm line 227
	Test::Builder::__ANON__() called at /home/sand/src/perl/repoperls/installed-perls/perl/v5.20.0/9980/lib/site_perl/5.20.0/Test/Builder/Util.pm line 247
	eval {...} called at /home/sand/src/perl/repoperls/installed-perls/perl/v5.20.0/9980/lib/site_perl/5.20.0/Test/Builder/Util.pm line 247
	Test::Builder::Util::try(CODE(0x15457e0)) called at /home/sand/src/perl/repoperls/installed-perls/perl/v5.20.0/9980/lib/site_perl/5.20.0/Test/Builder.pm line 227
	Test::Builder::subtest(Test::Builder=HASH(0x1564158), "validate_token", CODE(0x1f0d1c0)) called at /home/sand/src/perl/repoperls/installed-perls/perl/v5.20.0/9980/lib/site_perl/5.20.0/Test/More.pm line 290
	Test::More::subtest("validate_token", CODE(0x1f0d1c0)) called at t/07_client_store.t line 71
Do not use HTTP::Session2::ClientStore. Use HTTP::Session2::ServerStore or HTTP::Session2::ClientStore2 instead. at /tmp/loop_over_bdir-1876-ksF1l6/HTTP-Session2-1.08-4QNIt3/blib/lib/HTTP/Session2/ClientStore.pm line 35.
Secret string too short at /tmp/loop_over_bdir-1876-ksF1l6/HTTP-Session2-1.08-4QNIt3/blib/lib/HTTP/Session2/Base.pm line 79.
	HTTP::Session2::Base::__ANON__(HTTP::Session2::ClientStore=HASH(0x2197a18), "secret") called at t/07_client_store.t line 65
	main::__ANON__() called at /home/sand/src/perl/repoperls/installed-perls/perl/v5.20.0/9980/lib/site_perl/5.20.0/Test/Builder.pm line 222
	Test::Builder::__ANON__() called at /home/sand/src/perl/repoperls/installed-perls/perl/v5.20.0/9980/lib/site_perl/5.20.0/Test/Builder/Trace.pm line 24
	Test::Builder::Trace::nest("Test::Builder::Trace", CODE(0x21a6308)) called at /home/sand/src/perl/repoperls/installed-perls/perl/v5.20.0/9980/lib/site_perl/5.20.0/Test/Builder.pm line 227
	Test::Builder::__ANON__() called at /home/sand/src/perl/repoperls/installed-perls/perl/v5.20.0/9980/lib/site_perl/5.20.0/Test/Builder/Util.pm line 247
	eval {...} called at /home/sand/src/perl/repoperls/installed-perls/perl/v5.20.0/9980/lib/site_perl/5.20.0/Test/Builder/Util.pm line 247
	Test::Builder::Util::try(CODE(0x219ac68)) called at /home/sand/src/perl/repoperls/installed-perls/perl/v5.20.0/9980/lib/site_perl/5.20.0/Test/Builder.pm line 227
	Test::Builder::subtest(Test::Builder=HASH(0x1564158), "good", CODE(0x21a5db0)) called at /home/sand/src/perl/repoperls/installed-perls/perl/v5.20.0/9980/lib/site_perl/5.20.0/Test/More.pm line 290
	Test::More::subtest("good", CODE(0x21a5db0)) called at t/07_client_store.t line 70
	main::__ANON__() called at /home/sand/src/perl/repoperls/installed-perls/perl/v5.20.0/9980/lib/site_perl/5.20.0/Test/Builder.pm line 222
	Test::Builder::__ANON__() called at /home/sand/src/perl/repoperls/installed-perls/perl/v5.20.0/9980/lib/site_perl/5.20.0/Test/Builder/Trace.pm line 24
	Test::Builder::Trace::nest("Test::Builder::Trace", CODE(0x218ef70)) called at /home/sand/src/perl/repoperls/installed-perls/perl/v5.20.0/9980/lib/site_perl/5.20.0/Test/Builder.pm line 227
	Test::Builder::__ANON__() called at /home/sand/src/perl/repoperls/installed-perls/perl/v5.20.0/9980/lib/site_perl/5.20.0/Test/Builder/Util.pm line 247
	eval {...} called at /home/sand/src/perl/repoperls/installed-perls/perl/v5.20.0/9980/lib/site_perl/5.20.0/Test/Builder/Util.pm line 247
	Test::Builder::Util::try(CODE(0x15457e0)) called at /home/sand/src/perl/repoperls/installed-perls/perl/v5.20.0/9980/lib/site_perl/5.20.0/Test/Builder.pm line 227
	Test::Builder::subtest(Test::Builder=HASH(0x1564158), "validate_token", CODE(0x1f0d1c0)) called at /home/sand/src/perl/repoperls/installed-perls/perl/v5.20.0/9980/lib/site_perl/5.20.0/Test/More.pm line 290
	Test::More::subtest("validate_token", CODE(0x1f0d1c0)) called at t/07_client_store.t line 71
Do not use HTTP::Session2::ClientStore. Use HTTP::Session2::ServerStore or HTTP::Session2::ClientStore2 instead. at /tmp/loop_over_bdir-1876-ksF1l6/HTTP-Session2-1.08-4QNIt3/blib/lib/HTTP/Session2/ClientStore.pm line 35.
Secret string too short at /tmp/loop_over_bdir-1876-ksF1l6/HTTP-Session2-1.08-4QNIt3/blib/lib/HTTP/Session2/Base.pm line 79.
	HTTP::Session2::Base::__ANON__(HTTP::Session2::ClientStore=HASH(0x21a8498), "secret") called at t/07_client_store.t line 76
	main::__ANON__() called at /home/sand/src/perl/repoperls/installed-perls/perl/v5.20.0/9980/lib/site_perl/5.20.0/Test/Builder.pm line 222
	Test::Builder::__ANON__() called at /home/sand/src/perl/repoperls/installed-perls/perl/v5.20.0/9980/lib/site_perl/5.20.0/Test/Builder/Trace.pm line 24
	Test::Builder::Trace::nest("Test::Builder::Trace", CODE(0x21a6338)) called at /home/sand/src/perl/repoperls/installed-perls/perl/v5.20.0/9980/lib/site_perl/5.20.0/Test/Builder.pm line 227
	Test::Builder::__ANON__() called at /home/sand/src/perl/repoperls/installed-perls/perl/v5.20.0/9980/lib/site_perl/5.20.0/Test/Builder/Util.pm line 247
	eval {...} called at /home/sand/src/perl/repoperls/installed-perls/perl/v5.20.0/9980/lib/site_perl/5.20.0/Test/Builder/Util.pm line 247
	Test::Builder::Util::try(CODE(0x1545c18)) called at /home/sand/src/perl/repoperls/installed-perls/perl/v5.20.0/9980/lib/site_perl/5.20.0/Test/Builder.pm line 227
	Test::Builder::subtest(Test::Builder=HASH(0x1564158), "ignore_old", CODE(0x218e190)) called at /home/sand/src/perl/repoperls/installed-perls/perl/v5.20.0/9980/lib/site_perl/5.20.0/Test/More.pm line 290
	Test::More::subtest("ignore_old", CODE(0x218e190)) called at t/07_client_store.t line 106
Do not use HTTP::Session2::ClientStore. Use HTTP::Session2::ServerStore or HTTP::Session2::ClientStore2 instead. at /tmp/loop_over_bdir-1876-ksF1l6/HTTP-Session2-1.08-4QNIt3/blib/lib/HTTP/Session2/ClientStore.pm line 25.
Secret string too short at /tmp/loop_over_bdir-1876-ksF1l6/HTTP-Session2-1.08-4QNIt3/blib/lib/HTTP/Session2/Base.pm line 79.
	HTTP::Session2::Base::__ANON__(HTTP::Session2::ClientStore=HASH(0x2197940), "secret") called at t/07_client_store.t line 87
	main::__ANON__() called at /home/sand/src/perl/repoperls/installed-perls/perl/v5.20.0/9980/lib/site_perl/5.20.0/Test/Builder.pm line 222
	Test::Builder::__ANON__() called at /home/sand/src/perl/repoperls/installed-perls/perl/v5.20.0/9980/lib/site_perl/5.20.0/Test/Builder/Trace.pm line 24
	Test::Builder::Trace::nest("Test::Builder::Trace", CODE(0x1545750)) called at /home/sand/src/perl/repoperls/installed-perls/perl/v5.20.0/9980/lib/site_perl/5.20.0/Test/Builder.pm line 227
	Test::Builder::__ANON__() called at /home/sand/src/perl/repoperls/installed-perls/perl/v5.20.0/9980/lib/site_perl/5.20.0/Test/Builder/Util.pm line 247
	eval {...} called at /home/sand/src/perl/repoperls/installed-perls/perl/v5.20.0/9980/lib/site_perl/5.20.0/Test/Builder/Util.pm line 247
	Test::Builder::Util::try(CODE(0x21b4330)) called at /home/sand/src/perl/repoperls/installed-perls/perl/v5.20.0/9980/lib/site_perl/5.20.0/Test/Builder.pm line 227
	Test::Builder::subtest(Test::Builder=HASH(0x1564158), "ignore_old disabled", CODE(0x21a5c30)) called at /home/sand/src/perl/repoperls/installed-perls/perl/v5.20.0/9980/lib/site_perl/5.20.0/Test/More.pm line 290
	Test::More::subtest("ignore_old disabled", CODE(0x21a5c30)) called at t/07_client_store.t line 95
	main::__ANON__() called at /home/sand/src/perl/repoperls/installed-perls/perl/v5.20.0/9980/lib/site_perl/5.20.0/Test/Builder.pm line 222
	Test::Builder::__ANON__() called at /home/sand/src/perl/repoperls/installed-perls/perl/v5.20.0/9980/lib/site_perl/5.20.0/Test/Builder/Trace.pm line 24
	Test::Builder::Trace::nest("Test::Builder::Trace", CODE(0x21a6338)) called at /home/sand/src/perl/repoperls/installed-perls/perl/v5.20.0/9980/lib/site_perl/5.20.0/Test/Builder.pm line 227
	Test::Builder::__ANON__() called at /home/sand/src/perl/repoperls/installed-perls/perl/v5.20.0/9980/lib/site_perl/5.20.0/Test/Builder/Util.pm line 247
	eval {...} called at /home/sand/src/perl/repoperls/installed-perls/perl/v5.20.0/9980/lib/site_perl/5.20.0/Test/Builder/Util.pm line 247
	Test::Builder::Util::try(CODE(0x1545c18)) called at /home/sand/src/perl/repoperls/installed-perls/perl/v5.20.0/9980/lib/site_perl/5.20.0/Test/Builder.pm line 227
	Test::Builder::subtest(Test::Builder=HASH(0x1564158), "ignore_old", CODE(0x218e190)) called at /home/sand/src/perl/repoperls/installed-perls/perl/v5.20.0/9980/lib/site_perl/5.20.0/Test/More.pm line 290
	Test::More::subtest("ignore_old", CODE(0x218e190)) called at t/07_client_store.t line 106
Do not use HTTP::Session2::ClientStore. Use HTTP::Session2::ServerStore or HTTP::Session2::ClientStore2 instead. at /tmp/loop_over_bdir-1876-ksF1l6/HTTP-Session2-1.08-4QNIt3/blib/lib/HTTP/Session2/ClientStore.pm line 35.
Secret string too short at /tmp/loop_over_bdir-1876-ksF1l6/HTTP-Session2-1.08-4QNIt3/blib/lib/HTTP/Session2/Base.pm line 79.
	HTTP::Session2::Base::__ANON__(HTTP::Session2::ClientStore=HASH(0x2197ee0), "secret") called at t/07_client_store.t line 97
	main::__ANON__() called at /home/sand/src/perl/repoperls/installed-perls/perl/v5.20.0/9980/lib/site_perl/5.20.0/Test/Builder.pm line 222
	Test::Builder::__ANON__() called at /home/sand/src/perl/repoperls/installed-perls/perl/v5.20.0/9980/lib/site_perl/5.20.0/Test/Builder/Trace.pm line 24
	Test::Builder::Trace::nest("Test::Builder::Trace", CODE(0x219afe0)) called at /home/sand/src/perl/repoperls/installed-perls/perl/v5.20.0/9980/lib/site_perl/5.20.0/Test/Builder.pm line 227
	Test::Builder::__ANON__() called at /home/sand/src/perl/repoperls/installed-perls/perl/v5.20.0/9980/lib/site_perl/5.20.0/Test/Builder/Util.pm line 247
	eval {...} called at /home/sand/src/perl/repoperls/installed-perls/perl/v5.20.0/9980/lib/site_perl/5.20.0/Test/Builder/Util.pm line 247
	Test::Builder::Util::try(CODE(0x21a84c8)) called at /home/sand/src/perl/repoperls/installed-perls/perl/v5.20.0/9980/lib/site_perl/5.20.0/Test/Builder.pm line 227
	Test::Builder::subtest(Test::Builder=HASH(0x1564158), "ignore_old enabled", CODE(0x21a5c30)) called at /home/sand/src/perl/repoperls/installed-perls/perl/v5.20.0/9980/lib/site_perl/5.20.0/Test/More.pm line 290
	Test::More::subtest("ignore_old enabled", CODE(0x21a5c30)) called at t/07_client_store.t line 105
	main::__ANON__() called at /home/sand/src/perl/repoperls/installed-perls/perl/v5.20.0/9980/lib/site_perl/5.20.0/Test/Builder.pm line 222
	Test::Builder::__ANON__() called at /home/sand/src/perl/repoperls/installed-perls/perl/v5.20.0/9980/lib/site_perl/5.20.0/Test/Builder/Trace.pm line 24
	Test::Builder::Trace::nest("Test::Builder::Trace", CODE(0x21a6338)) called at /home/sand/src/perl/repoperls/installed-perls/perl/v5.20.0/9980/lib/site_perl/5.20.0/Test/Builder.pm line 227
	Test::Builder::__ANON__() called at /home/sand/src/perl/repoperls/installed-perls/perl/v5.20.0/9980/lib/site_perl/5.20.0/Test/Builder/Util.pm line 247
	eval {...} called at /home/sand/src/perl/repoperls/installed-perls/perl/v5.20.0/9980/lib/site_perl/5.20.0/Test/Builder/Util.pm line 247
	Test::Builder::Util::try(CODE(0x1545c18)) called at /home/sand/src/perl/repoperls/installed-perls/perl/v5.20.0/9980/lib/site_perl/5.20.0/Test/Builder.pm line 227
	Test::Builder::subtest(Test::Builder=HASH(0x1564158), "ignore_old", CODE(0x218e190)) called at /home/sand/src/perl/repoperls/installed-perls/perl/v5.20.0/9980/lib/site_perl/5.20.0/Test/More.pm line 290
	Test::More::subtest("ignore_old", CODE(0x218e190)) called at t/07_client_store.t line 106
t/07_client_store.t ......... ok
Secret string too short at /tmp/loop_over_bdir-1876-ksF1l6/HTTP-Session2-1.08-4QNIt3/blib/lib/HTTP/Session2/Base.pm line 79.
	HTTP::Session2::Base::__ANON__(HTTP::Session2::Expired=HASH(0x108ee60), 33333) called at t/08_expired.t line 7
t/08_expired.t .............. ok
# /dev/urandom available
# /dev/urandom(1): 9vGSFlBrfQjP9COxdi38lIygStWiveh
# /dev/urandom(2): t3nFdq219lz4917QTPyEuA4ebmmqlFQ
# perl:            22a5a2f20dc8f778fed1f4882ec2cf6
t/09_random.t ............... ok
t/11_secret_string.t ........ ok
Secret string too short at /tmp/loop_over_bdir-1876-ksF1l6/HTTP-Session2-1.08-4QNIt3/blib/lib/HTTP/Session2/Base.pm line 79.
	HTTP::Session2::Base::__ANON__(HTTP::Session2::ClientStore2=HASH(0x2c56668), "s3cret") called at t/client_store2/01_basic.t line 24
	main::__ANON__("client -> server: request without cookie", CODE(0x2c55df8)) called at t/client_store2/01_basic.t line 30
	main::__ANON__() called at /home/sand/src/perl/repoperls/installed-perls/perl/v5.20.0/9980/lib/site_perl/5.20.0/Test/Builder.pm line 222
	Test::Builder::__ANON__() called at /home/sand/src/perl/repoperls/installed-perls/perl/v5.20.0/9980/lib/site_perl/5.20.0/Test/Builder/Trace.pm line 24
	Test::Builder::Trace::nest("Test::Builder::Trace", CODE(0x2c4fc60)) called at /home/sand/src/perl/repoperls/installed-perls/perl/v5.20.0/9980/lib/site_perl/5.20.0/Test/Builder.pm line 227
	Test::Builder::__ANON__() called at /home/sand/src/perl/repoperls/installed-perls/perl/v5.20.0/9980/lib/site_perl/5.20.0/Test/Builder/Util.pm line 247
	eval {...} called at /home/sand/src/perl/repoperls/installed-perls/perl/v5.20.0/9980/lib/site_perl/5.20.0/Test/Builder/Util.pm line 247
	Test::Builder::Util::try(CODE(0x2c560f8)) called at /home/sand/src/perl/repoperls/installed-perls/perl/v5.20.0/9980/lib/site_perl/5.20.0/Test/Builder.pm line 227
	Test::Builder::subtest(Test::Builder=HASH(0x21c7800), "First request", CODE(0x2181040)) called at /home/sand/src/perl/repoperls/installed-perls/perl/v5.20.0/9980/lib/site_perl/5.20.0/Test/More.pm line 290
	Test::More::subtest("First request", CODE(0x2181040)) called at t/client_store2/01_basic.t line 9
	main::scenario("First request", CODE(0x2181040)) called at t/client_store2/01_basic.t line 36
Secret string too short at /tmp/loop_over_bdir-1876-ksF1l6/HTTP-Session2-1.08-4QNIt3/blib/lib/HTTP/Session2/Base.pm line 79.
	HTTP::Session2::Base::__ANON__(HTTP::Session2::ClientStore2=HASH(0x2c55f78), "s3cret") called at t/client_store2/01_basic.t line 41
	main::__ANON__("client -> server: request without cookie", CODE(0x2c4f5a0)) called at t/client_store2/01_basic.t line 47
	main::__ANON__() called at /home/sand/src/perl/repoperls/installed-perls/perl/v5.20.0/9980/lib/site_perl/5.20.0/Test/Builder.pm line 222
	Test::Builder::__ANON__() called at /home/sand/src/perl/repoperls/installed-perls/perl/v5.20.0/9980/lib/site_perl/5.20.0/Test/Builder/Trace.pm line 24
	Test::Builder::Trace::nest("Test::Builder::Trace", CODE(0x2c55a20)) called at /home/sand/src/perl/repoperls/installed-perls/perl/v5.20.0/9980/lib/site_perl/5.20.0/Test/Builder.pm line 227
	Test::Builder::__ANON__() called at /home/sand/src/perl/repoperls/installed-perls/perl/v5.20.0/9980/lib/site_perl/5.20.0/Test/Builder/Util.pm line 247
	eval {...} called at /home/sand/src/perl/repoperls/installed-perls/perl/v5.20.0/9980/lib/site_perl/5.20.0/Test/Builder/Util.pm line 247
	Test::Builder::Util::try(CODE(0x2c3a5d0)) called at /home/sand/src/perl/repoperls/installed-perls/perl/v5.20.0/9980/lib/site_perl/5.20.0/Test/Builder.pm line 227
	Test::Builder::subtest(Test::Builder=HASH(0x21c7800), "Store something without login", CODE(0x2181040)) called at /home/sand/src/perl/repoperls/installed-perls/perl/v5.20.0/9980/lib/site_perl/5.20.0/Test/More.pm line 290
	Test::More::subtest("Store something without login", CODE(0x2181040)) called at t/client_store2/01_basic.t line 9
	main::scenario("Store something without login", CODE(0x2181040)) called at t/client_store2/01_basic.t line 63
Secret string too short at /tmp/loop_over_bdir-1876-ksF1l6/HTTP-Session2-1.08-4QNIt3/blib/lib/HTTP/Session2/Base.pm line 79.
	HTTP::Session2::Base::__ANON__(HTTP::Session2::ClientStore2=HASH(0x2c4f6c0), "s3cret") called at t/client_store2/01_basic.t line 69
	main::__ANON__("client -> server: request without cookie", CODE(0x2c58da0)) called at t/client_store2/01_basic.t line 76
	main::__ANON__() called at /home/sand/src/perl/repoperls/installed-perls/perl/v5.20.0/9980/lib/site_perl/5.20.0/Test/Builder.pm line 222
	Test::Builder::__ANON__() called at /home/sand/src/perl/repoperls/installed-perls/perl/v5.20.0/9980/lib/site_perl/5.20.0/Test/Builder/Trace.pm line 24
	Test::Builder::Trace::nest("Test::Builder::Trace", CODE(0x2c71a10)) called at /home/sand/src/perl/repoperls/installed-perls/perl/v5.20.0/9980/lib/site_perl/5.20.0/Test/Builder.pm line 227
	Test::Builder::__ANON__() called at /home/sand/src/perl/repoperls/installed-perls/perl/v5.20.0/9980/lib/site_perl/5.20.0/Test/Builder/Util.pm line 247
	eval {...} called at /home/sand/src/perl/repoperls/installed-perls/perl/v5.20.0/9980/lib/site_perl/5.20.0/Test/Builder/Util.pm line 247
	Test::Builder::Util::try(CODE(0x2c587e8)) called at /home/sand/src/perl/repoperls/installed-perls/perl/v5.20.0/9980/lib/site_perl/5.20.0/Test/Builder.pm line 227
	Test::Builder::subtest(Test::Builder=HASH(0x21c7800), "Login", CODE(0x2181040)) called at /home/sand/src/perl/repoperls/installed-perls/perl/v5.20.0/9980/lib/site_perl/5.20.0/Test/More.pm line 290
	Test::More::subtest("Login", CODE(0x2181040)) called at t/client_store2/01_basic.t line 9
	main::scenario("Login", CODE(0x2181040)) called at t/client_store2/01_basic.t line 96
Ciphertext does not begin with a valid header for 'salt' header mode at /tmp/loop_over_bdir-1876-ksF1l6/HTTP-Session2-1.08-4QNIt3/blib/lib/HTTP/Session2/ClientStore2.pm line 81.
Ciphertext does not begin with a valid header for 'salt' header mode at /tmp/loop_over_bdir-1876-ksF1l6/HTTP-Session2-1.08-4QNIt3/blib/lib/HTTP/Session2/ClientStore2.pm line 81.
Secret string too short at /tmp/loop_over_bdir-1876-ksF1l6/HTTP-Session2-1.08-4QNIt3/blib/lib/HTTP/Session2/Base.pm line 79.
	HTTP::Session2::Base::__ANON__(HTTP::Session2::ClientStore2=HASH(0x2c56440), "s3cret") called at t/client_store2/01_basic.t line 102
	main::__ANON__("client -> server: request without cookie", CODE(0x2c617e0)) called at t/client_store2/01_basic.t line 109
	main::__ANON__() called at /home/sand/src/perl/repoperls/installed-perls/perl/v5.20.0/9980/lib/site_perl/5.20.0/Test/Builder.pm line 222
	Test::Builder::__ANON__() called at /home/sand/src/perl/repoperls/installed-perls/perl/v5.20.0/9980/lib/site_perl/5.20.0/Test/Builder/Trace.pm line 24
	Test::Builder::Trace::nest("Test::Builder::Trace", CODE(0x2c68598)) called at /home/sand/src/perl/repoperls/installed-perls/perl/v5.20.0/9980/lib/site_perl/5.20.0/Test/Builder.pm line 227
	Test::Builder::__ANON__() called at /home/sand/src/perl/repoperls/installed-perls/perl/v5.20.0/9980/lib/site_perl/5.20.0/Test/Builder/Util.pm line 247
	eval {...} called at /home/sand/src/perl/repoperls/installed-perls/perl/v5.20.0/9980/lib/site_perl/5.20.0/Test/Builder/Util.pm line 247
	Test::Builder::Util::try(CODE(0x2c71a88)) called at /home/sand/src/perl/repoperls/installed-perls/perl/v5.20.0/9980/lib/site_perl/5.20.0/Test/Builder.pm line 227
	Test::Builder::subtest(Test::Builder=HASH(0x21c7800), "In a login session", CODE(0x2181040)) called at /home/sand/src/perl/repoperls/installed-perls/perl/v5.20.0/9980/lib/site_perl/5.20.0/Test/More.pm line 290
	Test::More::subtest("In a login session", CODE(0x2181040)) called at t/client_store2/01_basic.t line 9
	main::scenario("In a login session", CODE(0x2181040)) called at t/client_store2/01_basic.t line 118
Ciphertext does not begin with a valid header for 'salt' header mode at /tmp/loop_over_bdir-1876-ksF1l6/HTTP-Session2-1.08-4QNIt3/blib/lib/HTTP/Session2/ClientStore2.pm line 81.
Secret string too short at /tmp/loop_over_bdir-1876-ksF1l6/HTTP-Session2-1.08-4QNIt3/blib/lib/HTTP/Session2/Base.pm line 79.
	HTTP::Session2::Base::__ANON__(HTTP::Session2::ClientStore2=HASH(0x2c719b0), "s3cret") called at t/client_store2/01_basic.t line 123
	main::__ANON__("client -> server: request without cookie", CODE(0x2c55b10)) called at t/client_store2/01_basic.t line 130
	main::__ANON__() called at /home/sand/src/perl/repoperls/installed-perls/perl/v5.20.0/9980/lib/site_perl/5.20.0/Test/Builder.pm line 222
	Test::Builder::__ANON__() called at /home/sand/src/perl/repoperls/installed-perls/perl/v5.20.0/9980/lib/site_perl/5.20.0/Test/Builder/Trace.pm line 24
	Test::Builder::Trace::nest("Test::Builder::Trace", CODE(0x2c55f48)) called at /home/sand/src/perl/repoperls/installed-perls/perl/v5.20.0/9980/lib/site_perl/5.20.0/Test/Builder.pm line 227
	Test::Builder::__ANON__() called at /home/sand/src/perl/repoperls/installed-perls/perl/v5.20.0/9980/lib/site_perl/5.20.0/Test/Builder/Util.pm line 247
	eval {...} called at /home/sand/src/perl/repoperls/installed-perls/perl/v5.20.0/9980/lib/site_perl/5.20.0/Test/Builder/Util.pm line 247
	Test::Builder::Util::try(CODE(0x2c55888)) called at /home/sand/src/perl/repoperls/installed-perls/perl/v5.20.0/9980/lib/site_perl/5.20.0/Test/Builder.pm line 227
	Test::Builder::subtest(Test::Builder=HASH(0x21c7800), "Logout", CODE(0x2181040)) called at /home/sand/src/perl/repoperls/installed-perls/perl/v5.20.0/9980/lib/site_perl/5.20.0/Test/More.pm line 290
	Test::More::subtest("Logout", CODE(0x2181040)) called at t/client_store2/01_basic.t line 9
	main::scenario("Logout", CODE(0x2181040)) called at t/client_store2/01_basic.t line 143
Ciphertext does not begin with a valid header for 'salt' header mode at /tmp/loop_over_bdir-1876-ksF1l6/HTTP-Session2-1.08-4QNIt3/blib/lib/HTTP/Session2/ClientStore2.pm line 81.
t/client_store2/01_basic.t .. ok
t/client_store2/02_mech.t ... ok
t/client_store2/03_colon.t .. ok
All tests successful.
Files=14, Tests=83,  9 wallclock secs ( 0.10 usr  0.01 sys +  2.91 cusr  0.36 csys =  3.38 CPU)
Result: PASS

------------------------------
PREREQUISITES
------------------------------

Prerequisite modules loaded:

requires:

    Module                     Need     Have        
    -------------------------- -------- ------------
    Cookie::Baker              0        0.03        
    Crypt::CBC                 0        2.33        
    Data::MessagePack          0        0.48        
    Digest::HMAC               0        1.03        
    Digest::SHA                0        5.92        
    Digest::SHA1               0        2.13        
    MIME::Base64               3.11     3.14        
    Mouse                      0        2.3.0       
    parent                     0        0.228       
    perl                       5.008005 5.020000    
    Time::HiRes                0        1.9726      

build_requires:

    Module                     Need     Have        
    -------------------------- -------- ------------
    Crypt::Rijndael            0        1.12        
    Plack::Request             0        1.0031      
    Plack::Response            0        1.0031      
    Test::More                 0.98     1.301001_018
    Test::WWW::Mechanize::PSGI 0        0.35        

configure_requires:

    Module                     Need     Have        
    -------------------------- -------- ------------
    Module::Build              0.38     0.4206      


------------------------------
ENVIRONMENT AND OTHER CONTEXT
------------------------------

Environment variables:

    AUTOMATED_TESTING = 1
    LANG = en_US.UTF-8
    LANGUAGE = en_US:en
    PATH = /usr/lib/ccache:/home/sand/bin:/usr/local/bin:/usr/bin:/bin:/usr/games:/usr/local/perl/bin:/usr/X11/bin:/sbin:/usr/sbin
    PERL5LIB = 
    PERL5OPT = 
    PERL5_CPANPLUS_IS_RUNNING = 1877
    PERL5_CPAN_IS_RUNNING = 1877
    PERL_MM_USE_DEFAULT = 1
    SHELL = /usr/bin/zsh
    TERM = screen

Perl special variables (and OS-specific diagnostics, for MSWin32):

    $^X = /home/sand/src/perl/repoperls/installed-perls/perl/v5.20.0/9980/bin/perl
    $UID/$EUID = 1005 / 1005
    $GID = 1005 1005
    $EGID = 1005 1005

Perl module toolchain versions installed:

    Module              Have        
    ------------------- ------------
    CPAN                2.05        
    CPAN::Meta          2.142060    
    Cwd                 3.47        
    ExtUtils::CBuilder  0.280216    
    ExtUtils::Command   1.18        
    ExtUtils::Install   1.67        
    ExtUtils::MakeMaker 6.98        
    ExtUtils::Manifest  1.63        
    ExtUtils::ParseXS   3.24        
    File::Spec          3.47        
    JSON                2.90        
    JSON::PP            2.27203     
    Module::Build       0.4206      
    Module::Signature   0.73        
    Parse::CPAN::Meta   1.4414      
    Test::Harness       3.32        
    Test::More          1.301001_018
    YAML                0.98        
    YAML::Syck          1.27        
    version             0.9908      


--

Summary of my perl5 (revision 5 version 20 subversion 0) configuration:
  Commit id: d7d4eceb184d8fc54797d661a6d5ff9a4a7048c3
  Platform:
    osname=linux, osvers=3.14-2-amd64, archname=x86_64-linux-thread-multi
    uname='linux k83 3.14-2-amd64 #1 smp debian 3.14.13-2 (2014-07-24) x86_64 gnulinux '
    config_args='-Dprefix=/home/sand/src/perl/repoperls/installed-perls/perl/v5.20.0/9980 -Dmyhostname=k83 -Dinstallusrbinperl=n -Uversiononly -Dusedevel -des -Ui_db -Duseithreads -Uuselongdouble -DDEBUGGING=-g'
    hint=recommended, useposix=true, d_sigaction=define
    useithreads=define, usemultiplicity=define
    use64bitint=define, use64bitall=define, uselongdouble=undef
    usemymalloc=n, bincompat5005=undef
  Compiler:
    cc='cc', ccflags ='-D_REENTRANT -D_GNU_SOURCE -fwrapv -fno-strict-aliasing -pipe -fstack-protector -I/usr/local/include -D_LARGEFILE_SOURCE -D_FILE_OFFSET_BITS=64',
    optimize='-O2 -g',
    cppflags='-D_REENTRANT -D_GNU_SOURCE -fwrapv -fno-strict-aliasing -pipe -fstack-protector -I/usr/local/include'
    ccversion='', gccversion='4.9.1', gccosandvers=''
    intsize=4, longsize=8, ptrsize=8, doublesize=8, byteorder=12345678
    d_longlong=define, longlongsize=8, d_longdbl=define, longdblsize=16
    ivtype='long', ivsize=8, nvtype='double', nvsize=8, Off_t='off_t', lseeksize=8
    alignbytes=8, prototype=define
  Linker and Libraries:
    ld='cc', ldflags =' -fstack-protector -L/usr/local/lib'
    libpth=/usr/local/lib /usr/lib/gcc/x86_64-linux-gnu/4.9/include-fixed /usr/include/x86_64-linux-gnu /usr/lib /lib/x86_64-linux-gnu /lib/../lib /usr/lib/x86_64-linux-gnu /usr/lib/../lib /lib
    libs=-lnsl -lgdbm -ldb -ldl -lm -lcrypt -lutil -lpthread -lc -lgdbm_compat
    perllibs=-lnsl -ldl -lm -lcrypt -lutil -lpthread -lc
    libc=libc-2.19.so, so=so, useshrplib=false, libperl=libperl.a
    gnulibc_version='2.19'
  Dynamic Linking:
    dlsrc=dl_dlopen.xs, dlext=so, d_dlsymun=undef, ccdlflags='-Wl,-E'
    cccdlflags='-fPIC', lddlflags='-shared -O2 -g -L/usr/local/lib -fstack-protector'


Characteristics of this binary (from libperl): 
  Compile-time options: HAS_TIMES MULTIPLICITY PERLIO_LAYERS
                        PERL_DONT_CREATE_GVSV
                        PERL_HASH_FUNC_ONE_AT_A_TIME_HARD
                        PERL_IMPLICIT_CONTEXT PERL_MALLOC_WRAP
                        PERL_NEW_COPY_ON_WRITE PERL_PRESERVE_IVUV
                        PERL_USE_DEVEL USE_64_BIT_ALL USE_64_BIT_INT
                        USE_ITHREADS USE_LARGE_FILES USE_LOCALE
                        USE_LOCALE_COLLATE USE_LOCALE_CTYPE
                        USE_LOCALE_NUMERIC USE_PERLIO USE_PERL_ATOF
                        USE_REENTRANT_API
  Built under linux
  Compiled at Aug  1 2014 08:36:07
  %ENV:
    PERL5LIB=""
    PERL5OPT=""
    PERL5_CPANPLUS_IS_RUNNING="1877"
    PERL5_CPAN_IS_RUNNING="1877"
    PERL_MM_USE_DEFAULT="1"
  @INC:
    /home/sand/src/perl/repoperls/installed-perls/perl/v5.20.0/9980/lib/site_perl/5.20.0/x86_64-linux-thread-multi
    /home/sand/src/perl/repoperls/installed-perls/perl/v5.20.0/9980/lib/site_perl/5.20.0
    /home/sand/src/perl/repoperls/installed-perls/perl/v5.20.0/9980/lib/5.20.0/x86_64-linux-thread-multi
    /home/sand/src/perl/repoperls/installed-perls/perl/v5.20.0/9980/lib/5.20.0
    .