Net-DNS v1.50 Perl 5 v5.30.2 armv7l-linux-thread-multi

Status
Pass
From
Nigel Horne
Dist
Net-DNS v1.50
Platform
Perl 5 v5.30.2 armv7l-linux-thread-multi
Date
2025-05-05 02:46:24
ID
229171e6-295b-11f0-b729-994d3931c3fa
This distribution has been tested as part of the CPAN Testers
project, supporting the Perl programming language.  See
http://wiki.cpantesters.org/ for more information or email
questions to cpan-testers-discuss@perl.org


--
Dear NLnet Labs,

This is a computer-generated report for Net-DNS-1.50
on perl 5.30.2, created by CPAN-Reporter-1.2018.

Thank you for uploading your work to CPAN.  Congratulations!
All tests were successful.

Sections of this report:

    * Tester comments
    * Program output
    * Prerequisites
    * Environment and other context

------------------------------
TESTER COMMENTS
------------------------------

Additional comments from tester:

this report is from an automated smoke testing program
and was not reviewed by a human for accuracy

------------------------------
PROGRAM OUTPUT
------------------------------

Output from '/usr/bin/make test':

PERL_DL_NONLAZY=1 HARNESS_OPTIONS=j1:c "/home/smoker/perl5/perlbrew/perls/perl-5.30.2-thread/bin/perl5.30.2" "-It" "-MExtUtils::Command::MM" "-MTest::Harness" "-e" "undef *Test::Harness::Switches; test_harness(0, 'blib/lib', 'blib/arch')" t/*.t
t/00-install.t ............. ok
# 
# These tests were run using:
# 	Net::DNS                   1.50
# 	Carp                       1.50
# 	Config                     5.030002
# 	Digest::HMAC               1.05
# 	Digest::MD5                2.55
# 	Digest::SHA                6.02
# 	Encode                     3.01
# 	Exporter                   5.73
# 	ExtUtils::MakeMaker        7.44
# 	File::Find                 1.36
# 	File::Spec                 3.78
# 	Getopt::Long               2.51
# 	IO::File                   1.40
# 	IO::Select                 1.40
# 	IO::Socket                 1.40
# 	IO::Socket::IP             0.39
# 	MIME::Base64               3.15
# 	PerlIO                     1.10
# 	Scalar::Util               1.50
# 	Socket                     2.027
# 	Test::Builder              1.302162
# 	Test::More                 1.302162
# 	Time::Local                1.28
# 	base                       2.27
# 	constant                   1.33
# 	integer                    1.01
# 	overload                   1.30
# 	strict                     1.11
# 	warnings                   1.44
t/00-load.t ................ ok
t/00-pod.t ................. ok
t/01-resolver-config.t ..... ok
t/01-resolver-env.t ........ ok
t/01-resolver-file.t ....... ok
t/01-resolver-flags.t ...... ok
t/01-resolver-opt.t ........ ok
t/01-resolver.t ............ ok
t/02-domain.t .............. ok
t/02-domainname.t .......... ok
t/02-IDN.t ................. skipped: Net::LibIDN2 not installed
t/02-mailbox.t ............. ok
t/02-text.t ................ ok
t/03-header.t .............. ok
t/03-parameters.t .......... ok
t/03-question.t ............ ok
t/03-rr.t .................. ok
t/04-packet-truncate.t ..... ok
t/04-packet.t .............. ok
t/05-A.t ................... ok
t/05-AAAA.t ................ ok
t/05-AFSDB.t ............... ok
t/05-AMTRELAY.t ............ ok
t/05-APL.t ................. ok
t/05-CAA.t ................. ok
t/05-CDNSKEY.t ............. ok
t/05-CDS.t ................. ok
t/05-CERT.t ................ ok
t/05-CNAME.t ............... ok
t/05-CSYNC.t ............... ok
t/05-DHCID.t ............... ok
t/05-DNAME.t ............... ok
t/05-DNSKEY.t .............. ok
t/05-DS.t .................. ok
t/05-DSYNC.t ............... ok
t/05-EUI48.t ............... ok
t/05-EUI64.t ............... ok
t/05-HINFO.t ............... ok
t/05-HIP.t ................. ok
t/05-HTTPS.t ............... ok
t/05-IPSECKEY.t ............ ok
t/05-ISDN.t ................ ok
t/05-KEY.t ................. ok
t/05-KX.t .................. ok
t/05-L32.t ................. ok
t/05-L64.t ................. ok
t/05-LOC.t ................. ok
t/05-LP.t .................. ok
t/05-MINFO.t ............... ok
t/05-MX.t .................. ok
t/05-NAPTR.t ............... ok
t/05-NID.t ................. ok
t/05-NS.t .................. ok
t/05-NSEC.t ................ ok
t/05-NSEC3.t ............... ok
t/05-NSEC3PARAM.t .......... ok
t/05-NULL.t ................ ok
t/05-OPENPGPKEY.t .......... ok
t/05-OPT.t ................. ok
t/05-PTR.t ................. ok
t/05-PX.t .................. ok
t/05-RP.t .................. ok
t/05-RRSIG.t ............... ok
t/05-RT.t .................. ok
t/05-SIG.t ................. ok
t/05-SMIMEA.t .............. ok
t/05-SOA.t ................. ok
t/05-SPF.t ................. ok
t/05-SRV.t ................. ok
t/05-SSHFP.t ............... ok
t/05-SVCB.t ................ ok
t/05-TKEY.t ................ ok
t/05-TLSA.t ................ ok
t/05-TSIG.t ................ ok
t/05-TXT.t ................. ok
t/05-URI.t ................. ok
t/05-X25.t ................. ok
t/05-ZONEMD.t .............. ok
t/06-update-unique-push.t .. ok
t/06-update.t .............. ok
t/07-rrsort.t .............. ok
t/07-zonefile.t ............ ok
t/08-IPv4.t ................ ok
t/08-IPv6.t ................ skipped: Cannot reach global root: Network is unreachable at t/08-IPv6.t line 50.
t/08-recurse.t ............. ok
t/21-NSEC-typelist.t ....... ok
t/22-NSEC-match.t .......... ok
t/23-NSEC-covered.t ........ ok
t/24-NSEC-encloser.t ....... ok
t/31-NSEC3-base32.t ........ ok
t/32-NSEC3-typelist.t ...... ok
t/33-NSEC3-hash.t .......... ok
t/34-NSEC3-flags.t ......... ok
t/36-NSEC3-covered.t ....... ok
t/37-NSEC3-encloser.t ...... ok
t/41-DNSKEY-keytag.t ....... ok
t/42-DNSKEY-flags.t ........ ok
t/43-DNSKEY-keylength.t .... ok
t/51-DS-SHA1.t ............. ok
t/52-DS-SHA256.t ........... ok
t/54-DS-SHA384.t ........... ok
t/71-TSIG-create.t ......... ok
t/72-TSIG-verify.t ......... ok
# Cleaning
t/99-cleanup.t ............. ok
All tests successful.
Files=105, Tests=3339, 94 wallclock secs ( 2.15 usr  0.59 sys + 44.40 cusr 10.76 csys = 57.90 CPU)
Result: PASS

------------------------------
PREREQUISITES
------------------------------

Prerequisite modules loaded:

requires:

    Module              Need     Have    
    ------------------- -------- --------
    base                2.13     2.27    
    Carp                1.1      1.50    
    constant            1.17     1.33    
    Digest::HMAC        1.03     1.05    
    Digest::MD5         2.37     2.55    
    Digest::SHA         5.23     6.02    
    Encode              2.26     3.01    
    Exporter            5.63     5.73    
    File::Spec          3.29     3.78    
    integer             1        1.01    
    IO::File            1.14     1.40    
    IO::Select          1.17     1.40    
    IO::Socket          1.3      1.40    
    IO::Socket::IP      0.38     0.39    
    MIME::Base64        3.07     3.15    
    overload            1.06     1.30    
    perl                5.008009 5.030002
    PerlIO              1.05     1.10    
    Scalar::Util        1.19     1.50    
    Socket              1.81     2.027   
    strict              1.03     1.11    
    Time::Local         1.19     1.28    
    warnings            1.0501   1.44    

build_requires:

    Module              Need     Have    
    ------------------- -------- --------
    ExtUtils::MakeMaker 0        7.44    
    File::Find          1.13     1.36    
    File::Spec          3.29     3.78    
    IO::File            1.14     1.40    
    Test::Builder       0.8      1.302162
    Test::More          0.8      1.302162

configure_requires:

    Module              Need     Have    
    ------------------- -------- --------
    Config              0        5.030002
    ExtUtils::MakeMaker 6.48     7.44    
    Getopt::Long        2.43     2.51    
    IO::File            1.14     1.40    
    IO::Socket::IP      0.38     0.39    


------------------------------
ENVIRONMENT AND OTHER CONTEXT
------------------------------

Environment variables:

    AUTOMATED_TESTING = 1
    HARNESS_OPTIONS = j4
    NONINTERACTIVE_TESTING = 1
    PATH = /home/smoker/perl5/perlbrew/bin:/home/smoker/perl5/perlbrew/perls/perl-5.30.2-thread/bin:/usr/local/sbin:/usr/local/bin:/usr/sbin:/usr/bin:/sbin:/bin
    PERL5LIB = /tmp/build/Digest-HMAC-1.05-0/blib/arch:/tmp/build/Digest-HMAC-1.05-0/blib/lib:/tmp/build/Error-0.17030-0/blib/arch:/tmp/build/Error-0.17030-0/blib/lib
    PERL5OPT = 
    PERL5_CPANPLUS_IS_RUNNING = 6020
    PERL5_CPAN_IS_RUNNING = 6020
    PERLBREW_HOME = /home/smoker/.perlbrew
    PERLBREW_MANPATH = /home/smoker/perl5/perlbrew/perls/perl-5.30.2-thread/man
    PERLBREW_PATH = /home/smoker/perl5/perlbrew/bin:/home/smoker/perl5/perlbrew/perls/perl-5.30.2-thread/bin
    PERLBREW_PERL = perl-5.30.2-thread
    PERLBREW_ROOT = /home/smoker/perl5/perlbrew
    PERLBREW_SHELLRC_VERSION = 0.88
    PERLBREW_VERSION = 0.88
    PERL_MM_USE_DEFAULT = 1
    PERL_USE_UNSAFE_INC = 1
    SHELL = /bin/bash
    TERM = xterm
    TMPDIR = /tmp/testwrapper.6009

Perl special variables (and OS-specific diagnostics, for MSWin32):

    $^X = /home/smoker/perl5/perlbrew/perls/perl-5.30.2-thread/bin/perl5.30.2
    $UID/$EUID = 1000 / 1000
    $GID = 1000 1000
    $EGID = 1000 1000

Perl module toolchain versions installed:

    Module              Have    
    ------------------- --------
    CPAN                2.27    
    CPAN::Meta          2.150010
    Cwd                 3.78    
    ExtUtils::CBuilder  0.280231
    ExtUtils::Command   7.44    
    ExtUtils::Install   2.14    
    ExtUtils::MakeMaker 7.44    
    ExtUtils::Manifest  1.72    
    ExtUtils::ParseXS   3.40    
    File::Spec          3.78    
    JSON                4.02    
    JSON::PP            4.02    
    Module::Build       0.4231  
    Module::Signature   n/a     
    Parse::CPAN::Meta   2.150010
    Test::Harness       3.42    
    Test::More          1.302162
    YAML                1.30    
    YAML::Syck          1.32    
    version             0.9924  


--

Summary of my perl5 (revision 5 version 30 subversion 2) configuration:
   
  Platform:
    osname=linux
    osvers=4.19.97-v7l+
    archname=armv7l-linux-thread-multi
    uname='linux b9a8560151d5 4.19.97-v7l+ #1294 smp thu jan 30 13:21:14 gmt 2020 armv7l gnulinux '
    config_args='-de -Dprefix=/home/smoker/perl5/perlbrew/perls/perl-5.30.2-thread -Dusedevel -Dusethreads -Accflags=-O2 -pipe -Wall -Wextra -mtune=native -march=native -Aeval:scriptdir=/home/smoker/perl5/perlbrew/perls/perl-5.30.2-thread/bin'
    hint=recommended
    useposix=true
    d_sigaction=define
    useithreads=define
    usemultiplicity=define
    use64bitint=undef
    use64bitall=undef
    uselongdouble=undef
    usemymalloc=n
    default_inc_excludes_dot=define
    bincompat5005=undef
  Compiler:
    cc='cc'
    ccflags ='-D_REENTRANT -D_GNU_SOURCE -O2 -pipe -Wall -Wextra -mtune=native -march=native -fwrapv -fno-strict-aliasing -fstack-protector-strong -I/usr/local/include -D_LARGEFILE_SOURCE -D_FILE_OFFSET_BITS=64 -D_FORTIFY_SOURCE=2'
    optimize='-O2'
    cppflags='-D_REENTRANT -D_GNU_SOURCE -O2 -pipe -Wall -Wextra -mtune=native -march=native -fwrapv -fno-strict-aliasing -fstack-protector-strong -I/usr/local/include'
    ccversion=''
    gccversion='8.3.0'
    gccosandvers=''
    intsize=4
    longsize=4
    ptrsize=4
    doublesize=8
    byteorder=1234
    doublekind=3
    d_longlong=define
    longlongsize=8
    d_longdbl=define
    longdblsize=8
    longdblkind=0
    ivtype='long'
    ivsize=4
    nvtype='double'
    nvsize=8
    Off_t='off_t'
    lseeksize=8
    alignbytes=8
    prototype=define
  Linker and Libraries:
    ld='cc'
    ldflags =' -fstack-protector-strong -L/usr/local/lib'
    libpth=/usr/local/lib /usr/lib/gcc/arm-linux-gnueabihf/8/include-fixed /usr/include/arm-linux-gnueabihf /usr/lib /lib/arm-linux-gnueabihf /lib /usr/lib/arm-linux-gnueabihf
    libs=-lpthread -lnsl -ldl -lm -lcrypt -lutil -lc
    perllibs=-lpthread -lnsl -ldl -lm -lcrypt -lutil -lc
    libc=libc-2.28.so
    so=so
    useshrplib=false
    libperl=libperl.a
    gnulibc_version='2.28'
  Dynamic Linking:
    dlsrc=dl_dlopen.xs
    dlext=so
    d_dlsymun=undef
    ccdlflags='-Wl,-E'
    cccdlflags='-fPIC'
    lddlflags='-shared -O2 -L/usr/local/lib -fstack-protector-strong'


Characteristics of this binary (from libperl): 
  Compile-time options:
    HAS_TIMES
    MULTIPLICITY
    PERLIO_LAYERS
    PERL_COPY_ON_WRITE
    PERL_DONT_CREATE_GVSV
    PERL_IMPLICIT_CONTEXT
    PERL_MALLOC_WRAP
    PERL_OP_PARENT
    PERL_PRESERVE_IVUV
    PERL_USE_DEVEL
    USE_ITHREADS
    USE_LARGE_FILES
    USE_LOCALE
    USE_LOCALE_COLLATE
    USE_LOCALE_CTYPE
    USE_LOCALE_NUMERIC
    USE_LOCALE_TIME
    USE_PERLIO
    USE_PERL_ATOF
    USE_REENTRANT_API
    USE_THREAD_SAFE_LOCALE
  Locally applied patches:
    Devel::PatchPerl 1.90
  Built under linux
  Compiled at Apr 16 2020 02:34:30
  %ENV:
    PERL5LIB="/tmp/build/Digest-HMAC-1.05-0/blib/arch:/tmp/build/Digest-HMAC-1.05-0/blib/lib:/tmp/build/Error-0.17030-0/blib/arch:/tmp/build/Error-0.17030-0/blib/lib"
    PERL5OPT=""
    PERL5_CPANPLUS_IS_RUNNING="6020"
    PERL5_CPAN_IS_RUNNING="6020"
    PERLBREW_HOME="/home/smoker/.perlbrew"
    PERLBREW_MANPATH="/home/smoker/perl5/perlbrew/perls/perl-5.30.2-thread/man"
    PERLBREW_PATH="/home/smoker/perl5/perlbrew/bin:/home/smoker/perl5/perlbrew/perls/perl-5.30.2-thread/bin"
    PERLBREW_PERL="perl-5.30.2-thread"
    PERLBREW_ROOT="/home/smoker/perl5/perlbrew"
    PERLBREW_SHELLRC_VERSION="0.88"
    PERLBREW_VERSION="0.88"
    PERL_MM_USE_DEFAULT="1"
    PERL_USE_UNSAFE_INC="1"
  @INC:
    /tmp/build/Digest-HMAC-1.05-0/blib/arch
    /tmp/build/Digest-HMAC-1.05-0/blib/lib
    /tmp/build/Error-0.17030-0/blib/arch
    /tmp/build/Error-0.17030-0/blib/lib
    /home/smoker/perl5/perlbrew/perls/perl-5.30.2-thread/lib/site_perl/5.30.2/armv7l-linux-thread-multi
    /home/smoker/perl5/perlbrew/perls/perl-5.30.2-thread/lib/site_perl/5.30.2
    /home/smoker/perl5/perlbrew/perls/perl-5.30.2-thread/lib/5.30.2/armv7l-linux-thread-multi
    /home/smoker/perl5/perlbrew/perls/perl-5.30.2-thread/lib/5.30.2
    .