Report for cPanel-TaskQueue-0.604

Back
From: metabase:user:3198cbe2-2aae-11df-837a-5e0a49663a4f
Subject: PASS cPanel-TaskQueue-0.604 v5.16.1 GNU/Linux
Date: 2012-12-04T09:44:02Z

This distribution has been tested as part of the CPAN Testers
project, supporting the Perl programming language.  See
http://wiki.cpantesters.org/ for more information or email
questions to cpan-testers-discuss@perl.org


--
Dear cPanel Inc.,

This is a computer-generated report for cPanel-TaskQueue-0.604
on perl 5.16.1, created by CPAN-Reporter-1.2006.

Thank you for uploading your work to CPAN.  Congratulations!
All tests were successful.

Sections of this report:

    * Tester comments
    * Program output
    * Prerequisites
    * Environment and other context

------------------------------
TESTER COMMENTS
------------------------------

Additional comments from tester:

this report is from an automated smoke testing program
and was not reviewed by a human for accuracy

------------------------------
PROGRAM OUTPUT
------------------------------

Output from './Build test':

# Testing cPanel::TaskQueue 0.604
t/00.load.t ................................. ok
t/release-pod-coverage.t .................... skipped: these tests are for release candidate testing
t/release-pod-syntax.t ...................... skipped: these tests are for release candidate testing
t/statefile_bad_call_unlocked.t ............. ok
t/statefile_bad_policy.t .................... ok
t/statefile_filelocker_abandoned.t .......... ok
t/statefile_filelocker_bad_locks.t .......... ok
t/statefile_filelocker_bad_unlock.t ......... ok
t/statefile_filelocker_empty_lockfile.t ..... ok
t/statefile_filelocker_expired_lockfile.t ... ok
t/statefile_filelocker_new.t ................ ok
t/statefile_filelocker_pid_clash.t .......... ok
t/statefile_filelocker_unlock_empty.t ....... ok
t/statefile_load.t .......................... ok
t/statefile_load_save.t ..................... ok
t/statefile_logging_policy.t ................ ok
t/statefile_new_bad_args.t .................. ok
t/taskqueue_bad_statefile.t ................. ok
t/taskqueue_bad_yaml_statefile.t ............ ok
t/taskqueue_basics.t ........................ ok
t/taskqueue_child_processor.t ............... ok
t/taskqueue_ctrl.t .......................... ok
t/taskqueue_dupes_and_overrides.t ........... ok
t/taskqueue_find_commands.t ................. ok
t/taskqueue_find_task.t ..................... ok
t/taskqueue_load.t .......................... ok
t/taskqueue_logging_policy.t ................ ok
t/taskqueue_long_processes.t ................ ok
t/taskqueue_missing_dir.t ................... ok
t/taskqueue_new_bad_args.t .................. ok
t/taskqueue_parameter_changes.t ............. ok
t/taskqueue_pausing.t ....................... ok
t/taskqueue_plugin_manager.t ................ ok
t/taskqueue_plugin_manager_load_all.t ....... ok
t/taskqueue_plugin_manager_load_named.t ..... ok
t/taskqueue_processor.t ..................... ok
t/taskqueue_processor_checked_system.t ...... ok
t/taskqueue_processor_deferrable.t .......... ok
t/taskqueue_register_processors.t ........... ok
t/taskqueue_retries.t ....................... ok
t/taskqueue_scheduler.t ..................... ok
t/taskqueue_scheduler_bad_statefile.t ....... ok
t/taskqueue_scheduler_bad_yaml_statefile.t .. ok
t/taskqueue_scheduler_logging_policy.t ...... ok
t/taskqueue_scheduler_long_processes.t ...... ok
t/taskqueue_scheduler_token.t ............... ok
t/taskqueue_scheduler_token_yaml.t .......... ok
t/taskqueue_task.t .......................... ok
t/taskqueue_task_bad_new.t .................. ok
t/taskqueue_task_clones.t ................... ok
t/taskqueue_task_deferrable.t ............... ok
t/taskqueue_task_load.t ..................... ok
t/taskqueue_task_mutate.t ................... ok
t/taskqueue_task_reconstitute.t ............. ok
t/taskqueue_task_retries.t .................. ok
t/taskqueue_task_userdata.t ................. ok
All tests successful.
Files=56, Tests=776,  6 wallclock secs ( 0.31 usr  0.12 sys +  3.17 cusr  0.57 csys =  4.17 CPU)
Result: PASS

------------------------------
PREREQUISITES
------------------------------

Prerequisite modules loaded:

requires:

    Module              Need Have     
    ------------------- ---- ---------
    Fcntl               0    1.11     
    File::Path          0    2.08     
    File::Spec          0    3.33     
    Getopt::Long        0    2.3802   
    POSIX               0    1.30     
    Storable            0    2.39     
    Term::ReadLine      0    1.10     
    Text::Wrap          0    2012.0818
    Unix::PID           0.21 0.23     
    YAML::Syck          0    1.21     

build_requires:

    Module              Need Have     
    ------------------- ---- ---------
    Carp                0    1.26     
    Cwd                 0    3.33     
    FindBin             0    1.51     
    Test::Exception     0    0.31     
    Test::More          0    0.98     

configure_requires:

    Module              Need Have     
    ------------------- ---- ---------
    ExtUtils::MakeMaker 6.31 6.63_04  


------------------------------
ENVIRONMENT AND OTHER CONTEXT
------------------------------

Environment variables:

    AUTOMATED_TESTING = 1
    LANG = C
    PATH = /home/graham/perls/perl-5.16.1/bin:/usr/local/bin:/usr/bin:/bin:/usr/local/sbin:/usr/sbin:/sbin:/usr/bin/core_perl
    PERL5LIB = 
    PERL5OPT = 
    PERL5_CPANPLUS_IS_RUNNING = 9307
    PERL5_CPAN_IS_RUNNING = 9307
    PERL5_CPAN_IS_RUNNING_IN_RECURSION = 13511,9307
    PERL_CR_SMOKER_CURRENT = cPanel-TaskQueue-0.604
    PERL_EXTUTILS_AUTOINSTALL = --defaultdeps
    PERL_MM_USE_DEFAULT = 1
    SHELL = /bin/bash
    TERM = xterm

Perl special variables (and OS-specific diagnostics, for MSWin32):

    $^X = /home/graham/perls/perl-5.16.1/bin/perl
    $UID/$EUID = 1000 / 1000
    $GID = 100 100
    $EGID = 100 100

Perl module toolchain versions installed:

    Module              Have    
    ------------------- --------
    CPAN                1.9800  
    CPAN::Meta          2.120351
    Cwd                 3.33    
    ExtUtils::CBuilder  0.280205
    ExtUtils::Command   1.17    
    ExtUtils::Install   1.58    
    ExtUtils::MakeMaker 6.63_04 
    ExtUtils::Manifest  1.61    
    ExtUtils::ParseXS   3.18    
    File::Spec          3.33    
    JSON                2.53    
    JSON::PP            2.27200 
    Module::Build       0.4003  
    Module::Signature   0.69    
    Parse::CPAN::Meta   1.4404  
    Test::Harness       3.25    
    Test::More          0.98    
    YAML                0.84    
    YAML::Syck          1.21    
    version             0.9901  


--

Summary of my perl5 (revision 5 version 16 subversion 1) configuration:
   
  Platform:
    osname=linux, osvers=3.5.6-1-arch, archname=x86_64-linux
    uname='linux grosics 3.5.6-1-arch #1 smp preempt sun oct 7 19:30:49 cest 2012 x86_64 gnulinux '
    config_args='-des -Dprefix=/home/graham/perls/perl-5.16.1'
    hint=recommended, useposix=true, d_sigaction=define
    useithreads=undef, usemultiplicity=undef
    useperlio=define, d_sfio=undef, uselargefiles=define, usesocks=undef
    use64bitint=define, use64bitall=define, uselongdouble=undef
    usemymalloc=n, bincompat5005=undef
  Compiler:
    cc='cc', ccflags ='-fno-strict-aliasing -pipe -fstack-protector -I/usr/local/include -D_LARGEFILE_SOURCE -D_FILE_OFFSET_BITS=64',
    optimize='-O2',
    cppflags='-fno-strict-aliasing -pipe -fstack-protector -I/usr/local/include'
    ccversion='', gccversion='4.7.2', gccosandvers=''
    intsize=4, longsize=8, ptrsize=8, doublesize=8, byteorder=12345678
    d_longlong=define, longlongsize=8, d_longdbl=define, longdblsize=16
    ivtype='long', ivsize=8, nvtype='double', nvsize=8, Off_t='off_t', lseeksize=8
    alignbytes=8, prototype=define
  Linker and Libraries:
    ld='cc', ldflags =' -fstack-protector -L/usr/local/lib'
    libpth=/usr/local/lib /lib/../lib /usr/lib/../lib /lib /usr/lib
    libs=-lnsl -lgdbm -ldb -ldl -lm -lcrypt -lutil -lc -lgdbm_compat
    perllibs=-lnsl -ldl -lm -lcrypt -lutil -lc
    libc=/lib/libc-2.16.so, so=so, useshrplib=false, libperl=libperl.a
    gnulibc_version='2.16'
  Dynamic Linking:
    dlsrc=dl_dlopen.xs, dlext=so, d_dlsymun=undef, ccdlflags='-Wl,-E'
    cccdlflags='-fPIC', lddlflags='-shared -O2 -L/usr/local/lib -fstack-protector'


Characteristics of this binary (from libperl): 
  Compile-time options: HAS_TIMES PERLIO_LAYERS PERL_DONT_CREATE_GVSV
                        PERL_MALLOC_WRAP PERL_PRESERVE_IVUV USE_64_BIT_ALL
                        USE_64_BIT_INT USE_LARGE_FILES USE_LOCALE
                        USE_LOCALE_COLLATE USE_LOCALE_CTYPE
                        USE_LOCALE_NUMERIC USE_PERLIO USE_PERL_ATOF
  Built under linux
  Compiled at Oct 12 2012 22:14:37
  %ENV:
    PERL5LIB=""
    PERL5OPT=""
    PERL5_CPANPLUS_IS_RUNNING="9307"
    PERL5_CPAN_IS_RUNNING="9307"
    PERL5_CPAN_IS_RUNNING_IN_RECURSION="13511,9307"
    PERL_CR_SMOKER_CURRENT="cPanel-TaskQueue-0.604"
    PERL_EXTUTILS_AUTOINSTALL="--defaultdeps"
    PERL_MM_USE_DEFAULT="1"
  @INC:
    /home/graham/perls/perl-5.16.1/lib/site_perl/5.16.1/x86_64-linux
    /home/graham/perls/perl-5.16.1/lib/site_perl/5.16.1
    /home/graham/perls/perl-5.16.1/lib/5.16.1/x86_64-linux
    /home/graham/perls/perl-5.16.1/lib/5.16.1
    .