JSON-Any v1.40 Perl 5 v5.20.1 i86pc-solaris-64

Status
Pass
From
Chris Williams (BINGOS)
Dist
JSON-Any v1.40
Platform
Perl 5 v5.20.1 i86pc-solaris-64
Date
2024-04-19 09:56:47
ID
227c12be-fe33-11ee-98b0-b3c3213a625c
This distribution has been tested as part of the CPAN Testers
project, supporting the Perl programming language.  See
http://wiki.cpantesters.org/ for more information or email
questions to cpan-testers-discuss@perl.org


--

Dear Karen Etheridge,

This is a computer-generated error report created automatically by
CPANPLUS, version 0.9914. Testers personal comments may appear
at the end of this report.


Thank you for uploading your work to CPAN.  Congratulations!
All tests were successful.

TEST RESULTS:

Below is the error stack from stage 'make test':

PERL_DL_NONLAZY=1 "/home/cpan/pit/bare/perl-5.20.1/bin/perl" "-MExtUtils::Command::MM" "-MTest::Harness" "-e" "undef *Test::Harness::Switches; test_harness(0, 'blib/lib', 'blib/arch')" t/*.t
# Testing JSON::Any 1.40, Perl 5.020001, /home/cpan/pit/bare/perl-5.20.1/bin/perl
t/00-load.t ............ ok
# 
# Versions for all modules listed in MYMETA.json (including optional ones):
# 
# === Configure Requires ===
# 
#     Module                       Want     Have
#     ------------------------ -------- --------
#     CPAN::Meta::Requirements 2.120620    2.131
#     ExtUtils::MakeMaker           any     7.70
#     Module::Metadata              any 1.000038
#     perl                        5.008 5.020001
# 
# === Build Requires ===
# 
#     Module              Want Have
#     ------------------- ---- ----
#     ExtUtils::MakeMaker  any 7.70
# 
# === Test Requires ===
# 
#     Module                 Want     Have
#     --------------------- ----- --------
#     Data::Dumper            any    2.151
#     ExtUtils::MakeMaker     any     7.70
#     File::Spec              any     3.75
#     Storable                any     3.25
#     Test::Fatal             any    0.017
#     Test::More             0.88 1.302198
#     Test::Needs             any 0.002010
#     Test::Warnings        0.009    0.033
#     Test::Without::Module   any     0.21
#     open                    any     1.10
#     perl                  5.008 5.020001
#     utf8                    any  1.13_01
# 
# === Test Recommends ===
# 
#     Module         Want     Have
#     ---------- -------- --------
#     CPAN::Meta 2.120900 2.150010
# 
# === Runtime Requires ===
# 
#     Module    Want     Have
#     -------- ----- --------
#     Carp       any   1.3301
#     constant   any     1.31
#     perl     5.008 5.020001
#     strict     any     1.08
#     warnings   any     1.23
# 
# === Other Modules ===
# 
#     Module              Have
#     ---------------- -------
#     Cpanel::JSON::XS missing
#     Encode              3.21
#     File::Temp        0.2311
#     JSON                4.10
#     JSON::DWIW       missing
#     JSON::MaybeXS    missing
#     JSON::PP            4.05
#     JSON::Syck       missing
#     JSON::XS         missing
#     Module::Runtime    0.016
#     Pod::Coverage    missing
#     Sub::Name        missing
#     YAML             missing
#     autodie             2.23
#     constant            1.31
# 
t/00-report-prereqs.t .. ok
# Testing JSON.pm backend
t/01-JSON.t ............ ok
t/02-JSON-XS.t ......... skipped: JSON::XS not installed: Couldn't find a JSON package. Need JSON::XS at (eval 7) line 1.
t/03-JSON-DWIW.t ....... skipped: JSON::DWIW not installed: Couldn't find a JSON package. Need JSON::DWIW at (eval 7) line 1.
t/04-ENV.t ............. skipped: Cpanel::JSON::XS nor JSON::XS are installed
t/05-JSON-Syck.t ....... skipped: JSON::Syck not installed: Couldn't find a JSON package. Need JSON::Syck at (eval 7) line 1.
# Testing JSON::PP backend
t/06-JSON-PP.t ......... ok
t/07-CPanel-JSON-XS.t .. skipped: Cpanel::JSON::XS not installed: Couldn't find a JSON package. Need Cpanel::JSON::XS at (eval 7) line 1.
t/10_unicode.t ......... ok
t/11-string-escape.t ... ok
t/12-boolean.t ......... ok
t/13-no-backends.t ..... ok
t/14-deprecated.t ...... skipped: Need JSON::Syck
All tests successful.
Files=14, Tests=127,  3 wallclock secs ( 0.11 usr  0.06 sys +  2.32 cusr  0.55 csys =  3.04 CPU)
Result: PASS


PREREQUISITES:

Here is a list of prerequisites you specified and versions we
managed to load:

	  Module Name                        Have     Want
	  Carp                             1.3301        0
	  Data::Dumper                      2.151        0
	  ExtUtils::MakeMaker                7.70        0
	  File::Spec                         3.75        0
	  Storable                           3.25        0
	  Test::Fatal                       0.017        0
	  Test::More                     1.302198     0.88
	  Test::Needs                    0.002010        0
	  Test::Warnings                    0.033    0.009
	  Test::Without::Module              0.21        0
	  constant                           1.31        0
	  open                               1.10        0
	  strict                             1.08        0
	  utf8                            1.13_01        0
	  warnings                           1.23        0

Perl module toolchain versions installed:
	Module Name                        Have
	CPANPLUS                         0.9914
	CPANPLUS::Dist::Build              0.90
	Cwd                                3.75
	ExtUtils::CBuilder             0.280236
	ExtUtils::Command                  7.70
	ExtUtils::Install                  2.22
	ExtUtils::MakeMaker                7.70
	ExtUtils::Manifest                 1.75
	ExtUtils::ParseXS                  3.51
	File::Spec                         3.75
	Module::Build                    0.4234
	Pod::Parser                        1.62
	Pod::Simple                        3.28
	Test2                          1.302198
	Test::Harness                      3.48
	Test::More                     1.302198
	version                          0.9930

******************************** NOTE ********************************
The comments above are created mechanically, possibly without manual
checking by the sender.  As there are many people performing automatic
tests on each upload to CPAN, it is likely that you will receive
identical messages about the same problem.

If you believe that the message is mistaken, please reply to the first
one with correction and/or additional informations, and do not take
it personally.  We appreciate your patience. :)
**********************************************************************

Additional comments:


This report was machine-generated by CPANPLUS::Dist::YACSmoke 1.08.
Powered by minismokebox version 0.68

CPANPLUS is prefering Build.PL

------------------------------
ENVIRONMENT AND OTHER CONTEXT
------------------------------

Environment variables:

    AUTOMATED_TESTING = 1
    LANG = en_GB.UTF-8
    NONINTERACTIVE_TESTING = 1
    PATH = /usr/bin:/usr/sbin:/sbin:/opt/ooce/bin:/usr/gnu/bin
    PERL5LIB = /home/cpan/pit/jail/uZpXkwcrDQ/lib/perl5:/home/cpan/pit/bare/conf/perl-5.20.1/.cpanplus/5.20.1/build/IxAU28ERIc/JSON-Any-1.40/blib/lib:/home/cpan/pit/bare/conf/perl-5.20.1/.cpanplus/5.20.1/build/IxAU28ERIc/JSON-Any-1.40/blib/arch
    PERL5_CPANPLUS_IS_RUNNING = 21959
    PERL5_CPANPLUS_IS_VERSION = 0.9914
    PERL5_MINISMOKEBOX = 0.68
    PERL5_YACSMOKE_BASE = /home/cpan/pit/bare/conf/perl-5.20.1
    PERL_EXTUTILS_AUTOINSTALL = --defaultdeps
    PERL_LOCAL_LIB_ROOT = /home/cpan/pit/jail/uZpXkwcrDQ
    PERL_MB_OPT = --install_base "/home/cpan/pit/jail/uZpXkwcrDQ"
    PERL_MM_OPT = INSTALL_BASE=/home/cpan/pit/jail/uZpXkwcrDQ
    PERL_MM_USE_DEFAULT = 1
    PERL_USE_UNSAFE_INC = 1
    SHELL = /bin/bash
    TERM = screen.xterm-256color

Perl special variables (and OS-specific diagnostics, for MSWin32):

    Perl: $^X = /home/cpan/pit/bare/perl-5.20.1/bin/perl
    UID:  $<  = 101
    EUID: $>  = 101
    GID:  $(  = 101 101
    EGID: $)  = 101 101


-------------------------------


--

Summary of my perl5 (revision 5 version 20 subversion 1) configuration:
   
  Platform:
    osname=solaris, osvers=2.11, archname=i86pc-solaris-64
    uname='sunos ouzel 5.11 omnios-r151034-0d278a0cc5 i86pc i386 i86pc '
    config_args='-des -Dprefix=/home/cpan/pit/bare/perl-5.20.1 -Duse64bitall -Dcc=gcc'
    hint=recommended, useposix=true, d_sigaction=define
    useithreads=undef, usemultiplicity=undef
    use64bitint=define, use64bitall=define, uselongdouble=undef
    usemymalloc=n, bincompat5005=undef
  Compiler:
    cc='gcc', ccflags ='-m64 -fwrapv -fno-strict-aliasing -pipe -fstack-protector -D_LARGEFILE_SOURCE -D_FILE_OFFSET_BITS=64 -DPERL_USE_SAFE_PUTENV',
    optimize='-O',
    cppflags='-m64 -fwrapv -fno-strict-aliasing -pipe -fstack-protector'
    ccversion='', gccversion='9.3.0', gccosandvers=''
    intsize=4, longsize=8, ptrsize=8, doublesize=8, byteorder=12345678
    d_longlong=define, longlongsize=8, d_longdbl=define, longdblsize=16
    ivtype='long', ivsize=8, nvtype='double', nvsize=8, Off_t='off_t', lseeksize=8
    alignbytes=8, prototype=define
  Linker and Libraries:
    ld='gcc', ldflags =' -m64 -fstack-protector -L/usr/gnu/lib '
    libpth=/opt/gcc-9/lib /opt/gcc-9/lib/gcc/x86_64-pc-solaris2.11/9.3.0/include-fixed /usr/lib /usr/gnu/lib /usr/ccs/lib
    libs=-lsocket -lnsl -ldl -lm -lc
    perllibs=-lsocket -lnsl -ldl -lm -lc
    libc=/lib/libc.so, so=so, useshrplib=true, libperl=libperl.so
    gnulibc_version=''
  Dynamic Linking:
    dlsrc=dl_dlopen.xs, dlext=so, d_dlsymun=undef, ccdlflags='  -R /home/cpan/pit/bare/perl-5.20.1/lib/5.20.1/i86pc-solaris-64/CORE'
    cccdlflags='-fPIC', lddlflags=' -shared -m64 -L/usr/gnu/lib -fstack-protector'


Characteristics of this binary (from libperl): 
  Compile-time options: HAS_TIMES PERLIO_LAYERS PERL_DONT_CREATE_GVSV
                        PERL_HASH_FUNC_ONE_AT_A_TIME_HARD PERL_MALLOC_WRAP
                        PERL_NEW_COPY_ON_WRITE PERL_PRESERVE_IVUV
                        PERL_USE_SAFE_PUTENV USE_64_BIT_ALL USE_64_BIT_INT
                        USE_LARGE_FILES USE_LOCALE USE_LOCALE_COLLATE
                        USE_LOCALE_CTYPE USE_LOCALE_NUMERIC USE_PERLIO
                        USE_PERL_ATOF
  Locally applied patches:
	Devel::PatchPerl 2.00
  Built under solaris
  Compiled at Aug 19 2020 10:24:33
  %ENV:
    PERL5LIB="/home/cpan/pit/jail/uZpXkwcrDQ/lib/perl5:/home/cpan/pit/bare/conf/perl-5.20.1/.cpanplus/5.20.1/build/IxAU28ERIc/JSON-Any-1.40/blib/lib:/home/cpan/pit/bare/conf/perl-5.20.1/.cpanplus/5.20.1/build/IxAU28ERIc/JSON-Any-1.40/blib/arch"
    PERL5_CPANPLUS_IS_RUNNING="21959"
    PERL5_CPANPLUS_IS_VERSION="0.9914"
    PERL5_MINISMOKEBOX="0.68"
    PERL5_YACSMOKE_BASE="/home/cpan/pit/bare/conf/perl-5.20.1"
    PERL_EXTUTILS_AUTOINSTALL="--defaultdeps"
    PERL_LOCAL_LIB_ROOT="/home/cpan/pit/jail/uZpXkwcrDQ"
    PERL_MB_OPT="--install_base "/home/cpan/pit/jail/uZpXkwcrDQ""
    PERL_MM_OPT="INSTALL_BASE=/home/cpan/pit/jail/uZpXkwcrDQ"
    PERL_MM_USE_DEFAULT="1"
    PERL_USE_UNSAFE_INC="1"
  @INC:
    /home/cpan/pit/jail/uZpXkwcrDQ/lib/perl5/5.20.1/i86pc-solaris-64
    /home/cpan/pit/jail/uZpXkwcrDQ/lib/perl5/5.20.1
    /home/cpan/pit/jail/uZpXkwcrDQ/lib/perl5/i86pc-solaris-64
    /home/cpan/pit/jail/uZpXkwcrDQ/lib/perl5
    /home/cpan/pit/bare/conf/perl-5.20.1/.cpanplus/5.20.1/build/IxAU28ERIc/JSON-Any-1.40/blib/lib
    /home/cpan/pit/bare/conf/perl-5.20.1/.cpanplus/5.20.1/build/IxAU28ERIc/JSON-Any-1.40/blib/arch
    /home/cpan/pit/bare/perl-5.20.1/lib/site_perl/5.20.1/i86pc-solaris-64
    /home/cpan/pit/bare/perl-5.20.1/lib/site_perl/5.20.1
    /home/cpan/pit/bare/perl-5.20.1/lib/5.20.1/i86pc-solaris-64
    /home/cpan/pit/bare/perl-5.20.1/lib/5.20.1
    .