Report for Catalyst-Devel-1.34

Back
From: metabase:user:7df99472-de84-11e0-8421-5334ad21bd5f
Subject: PASS Catalyst-Devel-1.34 v5.14.1 Mac OS X
Date: 2011-09-15T05:04:04Z

This distribution has been tested as part of the CPAN Testers
project, supporting the Perl programming language.  See
http://wiki.cpantesters.org/ for more information or email
questions to cpan-testers-discuss@perl.org


--
Dear Tomas Doran,

This is a computer-generated report for Catalyst-Devel-1.34
on perl 5.14.1, created by CPAN-Reporter-1.2002.

Thank you for uploading your work to CPAN.  Congratulations!
All tests were successful.

Sections of this report:

    * Tester comments
    * Program output
    * Prerequisites
    * Environment and other context

------------------------------
TESTER COMMENTS
------------------------------

Additional comments from tester:

none provided

------------------------------
PROGRAM OUTPUT
------------------------------

Output from '/usr/bin/make test':

PERL_DL_NONLAZY=1 /Users/greeneg/Lang/Perl/bin/perl "-MExtUtils::Command::MM" "-e" "test_harness(0, 'inc', 'blib/lib', 'blib/arch')" t/01use.t t/back_compat.t t/generated_app.t t/get_sharedir_file.t t/optional_http-server-restart.t t/render_file_contents.t t/render_share_dir_file.t
t/01use.t ......................... ok
t/back_compat.t ................... ok
# Generated app is in /var/folders/4r/q8z8fy2j1kd6rc8vks0hy08h000102/T/1pQcfgkHFm
# Installed app is in /var/folders/4r/q8z8fy2j1kd6rc8vks0hy08h000102/T/ozmZQDXSJD
t/generated_app.t ................. ok
t/get_sharedir_file.t ............. ok
t/optional_http-server-restart.t .. skipped: set TEST_HTTP to enable this test
t/render_file_contents.t .......... ok
t/render_share_dir_file.t ......... ok
All tests successful.
Files=7, Tests=91, 12 wallclock secs ( 0.05 usr  0.02 sys + 10.12 cusr  1.41 csys = 11.60 CPU)
Result: PASS

------------------------------
PREREQUISITES
------------------------------

Prerequisite modules loaded:

requires:

    Module                                 Need    Have   
    -------------------------------------- ------- -------
    Catalyst                               5.90001 5.90002
    Catalyst::Action::RenderView           0.10    0.16   
    Catalyst::Plugin::ConfigLoader         0.30    0.30   
    Catalyst::Plugin::Static::Simple       0.28    0.29   
    Config::General                        2.42    2.50   
    ExtUtils::MakeMaker                    6.11    6.59   
    File::ChangeNotify                     0.07    0.20   
    File::Copy::Recursive                  0       0.38   
    File::ShareDir                         0       1.03   
    Module::Install                        0.91    1.01   
    Moose                                  0       2.0205 
    MooseX::Daemonize                      0       0.13   
    MooseX::Emulate::Class::Accessor::Fast 0       0.00903
    namespace::autoclean                   0       0.13   
    namespace::clean                       0       0.21   
    Path::Class                            0.09    0.24   
    Starman                                0       0.2013 
    Template                               2.14    2.22   
    Test::Fatal                            0.003   0.006  
    Test::More                             0.94    0.98   

build_requires:

    Module                                 Need    Have   
    -------------------------------------- ------- -------
    ExtUtils::MakeMaker                    6.42    6.59   
    Test::Fatal                            0.003   0.006  
    Test::More                             0.94    0.98   

configure_requires:

    Module                                 Need    Have   
    -------------------------------------- ------- -------
    ExtUtils::MakeMaker                    6.42    6.59   


------------------------------
ENVIRONMENT AND OTHER CONTEXT
------------------------------

Environment variables:

    LANG = en_US.UTF-8
    LC_ALL = en_US.UTF-8
    LC_CTYPE = C
    MOD_PERL_API_VERSION = 2
    PATH = /Users/greeneg/Lang/Perl/bin:/Users/greeneg/Lang/Perl/sbin:/Users/greeneg/Lang/Perl/bin:/opt/local/bin:/opt/local/sbin:/Users/greeneg/Lang/Perl/bin:/Users/greeneg/Lang/Perl/sbin:/Users/greeneg/Lang/Perl/bin:/opt/local/bin:/opt/local/sbin:/usr/bin:/bin:/usr/sbin:/sbin:/usr/local/bin:/usr/X11/bin:/usr/local/git/bin:/usr/local/MacGPG2/bin
    PERL5LIB = 
    PERL5OPT = 
    PERL5_CPANPLUS_IS_RUNNING = 8296
    PERL5_CPAN_IS_RUNNING = 8296
    SHELL = /bin/zsh
    TERM = xterm-256color
    TMPDIR = /var/folders/4r/q8z8fy2j1kd6rc8vks0hy08h000102/T/

Perl special variables (and OS-specific diagnostics, for MSWin32):

    $^X = /Users/greeneg/Lang/Perl/bin/perl
    $UID/$EUID = 1026 / 1026
    $GID = 20 20 502 80 401 12 33 62 79 81 98 100 204 402
    $EGID = 20 20 502 80 401 12 33 62 79 81 98 100 204 402

Perl module toolchain versions installed:

    Module              Have    
    ------------------- --------
    CPAN                1.9800  
    CPAN::Meta          2.112150
    Cwd                 3.36    
    ExtUtils::CBuilder  0.280203
    ExtUtils::Command   1.17    
    ExtUtils::Install   1.56    
    ExtUtils::MakeMaker 6.59    
    ExtUtils::Manifest  1.60    
    ExtUtils::ParseXS   3.04    
    File::Spec          3.33    
    JSON                2.53    
    JSON::PP            2.27200 
    Module::Build       0.3800  
    Module::Signature   0.68    
    Parse::CPAN::Meta   1.4401  
    Test::Harness       3.23    
    Test::More          0.98    
    YAML                0.73    
    YAML::Syck          1.17    
    version             0.94    


--

Summary of my perl5 (revision 5 version 14 subversion 1) configuration:
   
  Platform:
    osname=darwin, osvers=11.1.0, archname=darwin-thread-multi-ld-2level
    uname='darwin skuld.tolharadys.net 11.1.0 darwin kernel version 11.1.0: tue jul 26 16:07:11 pdt 2011; root:xnu-1699.22.81~1release_x86_64 x86_64 '
    config_args=''
    hint=recommended, useposix=true, d_sigaction=define
    useithreads=define, usemultiplicity=define
    useperlio=define, d_sfio=undef, uselargefiles=define, usesocks=undef
    use64bitint=define, use64bitall=define, uselongdouble=define
    usemymalloc=n, bincompat5005=undef
  Compiler:
    cc='cc', ccflags ='-fno-common -DPERL_DARWIN -fno-strict-aliasing -pipe -fstack-protector -I/opt/local/include',
    optimize='-O3',
    cppflags='-fno-common -DPERL_DARWIN -fno-strict-aliasing -pipe -fstack-protector -I/opt/local/include'
    ccversion='', gccversion='4.2.1 (Based on Apple Inc. build 5658) (LLVM build 2335.15.00)', gccosandvers=''
    intsize=4, longsize=8, ptrsize=8, doublesize=8, byteorder=12345678
    d_longlong=define, longlongsize=8, d_longdbl=define, longdblsize=16
    ivtype='long', ivsize=8, nvtype='long double', nvsize=16, Off_t='off_t', lseeksize=8
    alignbytes=8, prototype=define
  Linker and Libraries:
    ld='env MACOSX_DEPLOYMENT_TARGET=10.3 cc', ldflags =' -fstack-protector -L/opt/local/lib'
    libpth=/opt/local/lib /usr/lib
    libs=-lgdbm -ldbm -ldl -lm -lutil -lc
    perllibs=-ldl -lm -lutil -lc
    libc=, so=dylib, useshrplib=true, libperl=libperl.dylib
    gnulibc_version=''
  Dynamic Linking:
    dlsrc=dl_dlopen.xs, dlext=bundle, d_dlsymun=undef, ccdlflags=' '
    cccdlflags=' ', lddlflags=' -bundle -undefined dynamic_lookup -L/opt/local/lib -fstack-protector'


Characteristics of this binary (from libperl): 
  Compile-time options: MULTIPLICITY PERL_DONT_CREATE_GVSV
                        PERL_IMPLICIT_CONTEXT PERL_MALLOC_WRAP
                        PERL_PRESERVE_IVUV USE_64_BIT_ALL USE_64_BIT_INT
                        USE_ITHREADS USE_LARGE_FILES USE_LONG_DOUBLE
                        USE_PERLIO USE_PERL_ATOF
  Built under darwin
  Compiled at Sep 12 2011 23:48:29
  %ENV:
    PERL5LIB=""
    PERL5OPT=""
    PERL5_CPANPLUS_IS_RUNNING="8296"
    PERL5_CPAN_IS_RUNNING="8296"
  @INC:
    /Users/greeneg/Lang/Perl/lib/perl5/site_perl/5.14.1/darwin-thread-multi-ld-2level
    /Users/greeneg/Lang/Perl/lib/perl5/site_perl/5.14.1
    /Users/greeneg/Lang/Perl/lib/perl5/5.14.1/darwin-thread-multi-ld-2level
    /Users/greeneg/Lang/Perl/lib/perl5/5.14.1
    .