Term-ReadLine-Perl5 v1.45 Perl 5 v5.26.1 i86pc-solaris

Status
Pass
From
Serguei Trouchelle (STRO)
Dist
Term-ReadLine-Perl5 v1.45
Platform
Perl 5 v5.26.1 i86pc-solaris
Date
2017-10-19 22:30:39
ID
222e43f6-b51d-11e7-a23a-8119f5067b6b
This distribution has been tested as part of the CPAN Testers
project, supporting the Perl programming language.  See
http://wiki.cpantesters.org/ for more information or email
questions to cpan-testers-discuss@perl.org


--
Dear Rocky Bernstein,

This is a computer-generated report for Term-ReadLine-Perl5-1.45
on perl 5.26.1, created by CPAN-Reporter-1.2018.

Thank you for uploading your work to CPAN.  Congratulations!
All tests were successful.

Sections of this report:

    * Tester comments
    * Program output
    * Prerequisites
    * Environment and other context

------------------------------
TESTER COMMENTS
------------------------------

Additional comments from tester:

this report is from an automated smoke testing program
and was not reviewed by a human for accuracy

------------------------------
PROGRAM OUTPUT
------------------------------

Output from '/usr/bin/make test':

/home/stro/perl/5.26.1/bin/perl Build --makefile_env_macros 1 test
test.pl ........................ skipped: Not interactive: $ENV{PERL_MM_NONINTERACTIVE}='' $ENV{AUTOMATED_TESTING}='1'
t/00test-pod.t ................. ok
t/01test-OO-compile.t .......... ok
t/02test-OO-history-max-len.t .. ok
t/10test-basic.t ............... ok
t/10test-changecase.t .......... ok
t/10test-common.t .............. ok
t/10test-filelist.t ............ ok
t/10test-history.t ............. ok
t/10test-motion.t .............. ok
t/10test-readline.t ............ ok
t/15test-unescape.t ............ ok
t/20test-read-input-file.t ..... ok
All tests successful.
Files=13, Tests=146,  3 wallclock secs ( 0.06 usr  0.04 sys +  1.62 cusr  0.36 csys =  2.08 CPU)
Result: PASS

------------------------------
PREREQUISITES
------------------------------

Prerequisite modules loaded:

requires:

    Module                          Need     Have    
    ------------------------------- -------- --------
    Class::Accessor::Lite           0.05     0.08    
    File::HomeDir                   0.81     1.002   
    File::Spec                      0        3.67    
    IO::Handle                      0        1.36    
    perl                            5.008005 5.026001
    POSIX                           0        1.76    
    Term::ReadKey                   2.3      2.37    
    Text::VisualWidth::PP           0        0.04    
    Unicode::EastAsianWidth::Detect 0.03     0.03    
    version                         0        0.9917  

build_requires:

    Module                          Need     Have    
    ------------------------------- -------- --------
    File::HomeDir                   0.81     1.002   
    File::Spec                      0        3.67    
    Term::Cap                       0        1.17    
    Term::ReadKey                   2.3      2.37    
    Test::More                      0.98     1.302103

configure_requires:

    Module                          Need     Have    
    ------------------------------- -------- --------
    Module::Build                   0.4004   0.4224  
    perl                            5.008005 5.026001

opt_requires:

    Module                          Need     Have    
    ------------------------------- -------- --------
    rlib                            0.02     0.02    


------------------------------
ENVIRONMENT AND OTHER CONTEXT
------------------------------

Environment variables:

    AUTOMATED_TESTING = 1
    LANG = en_US.UTF-8
    PATH = /usr/gnu/bin:/usr/bin:/usr/sbin:/sbin:/usr/sfw/bin:
    PERL5LIB = 
    PERL5OPT = 
    PERL5_CPANPLUS_IS_RUNNING = 7896
    PERL5_CPAN_IS_RUNNING = 7896
    PERL5_CPAN_IS_RUNNING_IN_RECURSION = 19649,7896
    PERL_CR_SMOKER_CURRENT = Term-ReadLine-Perl5-1.45
    PERL_EXTUTILS_AUTOINSTALL = --defaultdeps
    PERL_MM_USE_DEFAULT = 1
    PERL_USE_UNSAFE_INC = 1
    SHELL = /bin/bash
    TERM = xterm-256color

Perl special variables (and OS-specific diagnostics, for MSWin32):

    $^X = /home/stro/perl/5.26.1/bin/perl
    $UID/$EUID = 101 / 101
    $GID = 10 10
    $EGID = 10 10

Perl module toolchain versions installed:

    Module              Have    
    ------------------- --------
    CPAN                2.18    
    CPAN::Meta          2.150010
    Cwd                 3.67    
    ExtUtils::CBuilder  0.280226
    ExtUtils::Command   7.24    
    ExtUtils::Install   2.04    
    ExtUtils::MakeMaker 7.24    
    ExtUtils::Manifest  1.70    
    ExtUtils::ParseXS   3.34    
    File::Spec          3.67    
    JSON                2.94    
    JSON::PP            2.94    
    Module::Build       0.4224  
    Module::Signature   n/a     
    Parse::CPAN::Meta   2.150010
    Test::Harness       3.38    
    Test::More          1.302103
    YAML                1.23    
    YAML::Syck          1.30    
    version             0.9917  


--

Summary of my perl5 (revision 5 version 26 subversion 1) configuration:
   
  Platform:
    osname=solaris
    osvers=2.11
    archname=i86pc-solaris
    uname='sunos vm-openindiana-001 5.11 illumos-ed992b0aac i86pc i386 i86pc solaris '
    config_args=''
    hint=recommended
    useposix=true
    d_sigaction=define
    useithreads=undef
    usemultiplicity=undef
    use64bitint=undef
    use64bitall=undef
    uselongdouble=undef
    usemymalloc=n
    default_inc_excludes_dot=define
    bincompat5005=undef
  Compiler:
    cc='/opt/SUNWspro/bin/cc'
    ccflags ='-I/usr/gnu/include -D_LARGEFILE_SOURCE -D_FILE_OFFSET_BITS=64 -DPERL_USE_SAFE_PUTENV'
    optimize='-O'
    cppflags='-I/usr/gnu/include'
    ccversion='Sun C 5.10 SunOS_i386 2009/06/03'
    gccversion=''
    gccosandvers=''
    intsize=4
    longsize=4
    ptrsize=4
    doublesize=8
    byteorder=1234
    doublekind=3
    d_longlong=define
    longlongsize=8
    d_longdbl=define
    longdblsize=12
    longdblkind=3
    ivtype='long'
    ivsize=4
    nvtype='double'
    nvsize=8
    Off_t='off_t'
    lseeksize=8
    alignbytes=4
    prototype=define
  Linker and Libraries:
    ld='/opt/SUNWspro/bin/cc'
    ldflags =' -L/usr/lib -L/usr/ccs/lib -L/opt/sunstudio12.1/prod/lib -L/lib -L/usr/gnu/lib '
    libpth=/usr/lib /usr/ccs/lib /opt/sunstudio12.1/prod/lib /lib /usr/gnu/lib
    libs=-lpthread -lsocket -lnsl -lgdbm -ldb -ldl -lm -lc
    perllibs=-lpthread -lsocket -lnsl -ldl -lm -lc
    libc=/lib/libc.so
    so=so
    useshrplib=true
    libperl=libperl.so
    gnulibc_version=''
  Dynamic Linking:
    dlsrc=dl_dlopen.xs
    dlext=so
    d_dlsymun=undef
    ccdlflags='  -R /home/stro/perl/5.26.1/lib/5.26.1/i86pc-solaris/CORE'
    cccdlflags='-KPIC'
    lddlflags='-G -L/usr/lib -L/usr/ccs/lib -L/opt/sunstudio12.1/prod/lib -L/lib -L/usr/gnu/lib'


Characteristics of this binary (from libperl): 
  Compile-time options:
    HAS_TIMES
    PERLIO_LAYERS
    PERL_COPY_ON_WRITE
    PERL_DONT_CREATE_GVSV
    PERL_HASH_FUNC_ONE_AT_A_TIME_HARD
    PERL_MALLOC_WRAP
    PERL_OP_PARENT
    PERL_PRESERVE_IVUV
    PERL_USE_SAFE_PUTENV
    USE_LARGE_FILES
    USE_LOCALE
    USE_LOCALE_COLLATE
    USE_LOCALE_CTYPE
    USE_LOCALE_NUMERIC
    USE_LOCALE_TIME
    USE_PERLIO
    USE_PERL_ATOF
  Built under solaris
  Compiled at Sep 22 2017 16:27:01
  %ENV:
    PERL5LIB=""
    PERL5OPT=""
    PERL5_CPANPLUS_IS_RUNNING="7896"
    PERL5_CPAN_IS_RUNNING="7896"
    PERL5_CPAN_IS_RUNNING_IN_RECURSION="19649,7896"
    PERL_CR_SMOKER_CURRENT="Term-ReadLine-Perl5-1.45"
    PERL_EXTUTILS_AUTOINSTALL="--defaultdeps"
    PERL_MM_USE_DEFAULT="1"
    PERL_USE_UNSAFE_INC="1"
  @INC:
    /home/stro/perl/5.26.1/lib/site_perl/5.26.1/i86pc-solaris
    /home/stro/perl/5.26.1/lib/site_perl/5.26.1
    /home/stro/perl/5.26.1/lib/5.26.1/i86pc-solaris
    /home/stro/perl/5.26.1/lib/5.26.1
    .