Report for Net-FileMaker-0.064

Back
From: metabase:user:320bfe00-2aae-11df-837a-5e0a49663a4f
Subject: PASS Net-FileMaker-0.064 v5.24.0 GNU/Linux
Date: 2016-09-02T10:00:52Z

This distribution has been tested as part of the CPAN Testers
project, supporting the Perl programming language.  See
http://wiki.cpantesters.org/ for more information or email
questions to cpan-testers-discuss@perl.org


--
Dear Squeeks,

This is a computer-generated report for Net-FileMaker-0.064
on perl 5.24.0, created by CPAN-Reporter-1.2018.

Thank you for uploading your work to CPAN.  Congratulations!
All tests were successful.

Sections of this report:

    * Tester comments
    * Program output
    * Prerequisites
    * Environment and other context

------------------------------
TESTER COMMENTS
------------------------------

Additional comments from tester:

this report is from an automated smoke testing program
and was not reviewed by a human for accuracy

------------------------------
PROGRAM OUTPUT
------------------------------

Output from '/usr/bin/make test':

PERL_DL_NONLAZY=1 "/tmp/basesmoker-reloperl-yKpD/bin/perl" "-MExtUtils::Command::MM" "-MTest::Harness" "-e" "undef *Test::Harness::Switches; test_harness(0, 'blib/lib', 'blib/arch')" t/*.t t/00_load/*.t t/01_xml/*.t t/02_error/*.t t/03_resultset/*.t t/04_field_definition/*.t t/05_row/*.t
# Testing Net::FileMaker 0.064, Perl 5.024000, /tmp/basesmoker-reloperl-yKpD/bin/perl
t/00_load/00-net-filemaker.t ....... ok
t/00_load/01-perlcritic.t .......... skipped: Perl::Critic false flagging issues with package declarations, skipping...
t/00_load/02-pod.t ................. ok
#  
# To prevent skipping the following tests, set the following environment varibles:
# FMS_HOST - Your accessible FileMaker Server. Must be a valid formatted URI.
# FMS_USER - Valid Username.
# FMS_PASS - Password.
# If you do not set these vars, the tests will just skip where necessary and you will not get complete coverage.
# It is recommended to use a test or development server for this suite, just in case.
t/01_xml/00-load.t ................. ok
t/01_xml/01-dbnames.t .............. skipped: FileMaker Server not declared
t/01_xml/02-layoutnames.t .......... skipped: FileMaker Server and authentication not declared
t/01_xml/03-scriptnames.t .......... skipped: FileMaker Server and authentication not declared
t/01_xml/04-findall.t .............. skipped: FileMaker Server and authentication not declared
t/01_xml/05-findany.t .............. skipped: FileMaker Server and authentication not declared
t/02_error/00-load.t ............... ok
t/02_error/01-en.t ................. ok
t/02_error/02-ja.t ................. ok
t/02_error/03-it.t ................. ok
t/03_resultset/00-load.t ........... ok
t/03_resultset/01-instantiation.t .. skipped: FileMaker Server and authentication not declared
t/03_resultset/02-rows.t ........... skipped: FileMaker Server and authentication not declared
t/04_field_definition/00-load.t .... ok
t/04_field_definition/01-fields.t .. skipped: FileMaker Server and authentication not declared
t/05_row/00-load.t ................. ok
t/05_row/01-inflated.t ............. skipped: FileMaker Server and authentication not declared
t/manifest.t ....................... skipped: Author tests not required for installation
t/pod.t ............................ ok
All tests successful.
Files=22, Tests=58,  1 wallclock secs ( 0.06 usr  0.08 sys +  0.90 cusr  0.14 csys =  1.18 CPU)
Result: PASS

------------------------------
PREREQUISITES
------------------------------

Prerequisite modules loaded:

requires:

    Module                 Need Have    
    ---------------------- ---- --------
    DateTime::Format::CLDR 0    1.17    
    LWP                    0    6.15    
    URI                    0    1.71    
    XML::Twig              3.33 3.49    

build_requires:

    Module                 Need Have    
    ---------------------- ---- --------
    Test::More             0    1.302052

configure_requires:

    Module                 Need Have    
    ---------------------- ---- --------
    ExtUtils::MakeMaker    6.30 7.24    


------------------------------
ENVIRONMENT AND OTHER CONTEXT
------------------------------

Environment variables:

    AUTOMATED_TESTING = 1
    LANG = C
    PATH = /home/sand/bin:/usr/local/bin:/usr/bin:/bin:/usr/games:/usr/local/perl/bin:/usr/X11/bin:/sbin:/usr/sbin
    PERL5LIB = 
    PERL5OPT = 
    PERL5_CPANPLUS_IS_RUNNING = 21129
    PERL5_CPAN_IS_RUNNING = 21129
    PERL_CANARY_STABILITY_NOPROMPT = 1
    PERL_MM_USE_DEFAULT = 1
    SHELL = /usr/bin/zsh
    TERM = screen

Perl special variables (and OS-specific diagnostics, for MSWin32):

    $^X = /tmp/basesmoker-reloperl-yKpD/bin/perl
    $UID/$EUID = 1005 / 1005
    $GID = 1005 1005
    $EGID = 1005 1005

Perl module toolchain versions installed:

    Module              Have    
    ------------------- --------
    CPAN                2.15    
    CPAN::Meta          2.150010
    Cwd                 3.63    
    ExtUtils::CBuilder  0.280225
    ExtUtils::Command   7.24    
    ExtUtils::Install   2.04    
    ExtUtils::MakeMaker 7.24    
    ExtUtils::Manifest  1.70    
    ExtUtils::ParseXS   3.31    
    File::Spec          3.63    
    JSON                2.90    
    JSON::PP            2.27300 
    Module::Build       0.4220  
    Module::Signature   0.80    
    Parse::CPAN::Meta   2.150010
    Test::Harness       3.36    
    Test::More          1.302052
    YAML                1.18    
    YAML::Syck          1.29    
    version             0.9917  


--

Summary of my perl5 (revision 5 version 24 subversion 0) configuration:
  Commit id: be2c0c650b028f54e427f2469a59942edfdff8a9
  Platform:
    osname=linux, osvers=4.7.0-1-amd64, archname=x86_64-linux-thread-multi
    uname='linux k93x64sid 4.7.0-1-amd64 #1 smp debian 4.7.2-1 (2016-08-28) x86_64 gnulinux '
    config_args='-Dprefix=/home/sand/src/perl/repoperls/installed-perls/host/k93x64sid/v5.24.0/9af6 -Dmyhostname=k93x64sid -Dinstallusrbinperl=n -Uversiononly -Dusedevel -des -Ui_db -Dlibswanted=cl pthread socket inet nsl gdbm dbm malloc dl ld sun m crypt sec util c cposix posix ucb BSD gdbm_compat -Duseithreads -Uuselongdouble -DDEBUGGING=-g'
    hint=recommended, useposix=true, d_sigaction=define
    useithreads=define, usemultiplicity=define
    use64bitint=define, use64bitall=define, uselongdouble=undef
    usemymalloc=n, bincompat5005=undef
  Compiler:
    cc='cc', ccflags ='-D_REENTRANT -D_GNU_SOURCE -fwrapv -fno-strict-aliasing -pipe -fstack-protector-strong -I/usr/local/include -D_LARGEFILE_SOURCE -D_FILE_OFFSET_BITS=64',
    optimize='-O2 -g',
    cppflags='-D_REENTRANT -D_GNU_SOURCE -fwrapv -fno-strict-aliasing -pipe -fstack-protector-strong -I/usr/local/include'
    ccversion='', gccversion='6.2.0 20160830', gccosandvers=''
    intsize=4, longsize=8, ptrsize=8, doublesize=8, byteorder=12345678, doublekind=3
    d_longlong=define, longlongsize=8, d_longdbl=define, longdblsize=16, longdblkind=3
    ivtype='long', ivsize=8, nvtype='double', nvsize=8, Off_t='off_t', lseeksize=8
    alignbytes=8, prototype=define
  Linker and Libraries:
    ld='cc', ldflags =' -fstack-protector-strong -L/usr/local/lib'
    libpth=/usr/local/lib /usr/lib/gcc/x86_64-linux-gnu/6/include-fixed /usr/include/x86_64-linux-gnu /usr/lib /lib/x86_64-linux-gnu /lib/../lib /usr/lib/x86_64-linux-gnu /usr/lib/../lib /lib
    libs=-lpthread -lnsl -ldl -lm -lcrypt -lutil -lc
    perllibs=-lpthread -lnsl -ldl -lm -lcrypt -lutil -lc
    libc=libc-2.24.so, so=so, useshrplib=false, libperl=libperl.a
    gnulibc_version='2.24'
  Dynamic Linking:
    dlsrc=dl_dlopen.xs, dlext=so, d_dlsymun=undef, ccdlflags='-Wl,-E'
    cccdlflags='-fPIC', lddlflags='-shared -O2 -g -L/usr/local/lib -fstack-protector-strong'


Characteristics of this binary (from libperl): 
  Compile-time options: HAS_TIMES MULTIPLICITY PERLIO_LAYERS
                        PERL_COPY_ON_WRITE PERL_DONT_CREATE_GVSV
                        PERL_HASH_FUNC_ONE_AT_A_TIME_HARD
                        PERL_IMPLICIT_CONTEXT PERL_MALLOC_WRAP
                        PERL_PRESERVE_IVUV PERL_USE_DEVEL USE_64_BIT_ALL
                        USE_64_BIT_INT USE_ITHREADS USE_LARGE_FILES
                        USE_LOCALE USE_LOCALE_COLLATE USE_LOCALE_CTYPE
                        USE_LOCALE_NUMERIC USE_LOCALE_TIME USE_PERLIO
                        USE_PERL_ATOF USE_REENTRANT_API
  Built under linux
  Compiled at Sep  1 2016 22:21:57
  %ENV:
    PERL5LIB=""
    PERL5OPT=""
    PERL5_CPANPLUS_IS_RUNNING="21129"
    PERL5_CPAN_IS_RUNNING="21129"
    PERL_CANARY_STABILITY_NOPROMPT="1"
    PERL_MM_USE_DEFAULT="1"
  @INC:
    /home/sand/src/perl/repoperls/installed-perls/host/k93x64sid/v5.24.0/9af6/lib/site_perl/5.24.0/x86_64-linux-thread-multi
    /home/sand/src/perl/repoperls/installed-perls/host/k93x64sid/v5.24.0/9af6/lib/site_perl/5.24.0
    /home/sand/src/perl/repoperls/installed-perls/host/k93x64sid/v5.24.0/9af6/lib/5.24.0/x86_64-linux-thread-multi
    /home/sand/src/perl/repoperls/installed-perls/host/k93x64sid/v5.24.0/9af6/lib/5.24.0
    .