JSON-Any v1.40 Perl 5 v5.14.0 i686-linux-64int

Status
Pass
From
Chris Williams (BINGOS)
Dist
JSON-Any v1.40
Platform
Perl 5 v5.14.0 i686-linux-64int
Date
2025-02-21 10:46:40
ID
21fa6a7e-f041-11ef-98b0-b3c3213a625c
This distribution has been tested as part of the CPAN Testers
project, supporting the Perl programming language.  See
http://wiki.cpantesters.org/ for more information or email
questions to cpan-testers-discuss@perl.org


--

Dear Karen Etheridge,

This is a computer-generated error report created automatically by
CPANPLUS, version 0.9914. Testers personal comments may appear
at the end of this report.


Thank you for uploading your work to CPAN.  Congratulations!
All tests were successful.

TEST RESULTS:

Below is the error stack from stage 'make test':

PERL_DL_NONLAZY=1 "/home/cpan/pit/64bit/perl-5.14.0/bin/perl" "-MExtUtils::Command::MM" "-MTest::Harness" "-e" "undef *Test::Harness::Switches; test_harness(0, 'blib/lib', 'blib/arch')" t/*.t
# Testing JSON::Any 1.40, Perl 5.014000, /home/cpan/pit/64bit/perl-5.14.0/bin/perl
t/00-load.t ............ ok
# 
# Versions for all modules listed in MYMETA.json (including optional ones):
# 
# === Configure Requires ===
# 
#     Module                       Want     Have
#     ------------------------ -------- --------
#     CPAN::Meta::Requirements 2.120620    2.131
#     ExtUtils::MakeMaker           any     7.70
#     Module::Metadata              any 1.000037
#     perl                        5.008 5.014000
# 
# === Build Requires ===
# 
#     Module              Want Have
#     ------------------- ---- ----
#     ExtUtils::MakeMaker  any 7.70
# 
# === Test Requires ===
# 
#     Module                 Want     Have
#     --------------------- ----- --------
#     Data::Dumper            any 2.130_02
#     ExtUtils::MakeMaker     any     7.70
#     File::Spec              any     3.75
#     Storable                any     3.25
#     Test::Fatal             any    0.017
#     Test::More             0.88 1.302209
#     Test::Needs             any 0.002010
#     Test::Warnings        0.009    0.038
#     Test::Without::Module   any     0.23
#     open                    any     1.08
#     perl                  5.008 5.014000
#     utf8                    any     1.09
# 
# === Test Recommends ===
# 
#     Module         Want     Have
#     ---------- -------- --------
#     CPAN::Meta 2.120900 2.150010
# 
# === Runtime Requires ===
# 
#     Module    Want     Have
#     -------- ----- --------
#     Carp       any     1.50
#     constant   any     1.21
#     perl     5.008 5.014000
#     strict     any     1.04
#     warnings   any     1.12
# 
# === Other Modules ===
# 
#     Module               Have
#     ---------------- --------
#     Cpanel::JSON::XS     4.39
#     Encode               3.21
#     File::Temp         0.2311
#     JSON              missing
#     JSON::DWIW        missing
#     JSON::MaybeXS    1.004008
#     JSON::PP             4.07
#     JSON::Syck        missing
#     JSON::XS          missing
#     Module::Runtime     0.016
#     Pod::Coverage     missing
#     Sub::Name         missing
#     YAML              missing
#     autodie            2.1001
#     constant             1.21
# 
t/00-report-prereqs.t .. ok
t/01-JSON.t ............ skipped: JSON.pm not installed: Couldn't find a JSON package. Need JSON at (eval 10) line 1.
t/02-JSON-XS.t ......... skipped: JSON::XS not installed: Couldn't find a JSON package. Need JSON::XS at (eval 10) line 1.
t/03-JSON-DWIW.t ....... skipped: JSON::DWIW not installed: Couldn't find a JSON package. Need JSON::DWIW at (eval 10) line 1.
t/04-ENV.t ............. ok
t/05-JSON-Syck.t ....... skipped: JSON::Syck not installed: Couldn't find a JSON package. Need JSON::Syck at (eval 10) line 1.
# Testing JSON::PP backend
t/06-JSON-PP.t ......... ok
# Testing Cpanel::JSON::XS backend
t/07-CPanel-JSON-XS.t .. ok
t/10_unicode.t ......... ok
t/11-string-escape.t ... ok
t/12-boolean.t ......... ok
t/13-no-backends.t ..... ok
t/14-deprecated.t ...... skipped: Need JSON::Syck
All tests successful.
Files=14, Tests=139,  0 wallclock secs ( 0.04 usr  0.01 sys +  0.69 cusr  0.10 csys =  0.84 CPU)
Result: PASS


PREREQUISITES:

Here is a list of prerequisites you specified and versions we
managed to load:

	  Module Name                        Have     Want
	  Carp                               1.50        0
	  Data::Dumper                   2.130_02        0
	  ExtUtils::MakeMaker                7.70        0
	  File::Spec                         3.75        0
	  Storable                           3.25        0
	  Test::Fatal                       0.017        0
	  Test::More                     1.302209     0.88
	  Test::Needs                    0.002010        0
	  Test::Warnings                    0.038    0.009
	  Test::Without::Module              0.23        0
	  constant                           1.21        0
	  open                               1.08        0
	  strict                             1.04        0
	  utf8                               1.09        0
	  warnings                           1.12        0

Perl module toolchain versions installed:
	Module Name                        Have
	CPANPLUS                         0.9914
	CPANPLUS::Dist::Build              0.90
	Cwd                                3.75
	ExtUtils::CBuilder             0.280236
	ExtUtils::Command                  7.70
	ExtUtils::Install                  2.22
	ExtUtils::MakeMaker                7.70
	ExtUtils::Manifest                 1.75
	ExtUtils::ParseXS                  3.51
	File::Spec                         3.75
	Module::Build                    0.4234
	Pod::Parser                        1.37
	Pod::Simple                        3.16
	Test2                          1.302209
	Test::Harness                      3.48
	Test::More                     1.302209
	version                          0.9932

******************************** NOTE ********************************
The comments above are created mechanically, possibly without manual
checking by the sender.  As there are many people performing automatic
tests on each upload to CPAN, it is likely that you will receive
identical messages about the same problem.

If you believe that the message is mistaken, please reply to the first
one with correction and/or additional informations, and do not take
it personally.  We appreciate your patience. :)
**********************************************************************

Additional comments:


This report was machine-generated by CPANPLUS::Dist::YACSmoke 1.08.
Powered by minismokebox version 0.68

CPANPLUS is prefering Build.PL

------------------------------
ENVIRONMENT AND OTHER CONTEXT
------------------------------

Environment variables:

    AUTOMATED_TESTING = 1
    LANG = en_GB.UTF-8
    LANGUAGE = en_GB:en
    NONINTERACTIVE_TESTING = 1
    PATH = /usr/local/bin:/usr/bin:/bin:/usr/local/games:/usr/games
    PERL5LIB = /home/cpan/pit/jail/_CQb4YMoPI/lib/perl5:/home/cpan/pit/64bit/conf/perl-5.14.0/.cpanplus/5.14.0/build/Za8uYoa0CV/JSON-Any-1.40/blib/lib:/home/cpan/pit/64bit/conf/perl-5.14.0/.cpanplus/5.14.0/build/Za8uYoa0CV/JSON-Any-1.40/blib/arch
    PERL5_CPANPLUS_IS_RUNNING = 3724
    PERL5_CPANPLUS_IS_VERSION = 0.9914
    PERL5_MINISMOKEBOX = 0.68
    PERL5_YACSMOKE_BASE = /home/cpan/pit/64bit/conf/perl-5.14.0
    PERL_EXTUTILS_AUTOINSTALL = --defaultdeps
    PERL_LOCAL_LIB_ROOT = /home/cpan/pit/jail/_CQb4YMoPI
    PERL_MB_OPT = --install_base "/home/cpan/pit/jail/_CQb4YMoPI"
    PERL_MM_OPT = INSTALL_BASE=/home/cpan/pit/jail/_CQb4YMoPI
    PERL_MM_USE_DEFAULT = 1
    PERL_USE_UNSAFE_INC = 1
    SHELL = /bin/bash
    TERM = screen.xterm-256color

Perl special variables (and OS-specific diagnostics, for MSWin32):

    Perl: $^X = /home/cpan/pit/64bit/perl-5.14.0/bin/perl
    UID:  $<  = 1001
    EUID: $>  = 1001
    GID:  $(  = 1001 1001
    EGID: $)  = 1001 1001


-------------------------------


--

Summary of my perl5 (revision 5 version 14 subversion 0) configuration:
   
  Platform:
    osname=linux, osvers=5.10.0-12-686, archname=i686-linux-64int
    uname='linux dagobah 5.10.0-12-686 #1 smp debian 5.10.103-1 (2022-03-07) i686 gnulinux '
    config_args='-des -Dprefix=/home/cpan/pit/64bit/perl-5.14.0 -Duse64bitint'
    hint=recommended, useposix=true, d_sigaction=define
    useithreads=undef, usemultiplicity=undef
    useperlio=define, d_sfio=undef, uselargefiles=define, usesocks=undef
    use64bitint=define, use64bitall=undef, uselongdouble=undef
    usemymalloc=n, bincompat5005=undef
  Compiler:
    cc='cc', ccflags ='-fwrapv -fno-strict-aliasing -pipe -fstack-protector -I/usr/local/include -D_LARGEFILE_SOURCE -D_FILE_OFFSET_BITS=64',
    optimize='-O2',
    cppflags='-fwrapv -fno-strict-aliasing -pipe -fstack-protector -I/usr/local/include'
    ccversion='', gccversion='10.2.1 20210110', gccosandvers=''
    intsize=4, longsize=4, ptrsize=4, doublesize=8, byteorder=12345678
    d_longlong=define, longlongsize=8, d_longdbl=define, longdblsize=12
    ivtype='long long', ivsize=8, nvtype='double', nvsize=8, Off_t='off_t', lseeksize=8
    alignbytes=4, prototype=define
  Linker and Libraries:
    ld='cc', ldflags =' -fstack-protector -L/usr/local/lib'
    libpth=/usr/local/lib /lib/i386-linux-gnu /lib/../lib /usr/lib/i386-linux-gnu /usr/lib/../lib /lib /usr/lib /lib64 /usr/lib64
    libs=-lnsl -lgdbm -ldl -lm -lcrypt -lutil -lc
    perllibs=-lnsl -ldl -lm -lcrypt -lutil -lc
    libc=libc-2.31.so, so=so, useshrplib=false, libperl=libperl.a
    gnulibc_version='2.31'
  Dynamic Linking:
    dlsrc=dl_dlopen.xs, dlext=so, d_dlsymun=undef, ccdlflags='-Wl,-E'
    cccdlflags='-fPIC', lddlflags='-shared -O2 -L/usr/local/lib -fstack-protector'


Characteristics of this binary (from libperl): 
  Compile-time options: PERL_DONT_CREATE_GVSV PERL_MALLOC_WRAP
                        PERL_PRESERVE_IVUV USE_64_BIT_INT USE_LARGE_FILES
                        USE_PERLIO USE_PERL_ATOF
  Locally applied patches:
	Devel::PatchPerl 2.08
  Built under linux
  Compiled at Mar 18 2022 18:39:29
  %ENV:
    PERL5LIB="/home/cpan/pit/jail/_CQb4YMoPI/lib/perl5:/home/cpan/pit/64bit/conf/perl-5.14.0/.cpanplus/5.14.0/build/Za8uYoa0CV/JSON-Any-1.40/blib/lib:/home/cpan/pit/64bit/conf/perl-5.14.0/.cpanplus/5.14.0/build/Za8uYoa0CV/JSON-Any-1.40/blib/arch"
    PERL5_CPANPLUS_IS_RUNNING="3724"
    PERL5_CPANPLUS_IS_VERSION="0.9914"
    PERL5_MINISMOKEBOX="0.68"
    PERL5_YACSMOKE_BASE="/home/cpan/pit/64bit/conf/perl-5.14.0"
    PERL_EXTUTILS_AUTOINSTALL="--defaultdeps"
    PERL_LOCAL_LIB_ROOT="/home/cpan/pit/jail/_CQb4YMoPI"
    PERL_MB_OPT="--install_base "/home/cpan/pit/jail/_CQb4YMoPI""
    PERL_MM_OPT="INSTALL_BASE=/home/cpan/pit/jail/_CQb4YMoPI"
    PERL_MM_USE_DEFAULT="1"
    PERL_USE_UNSAFE_INC="1"
  @INC:
    /home/cpan/pit/jail/_CQb4YMoPI/lib/perl5/5.14.0/i686-linux-64int
    /home/cpan/pit/jail/_CQb4YMoPI/lib/perl5/5.14.0
    /home/cpan/pit/jail/_CQb4YMoPI/lib/perl5/i686-linux-64int
    /home/cpan/pit/jail/_CQb4YMoPI/lib/perl5
    /home/cpan/pit/64bit/conf/perl-5.14.0/.cpanplus/5.14.0/build/Za8uYoa0CV/JSON-Any-1.40/blib/lib
    /home/cpan/pit/64bit/conf/perl-5.14.0/.cpanplus/5.14.0/build/Za8uYoa0CV/JSON-Any-1.40/blib/arch
    /home/cpan/pit/64bit/perl-5.14.0/lib/site_perl/5.14.0/i686-linux-64int
    /home/cpan/pit/64bit/perl-5.14.0/lib/site_perl/5.14.0
    /home/cpan/pit/64bit/perl-5.14.0/lib/5.14.0/i686-linux-64int
    /home/cpan/pit/64bit/perl-5.14.0/lib/5.14.0
    .