MooseX-Types v0.51 Perl 5 v5.40.2 darwin-2level

Status
Pass
From
Dagfinn Ilmari Mannsåker
Dist
MooseX-Types v0.51
Platform
Perl 5 v5.40.2 darwin-2level
Date
2025-04-22 17:35:07
ID
21f9c16c-1fa0-11f0-90fc-c70887c906c3
This distribution has been tested as part of the CPAN Testers
project, supporting the Perl programming language.  See
http://wiki.cpantesters.org/ for more information or email
questions to cpan-testers-discuss@perl.org


--
Dear ETHER,

This is a computer-generated report for MooseX-Types-0.51
on perl 5.40.2, created by App::cpanminus::reporter 0.22 (1.7048).

Thank you for uploading your work to CPAN.  Congratulations!
All tests were successful.

Sections of this report:

    * Tester comments
    * Program output
    * Prerequisites
    * Environment and other context

------------------------------
TESTER COMMENTS
------------------------------

Additional comments from tester:

none provided

------------------------------
PROGRAM OUTPUT
------------------------------

Output from '':

Building and testing MooseX-Types-0.51
cp lib/MooseX/Types.pm blib/lib/MooseX/Types.pm
cp lib/MooseX/Types/Combine.pm blib/lib/MooseX/Types/Combine.pm
cp lib/MooseX/Types/Moose.pm blib/lib/MooseX/Types/Moose.pm
cp lib/MooseX/Types/Wrapper.pm blib/lib/MooseX/Types/Wrapper.pm
cp lib/MooseX/Types/Base.pm blib/lib/MooseX/Types/Base.pm
cp lib/MooseX/Types/UndefinedType.pm blib/lib/MooseX/Types/UndefinedType.pm
cp lib/MooseX/Types/Util.pm blib/lib/MooseX/Types/Util.pm
cp lib/MooseX/Types/CheckedUtilExports.pm blib/lib/MooseX/Types/CheckedUtilExports.pm
cp lib/MooseX/Types/TypeDecorator.pm blib/lib/MooseX/Types/TypeDecorator.pm
# 
# Versions for all modules listed in MYMETA.json (including optional ones):
# 
# === Configure Requires ===
# 
#     Module               Want     Have
#     ------------------- ----- --------
#     Module::Build::Tiny 0.034    0.051
#     perl                5.008 5.040002
# 
# === Configure Suggests ===
# 
#     Module      Want Have
#     -------- ------- ----
#     JSON::PP 2.27300 4.16
# 
# === Test Requires ===
# 
#     Module            Want     Have
#     ---------------- ----- --------
#     File::Spec         any     3.91
#     Module::Metadata   any 1.000038
#     Moose::Role        any   2.2207
#     Term::ANSIColor    any     5.01
#     Test::Fatal        any    0.017
#     Test::More        0.88 1.302199
#     Test::Needs        any 0.002010
#     if                 any   0.0610
#     lib                any     0.65
#     perl             5.008 5.040002
# 
# === Test Recommends ===
# 
#     Module         Want     Have
#     ---------- -------- --------
#     CPAN::Meta 2.120900 2.150010
# 
# === Runtime Requires ===
# 
#     Module                                 Want     Have
#     ---------------------------------- -------- --------
#     Carp                                    any     1.54
#     Carp::Clan                             6.00     6.08
#     Exporter                                any     5.78
#     Module::Runtime                         any    0.018
#     Moose                                  1.06   2.2207
#     Moose::Exporter                         any   2.2207
#     Moose::Meta::TypeConstraint::Union      any   2.2207
#     Moose::Util::TypeConstraints            any   2.2207
#     Scalar::Util                           1.19     1.63
#     Sub::Exporter                           any    0.991
#     Sub::Exporter::ForMethods          0.100052 0.100055
#     Sub::Install                            any    0.929
#     Sub::Util                               any     1.63
#     base                                    any     2.27
#     namespace::autoclean                   0.16     0.31
#     overload                                any     1.37
#     parent                                  any    0.241
#     perl                                  5.008 5.040002
#     strict                                  any     1.13
#     warnings                                any     1.70
# 
# === Other Modules ===
# 
#     Module                  Have
#     -------------------- -------
#     Dist::CheckConflicts    0.11
#     Encode                  3.21
#     File::Temp            0.2311
#     JSON::PP                4.16
#     Module::Runtime        0.018
#     Sub::Name            missing
#     YAML                 missing
#     autodie                 2.37
#     namespace::clean        0.27
# 
t/00-report-prereqs.t .............. ok
t/10_moose-types.t ................. ok
t/11_library-definition.t .......... ok
t/12_wrapper-definition.t .......... ok
t/13_typedecorator.t ............... ok
t/14_compatibility-sub-exporter.t .. ok
t/15_recursion.t ................... ok
t/16_introspection.t ............... ok
t/17_syntax_errors.t ............... ok
t/18_combined_libs.t ............... ok
t/19_typelib_with_role.t ........... ok
t/20_union_with_string_type.t ...... ok
t/21_coerce_parameterized_types.t .. ok
t/22_class_type.t .................. ok
t/23_any_subtype.t ................. ok
t/24_class_can_isa.t ............... ok
t/25-fully-qualified.t ............. ok
t/26-multi-combined.t .............. ok
t/regressions/01-is_subtype_of.t ... ok
t/zzz-check-breaks.t ............... ok
All tests successful.
Files=20, Tests=250,  2 wallclock secs ( 0.02 usr  0.02 sys +  1.05 cusr  0.18 csys =  1.27 CPU)
Result: PASS

------------------------------
PREREQUISITES
------------------------------

Prerequisite modules loaded:

    No requirements found

------------------------------
ENVIRONMENT AND OTHER CONTEXT
------------------------------

Environment variables:

    LANG = en_GB.UTF-8
    LC_TERMINAL = iTerm2
    LC_TERMINAL_VERSION = 3.5.13
    PATH = /Users/ilmari/.perlbrew/libs/40.2@std/bin:/Users/ilmari/perl5/perlbrew/bin:/Users/ilmari/perl5/perlbrew/perls/40.2/bin:/Users/ilmari/.volta/bin:/Users/ilmari/.rd/bin:/Users/ilmari/.bun/bin:/Users/ilmari/.volta/bin:/Users/ilmari/.rd/bin:/Users/ilmari/.cargo/bin:/Users/ilmari/.pyenv/shims:/Users/ilmari/.local/bin:/Users/ilmari/go/bin:/opt/homebrew/opt/coreutils/libexec/gnubin:/opt/homebrew/opt/unzip/bin:/opt/homebrew/bin:/opt/homebrew/sbin:/usr/local/bin:/System/Cryptexes/App/usr/bin:/usr/bin:/bin:/usr/sbin:/sbin:/var/run/com.apple.security.cryptexd/codex.system/bootstrap/usr/local/bin:/var/run/com.apple.security.cryptexd/codex.system/bootstrap/usr/bin:/var/run/com.apple.security.cryptexd/codex.system/bootstrap/usr/appleinternal/bin:/usr/local/sbin:/Applications/iTerm.app/Contents/Resources/utilities
    PERL5LIB = /Users/ilmari/.perlbrew/libs/40.2@std/lib/perl5
    PERLBREW_HOME = /Users/ilmari/.perlbrew
    PERLBREW_LIB = std
    PERLBREW_MANPATH = /Users/ilmari/.perlbrew/libs/40.2@std/man:/Users/ilmari/perl5/perlbrew/perls/40.2/man
    PERLBREW_PATH = /Users/ilmari/.perlbrew/libs/40.2@std/bin:/Users/ilmari/perl5/perlbrew/bin:/Users/ilmari/perl5/perlbrew/perls/40.2/bin
    PERLBREW_PERL = 40.2
    PERLBREW_ROOT = /Users/ilmari/perl5/perlbrew
    PERLBREW_SHELLRC_VERSION = 1.00
    PERLBREW_VERSION = 1.00
    PERL_LOCAL_LIB_ROOT = /Users/ilmari/.perlbrew/libs/40.2@std
    PERL_MB_OPT = --install_base /Users/ilmari/.perlbrew/libs/40.2@std
    PERL_MM_OPT = INSTALL_BASE=/Users/ilmari/.perlbrew/libs/40.2@std
    SHELL = /opt/homebrew/bin/bash
    TERM = xterm-256color
    TMPDIR = /var/folders/s3/rjxz_y393b10cp8hdzrtwkdw0000gn/T/

Perl special variables (and OS-specific diagnostics, for MSWin32):

    EGID = 20 20 12 61 79 80 81 98 702 33 100 204 250 395 398 399 400
    EUID = 501
    EXECUTABLE_NAME = /Users/ilmari/perl5/perlbrew/perls/40.2/bin/perl
    GID = 20 20 12 61 79 80 81 98 702 33 100 204 250 395 398 399 400
    UID = 501

Perl module toolchain versions installed:

    Module              Have    
    ------------------- --------
    CPAN                2.36    
    CPAN::Meta          2.150010
    Cwd                 3.91    
    ExtUtils::CBuilder  0.280240
    ExtUtils::Command   7.70    
    ExtUtils::Install   2.22    
    ExtUtils::MakeMaker 7.70    
    ExtUtils::Manifest  1.75    
    ExtUtils::ParseXS   3.51    
    File::Spec          3.91    
    JSON                n/a     
    JSON::PP            4.16    
    Module::Build       0.4234  
    Module::Signature   n/a     
    Parse::CPAN::Meta   2.150010
    Test::Harness       3.48    
    Test::More          1.302199
    YAML                n/a     
    YAML::Syck          n/a     
    version             0.9930  


--

Summary of my perl5 (revision 5 version 40 subversion 2) configuration:
   
  Platform:
    osname=darwin
    osvers=24.4.0
    archname=darwin-2level
    uname='darwin hf-jhk6c61rw9 24.4.0 darwin kernel version 24.4.0: fri apr 11 18:33:47 pdt 2025; root:xnu-11417.101.15~117release_arm64_t6030 arm64 arm darwin '
    config_args='-de -Dprefix=/Users/ilmari/perl5/perlbrew/perls/40.2 -Duseshrplib -Dman1dir=none -Dman3dir=none -Accflags=-DNO_LOCALE_COLLATE -Aeval:scriptdir=/Users/ilmari/perl5/perlbrew/perls/40.2/bin'
    hint=recommended
    useposix=true
    d_sigaction=define
    useithreads=undef
    usemultiplicity=undef
    use64bitint=define
    use64bitall=define
    uselongdouble=undef
    usemymalloc=n
    default_inc_excludes_dot=define
  Compiler:
    cc='cc'
    ccflags ='-fno-common -DPERL_DARWIN -mmacosx-version-min=15.4 -DNO_THREAD_SAFE_QUERYLOCALE -DNO_POSIX_2008_LOCALE -DNO_LOCALE_COLLATE -fno-strict-aliasing -pipe -fstack-protector-strong'
    optimize='-O3'
    cppflags='-fno-common -DPERL_DARWIN -mmacosx-version-min=15.4 -DNO_THREAD_SAFE_QUERYLOCALE -DNO_POSIX_2008_LOCALE -DNO_LOCALE_COLLATE -fno-strict-aliasing -pipe -fstack-protector-strong'
    ccversion=''
    gccversion='Apple LLVM 17.0.0 (clang-1700.0.13.3)'
    gccosandvers=''
    intsize=4
    longsize=8
    ptrsize=8
    doublesize=8
    byteorder=12345678
    doublekind=3
    d_longlong=define
    longlongsize=8
    d_longdbl=define
    longdblsize=8
    longdblkind=0
    ivtype='long'
    ivsize=8
    nvtype='double'
    nvsize=8
    Off_t='off_t'
    lseeksize=8
    alignbytes=8
    prototype=define
  Linker and Libraries:
    ld='cc'
    ldflags =' -mmacosx-version-min=15.4 -fstack-protector-strong'
    libpth=/Library/Developer/CommandLineTools/usr/lib/clang/17/lib /Library/Developer/CommandLineTools/SDKs/MacOSX15.4.sdk/usr/lib /Library/Developer/CommandLineTools/usr/lib /usr/lib
    libs= 
    perllibs=
    libc=
    so=dylib
    useshrplib=true
    libperl=libperl.dylib
    gnulibc_version=''
  Dynamic Linking:
    dlsrc=dl_dlopen.xs
    dlext=bundle
    d_dlsymun=undef
    ccdlflags=' '
    cccdlflags=' '
    lddlflags=' -mmacosx-version-min=15.4 -bundle -undefined dynamic_lookup -fstack-protector-strong'


Characteristics of this binary (from libperl): 
  Compile-time options:
    HAS_LONG_DOUBLE
    HAS_STRTOLD
    HAS_TIMES
    PERLIO_LAYERS
    PERL_COPY_ON_WRITE
    PERL_DONT_CREATE_GVSV
    PERL_HASH_FUNC_SIPHASH13
    PERL_HASH_USE_SBOX32
    PERL_MALLOC_WRAP
    PERL_OP_PARENT
    PERL_PRESERVE_IVUV
    PERL_USE_SAFE_PUTENV
    USE_64_BIT_ALL
    USE_64_BIT_INT
    USE_LARGE_FILES
    USE_LOCALE
    USE_LOCALE_CTYPE
    USE_LOCALE_NUMERIC
    USE_LOCALE_TIME
    USE_PERLIO
    USE_PERL_ATOF
  Built under darwin
  Compiled at Apr 22 2025 17:19:50
  %ENV:
    PERL5LIB="/Users/ilmari/.perlbrew/libs/40.2@std/lib/perl5"
    PERLBREW_HOME="/Users/ilmari/.perlbrew"
    PERLBREW_LIB="std"
    PERLBREW_MANPATH="/Users/ilmari/.perlbrew/libs/40.2@std/man:/Users/ilmari/perl5/perlbrew/perls/40.2/man"
    PERLBREW_PATH="/Users/ilmari/.perlbrew/libs/40.2@std/bin:/Users/ilmari/perl5/perlbrew/bin:/Users/ilmari/perl5/perlbrew/perls/40.2/bin"
    PERLBREW_PERL="40.2"
    PERLBREW_ROOT="/Users/ilmari/perl5/perlbrew"
    PERLBREW_SHELLRC_VERSION="1.00"
    PERLBREW_VERSION="1.00"
    PERL_LOCAL_LIB_ROOT="/Users/ilmari/.perlbrew/libs/40.2@std"
    PERL_MB_OPT="--install_base /Users/ilmari/.perlbrew/libs/40.2@std"
    PERL_MM_OPT="INSTALL_BASE=/Users/ilmari/.perlbrew/libs/40.2@std"
  @INC:
    /Users/ilmari/.perlbrew/libs/40.2@std/lib/perl5/darwin-2level
    /Users/ilmari/.perlbrew/libs/40.2@std/lib/perl5
    /Users/ilmari/perl5/perlbrew/perls/40.2/lib/site_perl/5.40.2/darwin-2level
    /Users/ilmari/perl5/perlbrew/perls/40.2/lib/site_perl/5.40.2
    /Users/ilmari/perl5/perlbrew/perls/40.2/lib/5.40.2/darwin-2level
    /Users/ilmari/perl5/perlbrew/perls/40.2/lib/5.40.2