App-CSVUtils v1.034 Perl 5 v5.22.2 amd64-freebsd
- Status
- Pass
- From
- Slaven Rezić
- Dist
-
App-CSVUtils v1.034
- Platform
- Perl 5 v5.22.2 amd64-freebsd
- Date
- 2024-02-02 05:37:19
- ID
- 21c26be4-c18d-11ee-bc83-4a1b6e8775ea
This distribution has been tested as part of the CPAN Testers
project, supporting the Perl programming language. See
http://wiki.cpantesters.org/ for more information or email
questions to cpan-testers-discuss@perl.org
--
Dear perlancar,
This is a computer-generated report for App-CSVUtils-1.034
on perl 5.22.2, created by CPAN-Reporter-1.2019.
Thank you for uploading your work to CPAN. Congratulations!
All tests were successful.
Sections of this report:
* Tester comments
* Program output
* Prerequisites
* Environment and other context
------------------------------
TESTER COMMENTS
------------------------------
Additional comments from tester:
none provided
------------------------------
PROGRAM OUTPUT
------------------------------
Output from '/usr/bin/make test':
PERL_DL_NONLAZY=1 "/usr/perl5.22.2p/bin/perl" "-MExtUtils::Command::MM" "-MTest::Harness" "-e" "undef *Test::Harness::Switches; test_harness(0, 'blib/lib', 'blib/arch')" t/*.t
t/00-compile.t ........... ok
t/01-basic.t ............. ok
t/author-critic.t ........ skipped: these tests are for testing by the author
t/author-pod-coverage.t .. skipped: these tests are for testing by the author
t/author-pod-syntax.t .... skipped: these tests are for testing by the author
t/release-rinci.t ........ skipped: these tests are for release candidate testing
All tests successful.
Files=6, Tests=146, 2 wallclock secs ( 0.04 usr 0.02 sys + 1.19 cusr 1.00 csys = 2.24 CPU)
Result: PASS
------------------------------
PREREQUISITES
------------------------------
Prerequisite modules loaded:
requires:
Module Need Have
--------------------------------------------------------- -------- --------
Complete::Module 0.263 0.263
Complete::Util 0.620 0.620
Cwd 0 3.75
Data::Cmp 0.002 0.010
Data::Dmp 0.242 0.242
Data::Sah 0.914 0.914
Data::Sah::Compiler::perl::TH::any 0.914 0.914
Data::Sah::Compiler::perl::TH::array 0.914 0.914
Data::Sah::Compiler::perl::TH::bool 0.914 0.914
Data::Sah::Compiler::perl::TH::code 0.914 0.914
Data::Sah::Compiler::perl::TH::hash 0.914 0.914
Data::Sah::Compiler::perl::TH::int 0.914 0.914
Data::Sah::Compiler::perl::TH::re 0.914 0.914
Data::Sah::Compiler::perl::TH::str 0.914 0.914
Data::Sah::Filter::perl::Path::expand_tilde_when_on_unix 0 0.025
Data::Sah::Filter::perl::Path::strip_slashes_when_on_unix 0 0.025
Data::Sah::Filter::perl::Re::re_from_str 0 0.001
Data::Sah::Filter::perl::Str::maybe_convert_to_re 0 0.016
Data::Sah::Filter::perl::Str::maybe_eval 0 0.016
Exporter 5.57 5.77
File::Slurper::Dash 0 0.001
Getopt::Long 2.50 2.55
List::Util 1.54 1.63
Log::ger 0.038 0.038
Module::List::Tiny 0 0.004002
Number::Util::Range 0.005 0.006
Perinci::CmdLine::Any 0.154 0.154
Perinci::CmdLine::Lite 1.924 1.929
Perinci::Sub::Gen::AccessTable 0.592 0.593
Perinci::Sub::Util 0.472 0.472
Perinci::Sub::XCompletion::filename 0 0.106
Perinci::Sub::XCompletion::sortsub_spec 0 0.003
perl 5.010001 5.022002
Sah::Schema::filename 0 0.025
Sah::Schema::posint 0 0.075
Sah::Schema::re_from_str 0 0.003
Sah::Schema::str_or_re_or_code 0 0.016
Sah::Schema::true 0 0.002
Sah::Schema::uint 0 0.075
Scalar::Util::Numeric 0 0.40
Sort::ByExample 0 0.008
Sort::BySpec 0.03 0.040
strict 0 1.09
String::Pad 0.021 0.021
Text::CSV_XS 0 1.53
Text::CSV_XS::TSV 0 0.003
Text::Wrap::NoStrip 0.002 0.003
Tie::IxHash 0 1.23
warnings 0 1.34
build_requires:
Module Need Have
--------------------------------------------------------- -------- --------
Capture::Tiny 0 0.48
ExtUtils::MakeMaker 0 7.70
File::Slurper 0 0.012
File::Spec 0 3.75
File::Temp 0.2307 0.2311
IO::Handle 0 1.55
IPC::Open3 0 1.18
Test::Exception 0 0.43
Test::More 0.98 1.302198
Test::Needs 0 0.002010
configure_requires:
Module Need Have
--------------------------------------------------------- -------- --------
ExtUtils::MakeMaker 0 7.70
------------------------------
ENVIRONMENT AND OTHER CONTEXT
------------------------------
Environment variables:
LC_ALL = de_DE.ISO8859-1
PATH = /usr/local/bin:/usr/bin:/bin:/usr/local/sbin:/usr/sbin:/sbin:/home/cpansand/bin/freebsd10.3:/home/cpansand/bin/sh:/home/cpansand/bin:/usr/games:/home/cpansand/devel:/home/eserte/src/srezic-misc/scripts
PERL5LIB = /home/cpansand/.cpan/build/2024020206/Complete-Util-0.620-8/blib/arch:/home/cpansand/.cpan/build/2024020206/Complete-Util-0.620-8/blib/lib
PERL5OPT =
PERL5_CPANPLUS_IS_RUNNING = 33706
PERL5_CPAN_IS_RUNNING = 33706
PERL5_CPAN_IS_RUNNING_IN_RECURSION = 28771,33706
PERLDOC = -MPod::Perldoc::ToTextOverstrike
PERL_BATCH = yes
PERL_CANARY_STABILITY_NOPROMPT = 1
PERL_CPAN_REPORTER_CONFIG = /var/tmp/cpansmoker-1023/2024020206/cpanreporter_000_config.ini
PERL_EXTUTILS_AUTOINSTALL = --defaultdeps
PERL_USE_UNSAFE_INC = 1
SHELL = /usr/local/bin/zsh
TERM = screen
TMPDIR = /var/tmp/cpansmoker-1023/2024020206
Perl special variables (and OS-specific diagnostics, for MSWin32):
$^X = /usr/perl5.22.2p/bin/perl
$UID/$EUID = 1023 / 1023
$GID = 1023 1023
$EGID = 1023 1023
Perl module toolchain versions installed:
Module Have
------------------- --------
CPAN 2.34
CPAN::Meta 2.150010
Cwd 3.75
ExtUtils::CBuilder 0.280236
ExtUtils::Command 7.70
ExtUtils::Install 2.22
ExtUtils::MakeMaker 7.70
ExtUtils::Manifest 1.75
ExtUtils::ParseXS 3.51
File::Spec 3.75
JSON 4.10
JSON::PP 4.16
Module::Build 0.4234
Module::Signature 0.87
Parse::CPAN::Meta 2.150010
Test2 1.302198
Test::Harness 3.47
Test::More 1.302198
YAML 1.30
YAML::Syck 1.34
version 0.9930
--
Summary of my perl5 (revision 5 version 22 subversion 2) configuration:
Platform:
osname=freebsd, osvers=10.1-release, archname=amd64-freebsd
uname='freebsd cvrsnica-freebsd-101.herceg.de 10.1-release freebsd 10.1-release #0 r274401: tue nov 11 21:02:49 utc 2014 root@releng1.nyi.freebsd.org:usrobjusrsrcsysgeneric amd64 '
config_args='-ds -e -Dprefix=/usr/perl5.22.2p -Dcf_email=srezic@cpan.org -Doptimize=-O2 -pipe'
hint=recommended, useposix=true, d_sigaction=define
useithreads=undef, usemultiplicity=undef
use64bitint=define, use64bitall=define, uselongdouble=undef
usemymalloc=n, bincompat5005=undef
Compiler:
cc='cc', ccflags ='-DHAS_FPSETMASK -DHAS_FLOATINGPOINT_H -fno-strict-aliasing -pipe -fstack-protector -I/usr/local/include -D_FORTIFY_SOURCE=2',
optimize='-O2 -pipe',
cppflags='-DHAS_FPSETMASK -DHAS_FLOATINGPOINT_H -fno-strict-aliasing -pipe -fstack-protector -I/usr/local/include'
ccversion='', gccversion='4.2.1 Compatible FreeBSD Clang 3.4.1 (tags/RELEASE_34/dot1-final 208032)', gccosandvers=''
intsize=4, longsize=8, ptrsize=8, doublesize=8, byteorder=12345678, doublekind=3
d_longlong=define, longlongsize=8, d_longdbl=define, longdblsize=16, longdblkind=3
ivtype='long', ivsize=8, nvtype='double', nvsize=8, Off_t='off_t', lseeksize=8
alignbytes=8, prototype=define
Linker and Libraries:
ld='cc', ldflags ='-pthread -Wl,-E -fstack-protector -L/usr/local/lib'
libpth=/usr/lib /usr/local/lib /usr/include/clang/3.4.1 /usr/lib
libs=-lpthread -lgdbm -lm -lcrypt -lutil -lc
perllibs=-lpthread -lm -lcrypt -lutil -lc
libc=, so=so, useshrplib=false, libperl=libperl.a
gnulibc_version=''
Dynamic Linking:
dlsrc=dl_dlopen.xs, dlext=so, d_dlsymun=undef, ccdlflags=' '
cccdlflags='-DPIC -fPIC', lddlflags='-shared -L/usr/local/lib -fstack-protector'
Characteristics of this binary (from libperl):
Compile-time options: HAS_TIMES PERLIO_LAYERS PERL_DONT_CREATE_GVSV
PERL_HASH_FUNC_ONE_AT_A_TIME_HARD PERL_MALLOC_WRAP
PERL_NEW_COPY_ON_WRITE PERL_PRESERVE_IVUV
USE_64_BIT_ALL USE_64_BIT_INT USE_LARGE_FILES
USE_LOCALE USE_LOCALE_COLLATE USE_LOCALE_CTYPE
USE_LOCALE_NUMERIC USE_LOCALE_TIME USE_PERLIO
USE_PERL_ATOF
Built under freebsd
Compiled at May 29 2016 23:34:36
%ENV:
PERL5LIB="/home/cpansand/.cpan/build/2024020206/Complete-Util-0.620-8/blib/arch:/home/cpansand/.cpan/build/2024020206/Complete-Util-0.620-8/blib/lib"
PERL5OPT=""
PERL5_CPANPLUS_IS_RUNNING="33706"
PERL5_CPAN_IS_RUNNING="33706"
PERL5_CPAN_IS_RUNNING_IN_RECURSION="28771,33706"
PERLDOC="-MPod::Perldoc::ToTextOverstrike"
PERL_BATCH="yes"
PERL_CANARY_STABILITY_NOPROMPT="1"
PERL_CPAN_REPORTER_CONFIG="/var/tmp/cpansmoker-1023/2024020206/cpanreporter_000_config.ini"
PERL_EXTUTILS_AUTOINSTALL="--defaultdeps"
PERL_USE_UNSAFE_INC="1"
@INC:
/home/cpansand/.cpan/build/2024020206/Complete-Util-0.620-8/blib/arch
/home/cpansand/.cpan/build/2024020206/Complete-Util-0.620-8/blib/lib
/usr/perl5.22.2p/lib/site_perl/5.22.2/amd64-freebsd
/usr/perl5.22.2p/lib/site_perl/5.22.2
/usr/perl5.22.2p/lib/5.22.2/amd64-freebsd
/usr/perl5.22.2p/lib/5.22.2
.