Report for AutoLoader-5.74

Back
From: metabase:user:322078bc-2aae-11df-837a-5e0a49663a4f
Subject: PASS AutoLoader-5.74 v5.18.1 Windows (Cygwin)
Date: 2013-11-10T22:33:33Z

This distribution has been tested as part of the CPAN Testers
project, supporting the Perl programming language.  See
http://wiki.cpantesters.org/ for more information or email
questions to cpan-testers-discuss@perl.org


--

Dear Steffen Mueller,

This is a computer-generated error report created automatically by
CPANPLUS, version 0.9142. Testers personal comments may appear
at the end of this report.


Thank you for uploading your work to CPAN.  Congratulations!
All tests were successful.

TEST RESULTS:

Below is the error stack from stage 'make test':

PERL_DL_NONLAZY=1 /opt/perl-5.18.1/bin/perl.exe "-MExtUtils::Command::MM" "-e" "test_harness(0, 'blib/lib', 'blib/arch')" t/*.t
t/00pod.t ......... skipped: Test::Pod 1.00 required for testing POD
t/01AutoLoader.t .. ok
t/02AutoSplit.t ... ok
All tests successful.
Files=3, Tests=79, 17 wallclock secs ( 0.03 usr  0.00 sys +  0.52 cusr  0.58 csys =  1.14 CPU)
Result: PASS


PREREQUISITES:

Here is a list of prerequisites you specified and versions we
managed to load:

	  Module Name                        Have     Want
	  ExtUtils::MakeMaker                6.66        0

Perl module toolchain versions installed:
	Module Name                        Have
	CPANPLUS                         0.9142
	CPANPLUS::Dist::Build              0.74
	Cwd                                3.40
	ExtUtils::CBuilder             0.280210
	ExtUtils::Command                  1.17
	ExtUtils::Install                  1.59
	ExtUtils::MakeMaker                6.66
	ExtUtils::Manifest                 1.63
	ExtUtils::ParseXS                  3.18
	File::Spec                         3.40
	Module::Build                    0.4003
	Pod::Parser                        1.60
	Pod::Simple                        3.28
	Test::Harness                      3.29
	Test::More                         0.98
	version                          0.9902

******************************** NOTE ********************************
The comments above are created mechanically, possibly without manual
checking by the sender.  As there are many people performing automatic
tests on each upload to CPAN, it is likely that you will receive
identical messages about the same problem.

If you believe that the message is mistaken, please reply to the first
one with correction and/or additional informations, and do not take
it personally.  We appreciate your patience. :)
**********************************************************************

Additional comments:


This report was machine-generated by CPANPLUS::Dist::YACSmoke 0.90.

------------------------------
ENVIRONMENT AND OTHER CONTEXT
------------------------------

Environment variables:

    AUTOMATED_TESTING = 1
    COMSPEC = C:\Windows\system32\cmd.exe
    LANG = en_US.UTF-8
    NUMBER_OF_PROCESSORS = 4
    PATH = /usr/local/bin:/usr/bin:/cygdrive/c/Windows/system32:/cygdrive/c/Windows:/cygdrive/c/Windows/System32/Wbem:/cygdrive/c/Windows/System32/WindowsPowerShell/v1.0:/cygdrive/c/Program Files (x86)/ATI Technologies/ATI.ACE/Core-Static:/usr/lib/lapack
    PERL5LIB = :/opt/perl-5.18.1/.cpanplus/5.18.1/build/AutoLoader-5.74/blib/lib:/opt/perl-5.18.1/.cpanplus/5.18.1/build/AutoLoader-5.74/blib/arch
    PERL5_CPANIDX_URL = http://cpan.mirror.local/cpanidx/
    PERL5_CPANPLUS_IS_RUNNING = 512
    PERL5_CPANPLUS_IS_VERSION = 0.9142
    PERL_EXTUTILS_AUTOINSTALL = --defaultdeps
    PERL_MM_USE_DEFAULT = 1
    PROCESSOR_IDENTIFIER = AMD64 Family 18 Model 1 Stepping 0, AuthenticAMD
    SHELL = /bin/bash
    TERM = xterm

Perl special variables (and OS-specific diagnostics, for MSWin32):

    Perl: $^X = /opt/perl-5.18.1/bin/perl
    UID:  $<  = 1000
    EUID: $>  = 1000
    GID:  $(  = 513 545 1001 513
    EGID: $)  = 513 545 1001 513


-------------------------------


--

Summary of my perl5 (revision 5 version 18 subversion 1) configuration:
   
  Platform:
    osname=cygwin, osvers=1.7.25(0.27053), archname=cygwin-thread-multi
    uname='cygwin_nt-6.1 azkaban 1.7.25(0.27053) 2013-08-31 20:37 x86_64 cygwin '
    config_args='-des -Dprefix=/opt/perl-5.18.1 -Dusethreads -Darchname=x86_64-cygwin-threads'
    hint=recommended, useposix=true, d_sigaction=define
    useithreads=define, usemultiplicity=define
    useperlio=define, d_sfio=undef, uselargefiles=define, usesocks=undef
    use64bitint=define, use64bitall=define, uselongdouble=undef
    usemymalloc=n, bincompat5005=undef
  Compiler:
    cc='gcc', ccflags ='-DPERL_USE_SAFE_PUTENV -U__STRICT_ANSI__ -fno-strict-aliasing -pipe -fstack-protector',
    optimize='-O3',
    cppflags='-DPERL_USE_SAFE_PUTENV -U__STRICT_ANSI__ -fno-strict-aliasing -pipe -fstack-protector'
    ccversion='', gccversion='4.8.2', gccosandvers=''
    intsize=4, longsize=8, ptrsize=8, doublesize=8, byteorder=12345678
    d_longlong=define, longlongsize=8, d_longdbl=define, longdblsize=16
    ivtype='long', ivsize=8, nvtype='double', nvsize=8, Off_t='off_t', lseeksize=8
    alignbytes=8, prototype=define
  Linker and Libraries:
    ld='g++', ldflags =' -Wl,--enable-auto-import -Wl,--export-all-symbols -Wl,--enable-auto-image-base -fstack-protector -L/usr/local/lib'
    libpth=/usr/local/lib /usr/lib /lib
    libs=-ldb -ldl -lcrypt
    perllibs=-ldl -lcrypt
    libc=/usr/lib/libc.a, so=dll, useshrplib=true, libperl=cygperl5_18_1.dll
    gnulibc_version=''
  Dynamic Linking:
    dlsrc=dl_dlopen.xs, dlext=dll, d_dlsymun=undef, ccdlflags=' '
    cccdlflags=' ', lddlflags=' --shared  -Wl,--enable-auto-import -Wl,--export-all-symbols -Wl,--enable-auto-image-base -L/usr/local/lib -fstack-protector'


Characteristics of this binary (from libperl): 
  Compile-time options: HAS_TIMES MULTIPLICITY PERLIO_LAYERS
                        PERL_DONT_CREATE_GVSV
                        PERL_HASH_FUNC_ONE_AT_A_TIME_HARD
                        PERL_IMPLICIT_CONTEXT PERL_PRESERVE_IVUV
                        PERL_SAWAMPERSAND PERL_USE_SAFE_PUTENV USE_64_BIT_ALL
                        USE_64_BIT_INT USE_ITHREADS USE_LARGE_FILES
                        USE_LOCALE USE_LOCALE_COLLATE USE_LOCALE_CTYPE
                        USE_LOCALE_NUMERIC USE_PERLIO USE_PERL_ATOF
                        USE_REENTRANT_API
  Built under cygwin
  Compiled at Nov 10 2013 22:15:37
  %ENV:
    PERL5LIB=":/opt/perl-5.18.1/.cpanplus/5.18.1/build/AutoLoader-5.74/blib/lib:/opt/perl-5.18.1/.cpanplus/5.18.1/build/AutoLoader-5.74/blib/arch"
    PERL5_CPANIDX_URL="http://cpan.mirror.local/cpanidx/"
    PERL5_CPANPLUS_IS_RUNNING="512"
    PERL5_CPANPLUS_IS_VERSION="0.9142"
    PERL_EXTUTILS_AUTOINSTALL="--defaultdeps"
    PERL_MM_USE_DEFAULT="1"
  @INC:
    /opt/perl-5.18.1/.cpanplus/5.18.1/build/AutoLoader-5.74/blib/lib
    /opt/perl-5.18.1/.cpanplus/5.18.1/build/AutoLoader-5.74/blib/arch
    /opt/perl-5.18.1/lib/site_perl/5.18.1/cygwin-thread-multi
    /opt/perl-5.18.1/lib/site_perl/5.18.1
    /opt/perl-5.18.1/lib/5.18.1/cygwin-thread-multi
    /opt/perl-5.18.1/lib/5.18.1
    .