Report for Dancer2-Plugin-Interchange6-0.203

Back
From: metabase:user:314402c4-2aae-11df-837a-5e0a49663a4f
Subject: PASS Dancer2-Plugin-Interchange6-0.203 v5.22.4 RC1 FreeBSD
Date: 2017-07-07T23:51:01Z

This distribution has been tested as part of the CPAN Testers
project, supporting the Perl programming language.  See
http://wiki.cpantesters.org/ for more information or email
questions to cpan-testers-discuss@perl.org


--
Dear Peter Mottram,

This is a computer-generated report for Dancer2-Plugin-Interchange6-0.203
on perl 5.22.4, created by CPAN-Reporter-1.2018.

Thank you for uploading your work to CPAN.  Congratulations!
All tests were successful.

Sections of this report:

    * Tester comments
    * Program output
    * Prerequisites
    * Environment and other context

------------------------------
TESTER COMMENTS
------------------------------

Additional comments from tester:

none provided

------------------------------
PROGRAM OUTPUT
------------------------------

Output from '/usr/bin/make test':

PERL_DL_NONLAZY=1 "/usr/perl5.22.4-RC1p/bin/perl" "-MExtUtils::Command::MM" "-MTest::Harness" "-e" "undef *Test::Harness::Switches; test_harness(0, 'blib/lib', 'blib/arch')" t/00-load.t t/d2pci6_bop.t t/disabled_cart_and_checkout.t t/manifest.t t/pod-coverage.t t/pod.t t/test_mysql.t t/test_postgresql.t t/test_sqlite.t
# Testing Dancer2::Plugin::Interchange6 0.203, Perl 5.022004, /usr/perl5.22.4-RC1p/bin/perl
t/00-load.t ..................... ok
t/d2pci6_bop.t .................. ok
Dancer2::Plugin::Interchange6::Routes: Maximum number of navigation records is zero.
t/disabled_cart_and_checkout.t .. skipped: Author tests not required for installation
t/manifest.t .................... skipped: Author tests not required for installation
t/pod-coverage.t ................ skipped: Author tests not required for installation
t/pod.t ......................... skipped: Author tests not required for installation
t/test_mysql.t .................. skipped: DBD::mysql required to run these tests
t/test_postgresql.t ............. skipped: DateTime::Format::Pg required to run these tests
# Deploy
# Test::Cart
    # Test::DSL
# Test::Hooks
# Test::Routes
# Test::Shop
t/test_sqlite.t ................. ok
All tests successful.
Files=9, Tests=202, 122 wallclock secs ( 0.39 usr  0.09 sys + 117.45 cusr  3.29 csys = 121.22 CPU)
Result: PASS

------------------------------
PREREQUISITES
------------------------------

Prerequisite modules loaded:

requires:

    Module                                            Need     Have    
    ------------------------------------------------- -------- --------
    Business::OnlinePayment                           3.02     3.04    
    Dancer2                                           0.200000 0.205000
    Dancer2::Plugin::Auth::Extensible                 0.600    0.704   
    Dancer2::Plugin::Auth::Extensible::Provider::DBIC 0.600    0.623   
    Dancer2::Plugin::DBIC                             0.0013   0.0013  
    Dancer2::Session::DBIC                            0.102    0.110   
    Interchange6                                      0.120    0.120   
    Interchange6::Schema                              0.110    0.133   
    JSON::MaybeXS                                     1.003003 1.003009
    Module::Runtime                                   0        0.014   
    MooseX::CoverableModifiers                        0        0.30    
    namespace::clean                                  0        0.27    
    Net::HTTPS::Any                                   0.11     0.12    
    perl                                              5.010000 5.022004
    Scalar::Util                                      0        1.48    
    YAML                                              0        1.23    

build_requires:

    Module                                            Need     Have    
    ------------------------------------------------- -------- --------
    File::Temp                                        0        0.2304  
    Module::Find                                      0        0.13    
    Test::Deep                                        0        1.127   
    Test::Exception                                   0        0.43    
    Test::More                                        0.94     1.302086
    Test::WWW::Mechanize::PSGI                        0.35     0.37    

configure_requires:

    Module                                            Need     Have    
    ------------------------------------------------- -------- --------
    ExtUtils::MakeMaker                               0        7.30    


------------------------------
ENVIRONMENT AND OTHER CONTEXT
------------------------------

Environment variables:

    LC_ALL = de_DE.UTF-8
    PATH = /usr/local/bin:/usr/bin:/bin:/usr/local/sbin:/usr/sbin:/sbin:/home/e/eserte/bin/freebsd9.1:/home/e/eserte/bin/sh:/home/e/eserte/bin:/home/e/eserte/bin/pistachio-perl/bin:/usr/games:/home/e/eserte/devel:/home/e/eserte/src/srezic-misc/scripts
    PERL = /usr/perl5.22.4-RC1p/bin/perl
    PERL5LIB = 
    PERL5OPT = 
    PERL5_CPANPLUS_IS_RUNNING = 92246
    PERL5_CPAN_IS_RUNNING = 92246
    PERL5_CPAN_IS_RUNNING_IN_RECURSION = 92168,92246
    PERLDOC = -MPod::Perldoc::ToTextOverstrike
    PERL_BATCH = yes
    PERL_CANARY_STABILITY_NOPROMPT = 1
    PERL_CPAN_REPORTER_CONFIG = /var/tmp/cpansmoker-1000/2017070721/cpanreporter_000_config.ini
    PERL_EXTUTILS_AUTOINSTALL = --defaultdeps
    SHELL = /usr/local/bin/zsh
    TERM = screen
    TMPDIR = /var/tmp/cpansmoker-1000/2017070721

Perl special variables (and OS-specific diagnostics, for MSWin32):

    $^X = /usr/perl5.22.4-RC1p/bin/perl
    $UID/$EUID = 1000 / 1000
    $GID = 1000 1000 0 5 1023 1024
    $EGID = 1000 1000 0 5 1023 1024

Perl module toolchain versions installed:

    Module              Have      
    ------------------- ----------
    CPAN                2.11_01   
    CPAN::Meta          2.150001  
    Cwd                 3.56_02   
    ExtUtils::CBuilder  0.280221  
    ExtUtils::Command   7.30      
    ExtUtils::Install   2.06      
    ExtUtils::MakeMaker 7.30      
    ExtUtils::Manifest  1.70      
    ExtUtils::ParseXS   3.28      
    File::Spec          3.56_02   
    JSON                2.94      
    JSON::PP            2.27300_01
    Module::Build       0.4224    
    Module::Signature   n/a       
    Parse::CPAN::Meta   1.4414_001
    Test::Harness       3.35_01   
    Test::More          1.302086  
    YAML                1.23      
    YAML::Syck          1.30      
    version             0.9909    


--

Summary of my perl5 (revision 5 version 22 subversion 4) configuration:
   
  Platform:
    osname=freebsd, osvers=9.2-release, archname=amd64-freebsd
    uname='freebsd cvrsnica.herceg.de 9.2-release freebsd 9.2-release #0 r255898: thu sep 26 22:50:31 utc 2013 root@bake.isc.freebsd.org:usrobjusrsrcsysgeneric amd64 '
    config_args='-ds -e -Dprefix=/usr/perl5.22.4-RC1p -Dcf_email=srezic@cpan.org -Doptimize=-O2 -pipe'
    hint=recommended, useposix=true, d_sigaction=define
    useithreads=undef, usemultiplicity=undef
    use64bitint=define, use64bitall=define, uselongdouble=undef
    usemymalloc=n, bincompat5005=undef
  Compiler:
    cc='cc', ccflags ='-DHAS_FPSETMASK -DHAS_FLOATINGPOINT_H -fno-strict-aliasing -pipe -fstack-protector -I/usr/local/include -D_FORTIFY_SOURCE=2',
    optimize='-O2 -pipe',
    cppflags='-DHAS_FPSETMASK -DHAS_FLOATINGPOINT_H -fno-strict-aliasing -pipe -fstack-protector -I/usr/local/include'
    ccversion='', gccversion='4.2.1 20070831 patched [FreeBSD]', gccosandvers=''
    intsize=4, longsize=8, ptrsize=8, doublesize=8, byteorder=12345678, doublekind=3
    d_longlong=define, longlongsize=8, d_longdbl=define, longdblsize=16, longdblkind=3
    ivtype='long', ivsize=8, nvtype='double', nvsize=8, Off_t='off_t', lseeksize=8
    alignbytes=8, prototype=define
  Linker and Libraries:
    ld='cc', ldflags ='-pthread -Wl,-E  -fstack-protector -L/usr/local/lib'
    libpth=/usr/lib /usr/local/lib /usr/include/gcc/4.2 /usr/lib
    libs=-lpthread -lgdbm -lm -lcrypt -lutil -lc
    perllibs=-lpthread -lm -lcrypt -lutil -lc
    libc=, so=so, useshrplib=false, libperl=libperl.a
    gnulibc_version=''
  Dynamic Linking:
    dlsrc=dl_dlopen.xs, dlext=so, d_dlsymun=undef, ccdlflags=' '
    cccdlflags='-DPIC -fPIC', lddlflags='-shared  -L/usr/local/lib -fstack-protector'


Characteristics of this binary (from libperl): 
  Compile-time options: HAS_TIMES PERLIO_LAYERS PERL_DONT_CREATE_GVSV
                        PERL_HASH_FUNC_ONE_AT_A_TIME_HARD PERL_MALLOC_WRAP
                        PERL_NEW_COPY_ON_WRITE PERL_PRESERVE_IVUV
                        USE_64_BIT_ALL USE_64_BIT_INT USE_LARGE_FILES
                        USE_LOCALE USE_LOCALE_COLLATE USE_LOCALE_CTYPE
                        USE_LOCALE_NUMERIC USE_LOCALE_TIME USE_PERLIO
                        USE_PERL_ATOF
  Locally applied patches:
	RC1
  Built under freebsd
  Compiled at Jul  3 2017 23:01:47
  %ENV:
    PERL="/usr/perl5.22.4-RC1p/bin/perl"
    PERL5LIB=""
    PERL5OPT=""
    PERL5_CPANPLUS_IS_RUNNING="92246"
    PERL5_CPAN_IS_RUNNING="92246"
    PERL5_CPAN_IS_RUNNING_IN_RECURSION="92168,92246"
    PERLDOC="-MPod::Perldoc::ToTextOverstrike"
    PERL_BATCH="yes"
    PERL_CANARY_STABILITY_NOPROMPT="1"
    PERL_CPAN_REPORTER_CONFIG="/var/tmp/cpansmoker-1000/2017070721/cpanreporter_000_config.ini"
    PERL_EXTUTILS_AUTOINSTALL="--defaultdeps"
  @INC:
    /usr/perl5.22.4-RC1p/lib/site_perl/5.22.4/amd64-freebsd
    /usr/perl5.22.4-RC1p/lib/site_perl/5.22.4
    /usr/perl5.22.4-RC1p/lib/5.22.4/amd64-freebsd
    /usr/perl5.22.4-RC1p/lib/5.22.4
    .