IO-Iron v0.13 Perl 5 v5.37.4 x86_64-linux-thread-multi-ld

Status
Pass
From
Andreas J. König (ANDK)
Dist
IO-Iron v0.13
Platform
Perl 5 v5.37.4 x86_64-linux-thread-multi-ld
Date
2022-10-12 21:09:16
ID
2160583e-4a72-11ed-bc84-5a02bd55df6e
This distribution has been tested as part of the CPAN Testers
project, supporting the Perl programming language.  See
http://wiki.cpantesters.org/ for more information or email
questions to cpan-testers-discuss@perl.org


--
Dear Mikko Koivunalho,

This is a computer-generated report for IO-Iron-0.13
on perl 5.37.4, created by CPAN-Reporter-1.2018.

Thank you for uploading your work to CPAN.  Congratulations!
All tests were successful.

Sections of this report:

    * Tester comments
    * Program output
    * Prerequisites
    * Environment and other context

------------------------------
TESTER COMMENTS
------------------------------

Additional comments from tester:

this report is from an automated smoke testing program
and was not reviewed by a human for accuracy

------------------------------
PROGRAM OUTPUT
------------------------------

Output from '/usr/bin/make test':

PERL_DL_NONLAZY=1 "/tmp/basesmoker-reloperl-kHob/bin/perl" "-MExtUtils::Command::MM" "-MTest::Harness" "-e" "undef *Test::Harness::Switches; test_harness(0, 'blib/lib', 'blib/arch')" t/*.t t/Iron/*.t t/IronCache/*.t t/IronMQ/*.t t/IronWorker/*.t
# 
# Versions for all modules listed in MYMETA.json (including optional ones):
# 
# === Configure Requires ===
# 
#     Module              Want Have
#     ------------------- ---- ----
#     ExtUtils::MakeMaker  any 7.64
# 
# === Build Requires ===
# 
#     Module              Want Have
#     ------------------- ---- ----
#     ExtUtils::MakeMaker  any 7.64
# 
# === Test Requires ===
# 
#     Module              Want     Have
#     ------------------- ---- --------
#     Data::Dumper         any    2.186
#     ExtUtils::MakeMaker  any     7.64
#     File::Copy           any     2.40
#     File::Remove         any     1.61
#     File::Spec           any     3.87
#     Log::Any::Test       any    1.710
#     Test::Exception      any     0.43
#     Test::More           any 1.302191
#     lib                  any     0.65
# 
# === Test Recommends ===
# 
#     Module         Want     Have
#     ---------- -------- --------
#     CPAN::Meta 2.120900 2.150010
# 
# === Runtime Requires ===
# 
#     Module             Want     Have
#     ------------------ ---- --------
#     Carp                any     1.54
#     Carp::Assert        any     0.21
#     Carp::Assert::More  any    2.1.0
#     Const::Fast         any    0.014
#     Data::UUID          any    1.226
#     English             any     1.11
#     Exception::Class    any     1.45
#     Exporter            any     5.77
#     File::HomeDir       any    1.006
#     File::Spec          any     3.87
#     Hash::Util         0.06     0.30
#     JSON::MaybeXS       any 1.004004
#     Log::Any            any    1.710
#     Params::Validate    any     1.30
#     Path::Tiny          any    0.124
#     REST::Client        any      281
#     Scalar::Util        any     1.63
#     Try::Tiny           any     0.31
#     URI::Escape         any     5.15
#     parent              any    0.238
#     strict              any     1.12
#     warnings            any     1.58
# 
t/00-report-prereqs.t ........ ok
# Testing IO::Iron::IronWorker::Client (0.13), Perl 5.037004, /tmp/basesmoker-reloperl-kHob/bin/perl
# test ReadIronMQConfig
# Current dir config filename: ./iron.json
# Extra config filename: t/.IronMQTestConfig.json
t/Iron/client_readconfig.t ... ok
# Testing IO::Iron::Common (0.13), Perl 5.037004, /tmp/basesmoker-reloperl-kHob/bin/perl
t/Iron/common.t .............. ok
# Testing IO::Iron (0.13), Perl 5.037004, /tmp/basesmoker-reloperl-kHob/bin/perl
t/Iron/load.t ................ ok
# Testing IO::Iron::IronCache::Client (0.13) with policies, Perl 5.037004, /tmp/basesmoker-reloperl-kHob/bin/perl
t/IronCache/cache_policy.t ... ok
# Testing IO::Iron::IronCache::Client (0.13), Perl 5.037004, /tmp/basesmoker-reloperl-kHob/bin/perl
t/IronCache/cache_policy2.t .. ok
# Testing IO::Iron::IronCache::Client (0.13), Perl 5.037004, /tmp/basesmoker-reloperl-kHob/bin/perl
t/IronCache/load.t ........... ok
# Testing IO::Iron::IronMQ::Client (0.13), Perl 5.037004, /tmp/basesmoker-reloperl-kHob/bin/perl
t/IronMQ/load.t .............. ok
# Testing IO::Iron::IronCache::Client (0.13), Perl 5.037004, /tmp/basesmoker-reloperl-kHob/bin/perl
t/IronWorker/load.t .......... ok
All tests successful.
Files=9, Tests=104,  1 wallclock secs ( 0.05 usr  0.01 sys +  1.38 cusr  0.19 csys =  1.63 CPU)
Result: PASS

------------------------------
PREREQUISITES
------------------------------

Prerequisite modules loaded:

requires:

    Module              Need      Have    
    ------------------- --------- --------
    Carp                0         1.54    
    Carp::Assert        0         0.21    
    Carp::Assert::More  0         2.1.0   
    Const::Fast         0         0.014   
    Data::UUID          0         1.226   
    English             0         1.11    
    Exception::Class    0         1.45    
    Exporter            0         5.77    
    File::HomeDir       0         1.006   
    File::Spec          0         3.87    
    Hash::Util          0.06      0.30    
    JSON::MaybeXS       0         1.004004
    Log::Any            0         1.710   
    Params::Validate    0         1.30    
    parent              0         0.238   
    Path::Tiny          0         0.124   
    perl                5.010000  5.037004
    REST::Client        0         281     
    Scalar::Util        0         1.63    
    strict              0         1.12    
    Try::Tiny           0         0.31    
    URI::Escape         0         5.15    
    warnings            0         1.58    

build_requires:

    Module              Need      Have    
    ------------------- --------- --------
    Data::Dumper        0         2.186   
    ExtUtils::MakeMaker 0         7.64    
    File::Copy          0         2.40    
    File::Remove        0         1.61    
    File::Spec          0         3.87    
    lib                 0         0.65    
    Log::Any::Test      0         1.710   
    Test::Exception     0         0.43    
    Test::More          0         1.302191

configure_requires:

    Module              Need      Have    
    ------------------- --------- --------
    ExtUtils::MakeMaker 0         7.64    
    perl                5.010_000 5.037004


------------------------------
ENVIRONMENT AND OTHER CONTEXT
------------------------------

Environment variables:

    AUTOMATED_TESTING = 1
    LANG = en_US.UTF-8
    PATH = /home/sand/bin:/usr/local/bin:/usr/local/sbin:/usr/sbin:/usr/bin:/sbin:/bin:/usr/games:/usr/local/games:/snap/bin:/usr/local/perl/bin:/usr/X11/bin
    PERL = /tmp/basesmoker-reloperl-kHob/bin/perl
    PERL5LIB = /tmp/loop_over_bdir-699717-u8pT6m/NoZone-1.3-0/blib/arch:/tmp/loop_over_bdir-699717-u8pT6m/NoZone-1.3-0/blib/lib
    PERL5OPT = 
    PERL5_CPANPLUS_IS_RUNNING = 699725
    PERL5_CPAN_IS_RUNNING = 699725
    PERL_CANARY_STABILITY_NOPROMPT = 1
    PERL_MM_USE_DEFAULT = 1
    PERL_USE_UNSAFE_INC = 1
    SHELL = /usr/bin/zsh
    TERM = screen

Perl special variables (and OS-specific diagnostics, for MSWin32):

    $^X = /tmp/basesmoker-reloperl-kHob/bin/perl
    $UID/$EUID = 1005 / 1005
    $GID = 1005 1005
    $EGID = 1005 1005

Perl module toolchain versions installed:

    Module              Have    
    ------------------- --------
    CPAN                2.34    
    CPAN::Meta          2.150010
    Cwd                 3.86    
    ExtUtils::CBuilder  0.280237
    ExtUtils::Command   7.64    
    ExtUtils::Install   2.20    
    ExtUtils::MakeMaker 7.64    
    ExtUtils::Manifest  1.73    
    ExtUtils::ParseXS   3.46    
    File::Spec          3.87    
    JSON                4.10    
    JSON::PP            4.12    
    Module::Build       0.4231  
    Module::Signature   0.88    
    Parse::CPAN::Meta   2.150010
    Test::Harness       3.44    
    Test::More          1.302191
    YAML                1.30    
    YAML::Syck          1.34    
    version             0.9929  


--

Summary of my perl5 (revision 5 version 37 subversion 4) configuration:
  Commit id: f2582f5b18658f945a763f2edc110cdc7c5220e7
  Platform:
    osname=linux
    osvers=5.4.0-125-generic
    archname=x86_64-linux-thread-multi-ld
    uname='linux k93focal 5.4.0-125-generic #141-ubuntu smp wed aug 10 13:42:03 utc 2022 x86_64 x86_64 x86_64 gnulinux '
    config_args='-Dprefix=/home/sand/src/perl/repoperls/installed-perls/host/k93focal/v5.37.4/e463 -Dmyhostname=k93focal -Dinstallusrbinperl=n -Uversiononly -Dusedevel -des -Ui_db -Dlibswanted=cl pthread socket inet nsl gdbm dbm malloc dl ld sun m crypt sec util c cposix posix ucb BSD gdbm_compat -Duseithreads -Duselongdouble -DEBUGGING=both'
    hint=recommended
    useposix=true
    d_sigaction=define
    useithreads=define
    usemultiplicity=define
    use64bitint=define
    use64bitall=define
    uselongdouble=define
    usemymalloc=n
    default_inc_excludes_dot=define
  Compiler:
    cc='cc'
    ccflags ='-D_REENTRANT -D_GNU_SOURCE -fwrapv -DDEBUGGING -fno-strict-aliasing -pipe -fstack-protector-strong -I/usr/local/include -D_LARGEFILE_SOURCE -D_FILE_OFFSET_BITS=64'
    optimize='-O2 -g'
    cppflags='-D_REENTRANT -D_GNU_SOURCE -fwrapv -DDEBUGGING -fno-strict-aliasing -pipe -fstack-protector-strong -I/usr/local/include'
    ccversion=''
    gccversion='9.4.0'
    gccosandvers=''
    intsize=4
    longsize=8
    ptrsize=8
    doublesize=8
    byteorder=12345678
    doublekind=3
    d_longlong=define
    longlongsize=8
    d_longdbl=define
    longdblsize=16
    longdblkind=3
    ivtype='long'
    ivsize=8
    nvtype='long double'
    nvsize=16
    Off_t='off_t'
    lseeksize=8
    alignbytes=16
    prototype=define
  Linker and Libraries:
    ld='cc'
    ldflags =' -fstack-protector-strong -L/usr/local/lib'
    libpth=/usr/local/lib /usr/lib/x86_64-linux-gnu /usr/lib /usr/lib64
    libs=-lpthread -lnsl -ldl -lm -lcrypt -lutil -lc
    perllibs=-lpthread -lnsl -ldl -lm -lcrypt -lutil -lc
    libc=libc-2.31.so
    so=so
    useshrplib=false
    libperl=libperl.a
    gnulibc_version='2.31'
  Dynamic Linking:
    dlsrc=dl_dlopen.xs
    dlext=so
    d_dlsymun=undef
    ccdlflags='-Wl,-E'
    cccdlflags='-fPIC'
    lddlflags='-shared -O2 -g -L/usr/local/lib -fstack-protector-strong'


Characteristics of this binary (from libperl): 
  Compile-time options:
    DEBUGGING
    HAS_TIMES
    MULTIPLICITY
    PERLIO_LAYERS
    PERL_COPY_ON_WRITE
    PERL_DONT_CREATE_GVSV
    PERL_HASH_FUNC_SIPHASH13
    PERL_HASH_USE_SBOX32
    PERL_MALLOC_WRAP
    PERL_OP_PARENT
    PERL_PRESERVE_IVUV
    PERL_TRACK_MEMPOOL
    PERL_USE_DEVEL
    PERL_USE_SAFE_PUTENV
    USE_64_BIT_ALL
    USE_64_BIT_INT
    USE_ITHREADS
    USE_LARGE_FILES
    USE_LOCALE
    USE_LOCALE_COLLATE
    USE_LOCALE_CTYPE
    USE_LOCALE_NUMERIC
    USE_LOCALE_TIME
    USE_LONG_DOUBLE
    USE_PERLIO
    USE_PERL_ATOF
    USE_REENTRANT_API
    USE_THREAD_SAFE_LOCALE
  Built under linux
  Compiled at Oct 10 2022 06:00:24
  %ENV:
    PERL="/tmp/basesmoker-reloperl-kHob/bin/perl"
    PERL5LIB="/tmp/loop_over_bdir-699717-u8pT6m/NoZone-1.3-0/blib/arch:/tmp/loop_over_bdir-699717-u8pT6m/NoZone-1.3-0/blib/lib"
    PERL5OPT=""
    PERL5_CPANPLUS_IS_RUNNING="699725"
    PERL5_CPAN_IS_RUNNING="699725"
    PERL_CANARY_STABILITY_NOPROMPT="1"
    PERL_MM_USE_DEFAULT="1"
    PERL_USE_UNSAFE_INC="1"
  @INC:
    /tmp/loop_over_bdir-699717-u8pT6m/NoZone-1.3-0/blib/arch
    /tmp/loop_over_bdir-699717-u8pT6m/NoZone-1.3-0/blib/lib
    /home/sand/src/perl/repoperls/installed-perls/host/k93focal/v5.37.4/e463/lib/site_perl/5.37.4/x86_64-linux-thread-multi-ld
    /home/sand/src/perl/repoperls/installed-perls/host/k93focal/v5.37.4/e463/lib/site_perl/5.37.4
    /home/sand/src/perl/repoperls/installed-perls/host/k93focal/v5.37.4/e463/lib/5.37.4/x86_64-linux-thread-multi-ld
    /home/sand/src/perl/repoperls/installed-perls/host/k93focal/v5.37.4/e463/lib/5.37.4
    .