Hash-AutoHash v1.17 Perl 5 v5.39.8 x86_64-linux-thread-multi-ld

Status
Pass
From
Andreas J. König (ANDK)
Dist
Hash-AutoHash v1.17
Platform
Perl 5 v5.39.8 x86_64-linux-thread-multi-ld
Date
2024-02-27 19:33:48
ID
20c93f5a-d5a7-11ee-8b6f-0b3a29530a6a
This distribution has been tested as part of the CPAN Testers
project, supporting the Perl programming language.  See
http://wiki.cpantesters.org/ for more information or email
questions to cpan-testers-discuss@perl.org


--
Dear Nathan Goodman,

This is a computer-generated report for Hash-AutoHash-1.17
on perl 5.39.8, created by CPAN-Reporter-1.2019.

Thank you for uploading your work to CPAN.  Congratulations!
All tests were successful.

Sections of this report:

    * Tester comments
    * Program output
    * Prerequisites
    * Environment and other context

------------------------------
TESTER COMMENTS
------------------------------

Additional comments from tester:

this report is from an automated smoke testing program
and was not reviewed by a human for accuracy

------------------------------
PROGRAM OUTPUT
------------------------------

Output from '/usr/bin/make test':

/tmp/basesmoker-reloperl-BcnN/bin/perl Build --makefile_env_macros 1 test
# Testing Hash::AutoHash 1.17, Perl 5.039008, /tmp/basesmoker-reloperl-BcnN/bin/perl
t/autohash.000.code_exists.t .... ok
t/autohash.001.boilerplate.t .... ok
t/autohash.002.pod.t ............ ok
t/autohash.010.cons_funcs.t ..... ok
t/autohash.011.new_func.t ....... ok
t/autohash.012.new_method.t ..... ok
t/autohash.013.ashash.t ......... ok
t/autohash.013.exthash.t ........ ok
t/autohash.013.extobj.t ......... ok
t/autohash.019.export_ok.t ...... ok
t/autohash.020.class_methods.t .. ok
t/autohash.020.special_keys.t ... ok
t/autohash.020.universal.t ...... ok
t/autohash.030.alias.t .......... ok
t/autohash.030.clear.t .......... ok
t/autohash.030.count_etc.t ...... ok
t/autohash.030.delete.t ......... ok
t/autohash.030.each.t ........... ok
t/autohash.030.exists.t ......... ok
t/autohash.030.get.t ............ ok
t/autohash.030.keys.t ........... ok
t/autohash.030.set.t ............ ok
t/autohash.030.tied.t ........... ok
t/autohash.030.values.t ......... ok
t/autohash.031.delete_exists.t .. ok
t/autohash.031.delete_keys.t .... ok
t/autohash.031.delete_values.t .. ok
t/autohash.040.destroy.t ........ ok
t/autohash.050.child.t .......... ok
t/autohash.050.grandchild.t ..... ok
t/autohash.055.typicalchild.t ... ok
t/autohash.099.docs.t ........... ok
All tests successful.
Files=32, Tests=2813,  4 wallclock secs ( 0.28 usr  0.09 sys +  3.58 cusr  0.57 csys =  4.52 CPU)
Result: PASS

------------------------------
PREREQUISITES
------------------------------

Prerequisite modules loaded:

requires:

    Module                Need   Have    
    --------------------- ------ --------
    Carp                  1.2    1.54    
    Cwd                   3.4    3.90    
    Exporter              5.68   5.78    
    List::MoreUtils       0.33   0.430   
    List::Util            1.32   1.63    
    perl                  v5.8.3 5.039008
    Tie::Hash             1.04   1.06    
    Tie::ToObject         0.03   0.03    
    XSLoader              0.15   0.32    

build_requires:

    Module                Need   Have    
    --------------------- ------ --------
    Carp                  1.2    1.54    
    Exporter              5.68   5.78    
    File::Spec            3.4    3.90    
    List::MoreUtils       0.33   0.430   
    Module::Build         0.4007 0.4234  
    Scalar::Util          1.23   1.63    
    Storable              2.3    3.32    
    Test::Deep            0.11   1.204   
    Test::More            0.98   1.302198
    Test::Pod             1.48   1.52    
    Test::Pod::Content    v0.0.6 0.0.6   
    Tie::Hash             1.04   1.06    
    Tie::Hash::MultiValue 1.02   1.06    

configure_requires:

    Module                Need   Have    
    --------------------- ------ --------
    Module::Build         0.4007 0.4234  


------------------------------
ENVIRONMENT AND OTHER CONTEXT
------------------------------

Environment variables:

    AUTOMATED_TESTING = 1
    LANG = en_US.UTF-8
    LC_ADDRESS = de_DE.UTF-8
    LC_IDENTIFICATION = de_DE.UTF-8
    LC_MEASUREMENT = de_DE.UTF-8
    LC_MONETARY = de_DE.UTF-8
    LC_NAME = de_DE.UTF-8
    LC_NUMERIC = de_DE.UTF-8
    LC_PAPER = de_DE.UTF-8
    LC_TELEPHONE = de_DE.UTF-8
    LC_TIME = de_DE.UTF-8
    PATH = /home/sand/bin:/usr/local/bin:/usr/local/sbin:/usr/sbin:/usr/bin:/sbin:/bin:/usr/games:/usr/local/games:/snap/bin:/usr/local/perl/bin:/usr/X11/bin
    PERL = /tmp/basesmoker-reloperl-BcnN/bin/perl
    PERL5LIB = /tmp/loop_over_bdir-1965-2V0BcG/Dpkg-1.22.4-0/blib/arch:/tmp/loop_over_bdir-1965-2V0BcG/Dpkg-1.22.4-0/blib/lib:/tmp/loop_over_bdir-1965-2V0BcG/ProjectBuilder-0.14.1-0/blib/arch:/tmp/loop_over_bdir-1965-2V0BcG/ProjectBuilder-0.14.1-0/blib/lib:/tmp/loop_over_bdir-1965-2V0BcG/Devel-Required-0.16-0/blib/arch:/tmp/loop_over_bdir-1965-2V0BcG/Devel-Required-0.16-0/blib/lib:/tmp/loop_over_bdir-1965-2V0BcG/HTML-Menu-TreeView-1.22-0/blib/arch:/tmp/loop_over_bdir-1965-2V0BcG/HTML-Menu-TreeView-1.22-0/blib/lib:/tmp/loop_over_bdir-1965-2V0BcG/App-nrun-v1.1.2-0/blib/arch:/tmp/loop_over_bdir-1965-2V0BcG/App-nrun-v1.1.2-0/blib/lib
    PERL5OPT = 
    PERL5_CPANPLUS_IS_RUNNING = 1973
    PERL5_CPAN_IS_RUNNING = 1973
    PERL_CANARY_STABILITY_NOPROMPT = 1
    PERL_MM_USE_DEFAULT = 1
    PERL_USE_UNSAFE_INC = 1
    SHELL = /usr/bin/zsh
    TERM = screen

Perl special variables (and OS-specific diagnostics, for MSWin32):

    $^X = /tmp/basesmoker-reloperl-BcnN/bin/perl
    $UID/$EUID = 1005 / 1005
    $GID = 1005 1005
    $EGID = 1005 1005

Perl module toolchain versions installed:

    Module              Have    
    ------------------- --------
    CPAN                2.36    
    CPAN::Meta          2.150010
    Cwd                 3.90    
    ExtUtils::CBuilder  0.280240
    ExtUtils::Command   7.70    
    ExtUtils::Install   2.22    
    ExtUtils::MakeMaker 7.70    
    ExtUtils::Manifest  1.75    
    ExtUtils::ParseXS   3.51    
    File::Spec          3.90    
    JSON                4.10    
    JSON::PP            4.16    
    Module::Build       0.4234  
    Module::Signature   0.88    
    Parse::CPAN::Meta   2.150010
    Test2               1.302198
    Test::Harness       3.48    
    Test::More          1.302198
    YAML                1.31    
    YAML::Syck          1.34    
    version             0.9930  


--

Summary of my perl5 (revision 5 version 39 subversion 8) configuration:
  Commit id: 78455e6e7fa235411fb2b931eda9d816b5ea880f
  Platform:
    osname=linux
    osvers=6.5.0-18-generic
    archname=x86_64-linux-thread-multi-ld
    uname='linux k93jammy 6.5.0-18-generic #18~22.04.1-ubuntu smp preempt_dynamic wed feb 7 11:40:03 utc 2 x86_64 x86_64 x86_64 gnulinux '
    config_args='-Dprefix=/home/sand/src/perl/repoperls/installed-perls/host/k93jammy/v5.39.8/322f -Dmyhostname=k93jammy -Dinstallusrbinperl=n -Uversiononly -Dusedevel -des -Ui_db -Dlibswanted=cl pthread socket inet nsl gdbm dbm malloc dl ld sun m crypt sec util c cposix posix ucb BSD gdbm_compat -Duseithreads -Duselongdouble -DEBUGGING=-g'
    hint=recommended
    useposix=true
    d_sigaction=define
    useithreads=define
    usemultiplicity=define
    use64bitint=define
    use64bitall=define
    uselongdouble=define
    usemymalloc=n
    default_inc_excludes_dot=define
  Compiler:
    cc='cc'
    ccflags ='-D_REENTRANT -D_GNU_SOURCE -fwrapv -fno-strict-aliasing -pipe -fstack-protector-strong -I/usr/local/include -D_LARGEFILE_SOURCE -D_FILE_OFFSET_BITS=64'
    optimize='-O2 -g'
    cppflags='-D_REENTRANT -D_GNU_SOURCE -fwrapv -fno-strict-aliasing -pipe -fstack-protector-strong -I/usr/local/include'
    ccversion=''
    gccversion='11.4.0'
    gccosandvers=''
    intsize=4
    longsize=8
    ptrsize=8
    doublesize=8
    byteorder=12345678
    doublekind=3
    d_longlong=define
    longlongsize=8
    d_longdbl=define
    longdblsize=16
    longdblkind=3
    ivtype='long'
    ivsize=8
    nvtype='long double'
    nvsize=16
    Off_t='off_t'
    lseeksize=8
    alignbytes=16
    prototype=define
  Linker and Libraries:
    ld='cc'
    ldflags =' -fstack-protector-strong -L/usr/local/lib'
    libpth=/usr/local/lib /usr/lib/x86_64-linux-gnu /usr/lib /usr/lib64
    libs=-lpthread -lnsl -ldl -lm -lcrypt -lutil -lc
    perllibs=-lpthread -lnsl -ldl -lm -lcrypt -lutil -lc
    libc=/lib/x86_64-linux-gnu/libc.so.6
    so=so
    useshrplib=false
    libperl=libperl.a
    gnulibc_version='2.35'
  Dynamic Linking:
    dlsrc=dl_dlopen.xs
    dlext=so
    d_dlsymun=undef
    ccdlflags='-Wl,-E'
    cccdlflags='-fPIC'
    lddlflags='-shared -O2 -g -L/usr/local/lib -fstack-protector-strong'


Characteristics of this binary (from libperl): 
  Compile-time options:
    HAS_LONG_DOUBLE
    HAS_STRTOLD
    HAS_TIMES
    MULTIPLICITY
    PERLIO_LAYERS
    PERL_COPY_ON_WRITE
    PERL_DONT_CREATE_GVSV
    PERL_HASH_FUNC_SIPHASH13
    PERL_HASH_USE_SBOX32
    PERL_MALLOC_WRAP
    PERL_OP_PARENT
    PERL_PRESERVE_IVUV
    PERL_USE_DEVEL
    PERL_USE_SAFE_PUTENV
    USE_64_BIT_ALL
    USE_64_BIT_INT
    USE_ITHREADS
    USE_LARGE_FILES
    USE_LOCALE
    USE_LOCALE_COLLATE
    USE_LOCALE_CTYPE
    USE_LOCALE_NUMERIC
    USE_LOCALE_TIME
    USE_LONG_DOUBLE
    USE_PERLIO
    USE_PERL_ATOF
    USE_REENTRANT_API
    USE_THREAD_SAFE_LOCALE
  Built under linux
  Compiled at Feb 24 2024 05:29:46
  %ENV:
    PERL="/tmp/basesmoker-reloperl-BcnN/bin/perl"
    PERL5LIB="/tmp/loop_over_bdir-1965-2V0BcG/Dpkg-1.22.4-0/blib/arch:/tmp/loop_over_bdir-1965-2V0BcG/Dpkg-1.22.4-0/blib/lib:/tmp/loop_over_bdir-1965-2V0BcG/ProjectBuilder-0.14.1-0/blib/arch:/tmp/loop_over_bdir-1965-2V0BcG/ProjectBuilder-0.14.1-0/blib/lib:/tmp/loop_over_bdir-1965-2V0BcG/Devel-Required-0.16-0/blib/arch:/tmp/loop_over_bdir-1965-2V0BcG/Devel-Required-0.16-0/blib/lib:/tmp/loop_over_bdir-1965-2V0BcG/HTML-Menu-TreeView-1.22-0/blib/arch:/tmp/loop_over_bdir-1965-2V0BcG/HTML-Menu-TreeView-1.22-0/blib/lib:/tmp/loop_over_bdir-1965-2V0BcG/App-nrun-v1.1.2-0/blib/arch:/tmp/loop_over_bdir-1965-2V0BcG/App-nrun-v1.1.2-0/blib/lib"
    PERL5OPT=""
    PERL5_CPANPLUS_IS_RUNNING="1973"
    PERL5_CPAN_IS_RUNNING="1973"
    PERL_CANARY_STABILITY_NOPROMPT="1"
    PERL_MM_USE_DEFAULT="1"
    PERL_USE_UNSAFE_INC="1"
  @INC:
    /tmp/loop_over_bdir-1965-2V0BcG/Dpkg-1.22.4-0/blib/arch
    /tmp/loop_over_bdir-1965-2V0BcG/Dpkg-1.22.4-0/blib/lib
    /tmp/loop_over_bdir-1965-2V0BcG/ProjectBuilder-0.14.1-0/blib/arch
    /tmp/loop_over_bdir-1965-2V0BcG/ProjectBuilder-0.14.1-0/blib/lib
    /tmp/loop_over_bdir-1965-2V0BcG/Devel-Required-0.16-0/blib/arch
    /tmp/loop_over_bdir-1965-2V0BcG/Devel-Required-0.16-0/blib/lib
    /tmp/loop_over_bdir-1965-2V0BcG/HTML-Menu-TreeView-1.22-0/blib/arch
    /tmp/loop_over_bdir-1965-2V0BcG/HTML-Menu-TreeView-1.22-0/blib/lib
    /tmp/loop_over_bdir-1965-2V0BcG/App-nrun-v1.1.2-0/blib/arch
    /tmp/loop_over_bdir-1965-2V0BcG/App-nrun-v1.1.2-0/blib/lib
    /home/sand/src/perl/repoperls/installed-perls/host/k93jammy/v5.39.8/322f/lib/site_perl/5.39.8/x86_64-linux-thread-multi-ld
    /home/sand/src/perl/repoperls/installed-perls/host/k93jammy/v5.39.8/322f/lib/site_perl/5.39.8
    /home/sand/src/perl/repoperls/installed-perls/host/k93jammy/v5.39.8/322f/lib/5.39.8/x86_64-linux-thread-multi-ld
    /home/sand/src/perl/repoperls/installed-perls/host/k93jammy/v5.39.8/322f/lib/5.39.8
    .