Report for Perl-Repository-APC-2.002001

Back
From: metabase:user:322078bc-2aae-11df-837a-5e0a49663a4f
Subject: PASS Perl-Repository-APC-2.002001 v5.14.0 FreeBSD
Date: 2011-09-03T06:51:19Z

This distribution has been tested as part of the CPAN Testers
project, supporting the Perl programming language.  See
http://wiki.cpantesters.org/ for more information or email
questions to cpan-testers-discuss@perl.org


--

Dear ANDK,

This is a computer-generated error report created automatically by
CPANPLUS, version 0.9109. Testers personal comments may appear
at the end of this report.

MAKE TEST passed: PERL_DL_NONLAZY=1 /usr/home/cpan/pit/bare/perl-5.14.0/bin/perl "-MExtUtils::Command::MM" "-e" "test_harness(0, 'blib/lib', 'blib/arch')" t/*.t
t/00-signature.t .. ok


  Skipping tests! If you want to run the tests against your copy
  of APC, please set environment variable $PERL_REPOSITORY_APC_REPO to
  the path to your APC

t/apc.t ........... ok
t/bap.t ........... skipped: no repository found
t/pod.t ........... skipped: Test::Pod 1.00 required for testing POD
t/podcover.t ...... skipped: Test::Pod::Coverage required for testing pod coverage
scripts/apc-overview syntax OK
scripts/binsearchaperl syntax OK
scripts/buildaperl syntax OK
scripts/patchaperlup syntax OK
t/scripts.t ....... ok
t/svn.t ........... skipped: svn deprecated
# Cannot rename "tmp/0/BAD\cJNL1" to "./trimtrees1-3Fltqbto" (Permission denied); Skipping. at eg/trimtrees.pl line 55.
# Cannot rename "tmp/0/BAD\cJNL2" to "./trimtrees1-tMXgOcH9" (Permission denied); Skipping. at eg/trimtrees.pl line 55.
# Cannot read "tmp/0/BAD\cJNL3" (Permission denied); Skipping. at eg/trimtrees.pl line 165.
# 
# tlds[10]cur[2]uniq[3]fils[100]spcused[58]saved[0]
# tlds[10]cur[2]uniq[3]fils[200]spcused[58]saved[0]
# tlds[10]cur[2]uniq[3]fils[300]spcused[58]saved[0]
# tlds[10]cur[2]uniq[3]fils[400]spcused[58]saved[0]
# tlds[10]cur[2]uniq[3]fils[500]spcused[58]saved[0]
# tlds[10]cur[2]uniq[3]fils[600]spcused[58]saved[0]
# tlds[10]cur[2]uniq[3]fils[700]spcused[58]saved[0]
# tlds[10]cur[2]uniq[3]fils[800]spcused[58]saved[0]
# tlds[10]cur[2]uniq[3]fils[900]spcused[58]saved[0]
# tlds[10]cur[2]uniq[3]fils[1_000]spcused[58]saved[0]
# tlds[10]cur[2]uniq[3]fils[1_100]spcused[58]saved[0]
# tlds[10]cur[3]uniq[3]fils[1_200]spcused[58]saved[0]
# tlds[10]cur[3]uniq[3]fils[1_300]spcused[58]saved[0]
# tlds[10]cur[3]uniq[3]fils[1_400]spcused[58]saved[0]
# tlds[10]cur[3]uniq[3]fils[1_500]spcused[58]saved[0]
# tlds[10]cur[3]uniq[3]fils[1_600]spcused[58]saved[0]
# tlds[10]cur[3]uniq[3]fils[1_700]spcused[58]saved[0]
# tlds[10]cur[3]uniq[3]fils[1_800]spcused[58]saved[0]
# tlds[10]cur[3]uniq[3]fils[1_900]spcused[58]saved[0]
# tlds[10]cur[3]uniq[3]fils[2_000]spcused[58]saved[0]
# tlds[10]cur[3]uniq[3]fils[2_100]spcused[58]saved[0]
# tlds[10]cur[3]uniq[3]fils[2_200]spcused[58]saved[0]
# tlds[10]cur[4]uniq[3]fils[2_300]spcused[58]saved[0]
# tlds[10]cur[4]uniq[3]fils[2_400]spcused[58]saved[0]
# tlds[10]cur[4]uniq[3]fils[2_500]spcused[58]saved[0]
# tlds[10]cur[4]uniq[3]fils[2_600]spcused[58]saved[0]
# tlds[10]cur[4]uniq[3]fils[2_700]spcused[58]saved[0]
# tlds[10]cur[4]uniq[3]fils[2_800]spcused[58]saved[0]
# tlds[10]cur[4]uniq[3]fils[2_900]spcused[58]saved[0]
# tlds[10]cur[4]uniq[3]fils[3_000]spcused[58]saved[0]
# tlds[10]cur[4]uniq[3]fils[3_100]spcused[58]saved[0]
# tlds[10]cur[4]uniq[3]fils[3_200]spcused[58]saved[0]
# tlds[10]cur[4]uniq[3]fils[3_300]spcused[58]saved[0]
# tlds[10]cur[5]uniq[3]fils[3_400]spcused[58]saved[0]
# tlds[10]cur[5]uniq[3]fils[3_500]spcused[58]saved[0]
# tlds[10]cur[6]uniq[3]fils[3_600]spcused[58]saved[0]
# tlds[10]cur[7]uniq[3]fils[3_700]spcused[58]saved[0]
# tlds[10]cur[8]uniq[3]fils[3_800]spcused[58]saved[0]
# tlds[10]cur[9]uniq[3]fils[3_900]spcused[58]saved[0]
# tlds[10]cur[10]uniq[3]fils[4_000]spcused[58]saved[0]
# tlds[10]cur[10]uniq[3]fils[4_100]spcused[58]saved[0]
# tlds[10]cur[10]uniq[3]fils[4_100]spcused[58]saved[0]
# DONE
t/trimtrees.t ..... ok
All tests successful.
Files=8, Tests=47, 758 wallclock secs ( 0.05 usr  0.04 sys +  5.29 cusr  6.87 csys = 12.24 CPU)
Result: PASS

[MSG] [Sat Sep  3 07:50:08 2011] Sending test report for 'Perl-Repository-APC-2.002001'

This report was machine-generated by CPANPLUS::Dist::YACSmoke 0.64.
Powered by minismokebox version 0.54

------------------------------
ENVIRONMENT AND OTHER CONTEXT
------------------------------

Environment variables:

    AUTOMATED_TESTING = 1
    PATH = /sbin:/bin:/usr/sbin:/usr/bin:/usr/games:/usr/local/sbin:/usr/local/bin:/home/cpan/bin
    PERL5LIB = :/usr/home/cpan/pit/bare/conf/perl-5.14.0/.cpanplus/5.14.0/build/Perl-Repository-APC-2.002001/blib/lib:/usr/home/cpan/pit/bare/conf/perl-5.14.0/.cpanplus/5.14.0/build/Perl-Repository-APC-2.002001/blib/arch
    PERL5_CPANPLUS_IS_RUNNING = 44771
    PERL5_CPANPLUS_IS_VERSION = 0.9109
    PERL5_MINISMOKEBOX = 0.54
    PERL5_YACSMOKE_BASE = /usr/home/cpan/pit/bare/conf/perl-5.14.0
    PERL_EXTUTILS_AUTOINSTALL = --defaultdeps
    PERL_MM_USE_DEFAULT = 1
    SHELL = /usr/local/bin/bash
    TERM = screen

Perl special variables (and OS-specific diagnostics, for MSWin32):

    Perl: $^X = /usr/home/cpan/pit/bare/perl-5.14.0/bin/perl
    UID:  $<  = 1002
    EUID: $>  = 1002
    GID:  $(  = 1002 1002
    EGID: $)  = 1002 1002


-------------------------------


--

Summary of my perl5 (revision 5 version 14 subversion 0) configuration:
   
  Platform:
    osname=freebsd, osvers=9.0-current-201101, archname=amd64-freebsd
    uname='freebsd flooble.bingosnet.co.uk 9.0-current-201101 freebsd 9.0-current-201101 #0: mon jan 3 22:15:39 utc 2011 root@farrell.cse.buffalo.edu:usrobjusrsrcsysgeneric amd64 '
    config_args='-des -Dprefix=/usr/home/cpan/pit/bare/perl-5.14.0'
    hint=recommended, useposix=true, d_sigaction=define
    useithreads=undef, usemultiplicity=undef
    useperlio=define, d_sfio=undef, uselargefiles=define, usesocks=undef
    use64bitint=define, use64bitall=define, uselongdouble=undef
    usemymalloc=n, bincompat5005=undef
  Compiler:
    cc='cc', ccflags ='-DHAS_FPSETMASK -DHAS_FLOATINGPOINT_H -fno-strict-aliasing -pipe -fstack-protector -I/usr/local/include',
    optimize='-O',
    cppflags='-DHAS_FPSETMASK -DHAS_FLOATINGPOINT_H -fno-strict-aliasing -pipe -fstack-protector -I/usr/local/include'
    ccversion='', gccversion='4.2.1 20070719  [FreeBSD]', gccosandvers=''
    intsize=4, longsize=8, ptrsize=8, doublesize=8, byteorder=12345678
    d_longlong=define, longlongsize=8, d_longdbl=define, longdblsize=16
    ivtype='long', ivsize=8, nvtype='double', nvsize=8, Off_t='off_t', lseeksize=8
    alignbytes=8, prototype=define
  Linker and Libraries:
    ld='cc', ldflags ='-Wl,-E  -fstack-protector -L/usr/local/lib'
    libpth=/usr/lib /usr/local/lib
    libs=-lgdbm -lm -lcrypt -lutil -lc
    perllibs=-lm -lcrypt -lutil -lc
    libc=, so=so, useshrplib=false, libperl=libperl.a
    gnulibc_version=''
  Dynamic Linking:
    dlsrc=dl_dlopen.xs, dlext=so, d_dlsymun=undef, ccdlflags=' '
    cccdlflags='-DPIC -fPIC', lddlflags='-shared  -L/usr/local/lib -fstack-protector'


Characteristics of this binary (from libperl): 
  Compile-time options: PERL_DONT_CREATE_GVSV PERL_MALLOC_WRAP
                        PERL_PRESERVE_IVUV USE_64_BIT_ALL USE_64_BIT_INT
                        USE_LARGE_FILES USE_PERLIO USE_PERL_ATOF
  Built under freebsd
  Compiled at May 16 2011 16:32:01
  %ENV:
    PERL5LIB=":/usr/home/cpan/pit/bare/conf/perl-5.14.0/.cpanplus/5.14.0/build/Perl-Repository-APC-2.002001/blib/lib:/usr/home/cpan/pit/bare/conf/perl-5.14.0/.cpanplus/5.14.0/build/Perl-Repository-APC-2.002001/blib/arch"
    PERL5_CPANPLUS_IS_RUNNING="44771"
    PERL5_CPANPLUS_IS_VERSION="0.9109"
    PERL5_MINISMOKEBOX="0.54"
    PERL5_YACSMOKE_BASE="/usr/home/cpan/pit/bare/conf/perl-5.14.0"
    PERL_EXTUTILS_AUTOINSTALL="--defaultdeps"
    PERL_MM_USE_DEFAULT="1"
  @INC:
    /usr/home/cpan/pit/bare/conf/perl-5.14.0/.cpanplus/5.14.0/build/Perl-Repository-APC-2.002001/blib/lib
    /usr/home/cpan/pit/bare/conf/perl-5.14.0/.cpanplus/5.14.0/build/Perl-Repository-APC-2.002001/blib/arch
    /usr/home/cpan/pit/bare/perl-5.14.0/lib/site_perl/5.14.0/amd64-freebsd
    /usr/home/cpan/pit/bare/perl-5.14.0/lib/site_perl/5.14.0
    /usr/home/cpan/pit/bare/perl-5.14.0/lib/5.14.0/amd64-freebsd
    /usr/home/cpan/pit/bare/perl-5.14.0/lib/5.14.0
    .