Back
From: metabase:user:322078bc-2aae-11df-837a-5e0a49663a4f
Subject: PASS Parse-CPAN-Authors-2.27 v5.14.0 NetBSD
Date: 2011-05-15T02:36:25Z
This distribution has been tested as part of the CPAN Testers
project, supporting the Perl programming language. See
http://wiki.cpantesters.org/ for more information or email
questions to cpan-testers-discuss@perl.org
--
Dear LBROCARD,
This is a computer-generated error report created automatically by
CPANPLUS, version 0.9105. Testers personal comments may appear
at the end of this report.
MAKE TEST passed:
t/pod.t ........... ok
t/pod_coverage.t .. ok
t/simple.t ........ ok
All tests successful.
Files=3, Tests=47, 1 wallclock secs ( 0.14 usr 0.03 sys + 1.38 cusr 0.10 csys = 1.65 CPU)
Result: PASS
[MSG] [Sun May 15 03:36:24 2011] Sending test report for 'Parse-CPAN-Authors-2.27'
This report was machine-generated by CPANPLUS::Dist::YACSmoke 0.62.
------------------------------
ENVIRONMENT AND OTHER CONTEXT
------------------------------
Environment variables:
AUTOMATED_TESTING = 1
PATH = /sbin:/usr/sbin:/bin:/usr/bin:/usr/pkg/sbin:/usr/pkg/bin:/usr/X11R6/bin:/usr/local/sbin:/usr/local/bin
PERL5LIB = :/opt/perl-5.14.0/.cpanplus/5.14.0/build/Parse-CPAN-Authors-2.27/blib/lib:/opt/perl-5.14.0/.cpanplus/5.14.0/build/Parse-CPAN-Authors-2.27/blib/arch
PERL5_CPANIDX_URL = http://conker.bingosnet.co.uk/cpanidx/
PERL5_CPANPLUS_IS_RUNNING = 20633
PERL5_CPANPLUS_IS_VERSION = 0.9105
PERL_EXTUTILS_AUTOINSTALL = --defaultdeps
PERL_MM_USE_DEFAULT = 1
SHELL = /bin/ksh
TERM = screen
Perl special variables (and OS-specific diagnostics, for MSWin32):
Perl: $^X = /opt/perl-5.14.0/bin/perl
UID: $< = 0
EUID: $> = 0
GID: $( = 0 0 2 3 4 5 20 31
EGID: $) = 0 0 2 3 4 5 20 31
-------------------------------
--
Summary of my perl5 (revision 5 version 14 subversion 0) configuration:
Platform:
osname=netbsd, osvers=3.1, archname=i386-netbsd
uname='netbsd canker.bingosnet.co.uk 3.1 netbsd 3.1 (generic_laptop) #0: tue oct 31 04:32:05 utc 2006 builds@b0.netbsd.org:homebuildsabnetbsd-3-1-releasei386200610302053z-objhomebuildsabnetbsd-3-1-releasesrcsysarchi386compilegeneric_laptop i386 '
config_args='-des -Dprefix=/opt/perl-5.14.0'
hint=recommended, useposix=true, d_sigaction=define
useithreads=undef, usemultiplicity=undef
useperlio=define, d_sfio=undef, uselargefiles=define, usesocks=undef
use64bitint=undef, use64bitall=undef, uselongdouble=undef
usemymalloc=n, bincompat5005=undef
Compiler:
cc='cc', ccflags ='-fno-strict-aliasing -pipe -I/usr/pkg/include -I/usr/local/include',
optimize='-O',
cppflags='-fno-strict-aliasing -pipe -I/usr/pkg/include -I/usr/local/include'
ccversion='', gccversion='3.3.3 (NetBSD nb3 20040520)', gccosandvers=''
intsize=4, longsize=4, ptrsize=4, doublesize=8, byteorder=1234
d_longlong=define, longlongsize=8, d_longdbl=define, longdblsize=12
ivtype='long', ivsize=4, nvtype='double', nvsize=8, Off_t='off_t', lseeksize=8
alignbytes=4, prototype=define
Linker and Libraries:
ld='cc', ldflags =' -Wl,-rpath,/usr/pkg/lib -Wl,-rpath,/usr/local/lib -L/usr/pkg/lib -L/usr/local/lib'
libpth=/usr/pkg/lib /usr/local/lib /lib /usr/lib
libs=-lgdbm -lm -lcrypt -lutil -lc -lposix
perllibs=-lm -lcrypt -lutil -lc -lposix
libc=/lib/libc.so, so=so, useshrplib=false, libperl=libperl.a
gnulibc_version=''
Dynamic Linking:
dlsrc=dl_dlopen.xs, dlext=so, d_dlsymun=undef, ccdlflags='-Wl,-E '
cccdlflags='-DPIC -fPIC ', lddlflags='--whole-archive -shared -L/usr/pkg/lib -L/usr/local/lib'
Characteristics of this binary (from libperl):
Compile-time options: PERL_DONT_CREATE_GVSV PERL_MALLOC_WRAP
PERL_PRESERVE_IVUV USE_LARGE_FILES USE_PERLIO
USE_PERL_ATOF
Built under netbsd
Compiled at May 14 2011 22:12:18
%ENV:
PERL5LIB=":/opt/perl-5.14.0/.cpanplus/5.14.0/build/Parse-CPAN-Authors-2.27/blib/lib:/opt/perl-5.14.0/.cpanplus/5.14.0/build/Parse-CPAN-Authors-2.27/blib/arch"
PERL5_CPANIDX_URL="http://conker.bingosnet.co.uk/cpanidx/"
PERL5_CPANPLUS_IS_RUNNING="20633"
PERL5_CPANPLUS_IS_VERSION="0.9105"
PERL_EXTUTILS_AUTOINSTALL="--defaultdeps"
PERL_MM_USE_DEFAULT="1"
@INC:
/opt/perl-5.14.0/.cpanplus/5.14.0/build/Parse-CPAN-Authors-2.27/blib/lib
/opt/perl-5.14.0/.cpanplus/5.14.0/build/Parse-CPAN-Authors-2.27/blib/arch
/opt/perl-5.14.0/lib/site_perl/5.14.0/i386-netbsd
/opt/perl-5.14.0/lib/site_perl/5.14.0
/opt/perl-5.14.0/lib/5.14.0/i386-netbsd
/opt/perl-5.14.0/lib/5.14.0
.