Commandable v0.14 Perl 5 v5.30.3 x86_64-linux-thread-multi

Status
Pass
From
Paul Evans
Dist
Commandable v0.14
Platform
Perl 5 v5.30.3 x86_64-linux-thread-multi
Date
2024-09-08 14:32:08
ID
20b0c282-6def-11ef-a383-a94d89f1167f
This distribution has been tested as part of the CPAN Testers
project, supporting the Perl programming language.  See
http://wiki.cpantesters.org/ for more information or email
questions to cpan-testers-discuss@perl.org


--
Dear Paul Evans,

This is a computer-generated report for Commandable-0.14
on perl 5.30.3, created by CPAN-Reporter-1.2020.

Thank you for uploading your work to CPAN.  Congratulations!
All tests were successful.

Sections of this report:

    * Tester comments
    * Program output
    * Prerequisites
    * Environment and other context

------------------------------
TESTER COMMENTS
------------------------------

Additional comments from tester:

none provided

------------------------------
PROGRAM OUTPUT
------------------------------

Output from './Build test':

t/00use.t ......................... ok
t/01invocation.t .................. ok
t/10finder-packages-namemethod.t .. ok
t/11finder-packages-namepkg.t ..... ok
t/12finder-subattributes.t ........ ok
t/13finder-methodattributes.t ..... ok
t/20command-args.t ................ ok
t/21command-opts.t ................ ok
t/30finder-invoke.t ............... ok
t/31finder-config.t ............... ok
t/32finder-global-opts.t .......... ok
t/50builtin-help.t ................ ok
t/99pod.t ......................... skipped: Test::Pod 1.00 required for testing POD
All tests successful.
Files=13, Tests=110,  2 wallclock secs ( 0.04 usr  0.03 sys +  1.76 cusr  0.27 csys =  2.10 CPU)
Result: PASS

------------------------------
PREREQUISITES
------------------------------

Prerequisite modules loaded:

requires:

    Module                    Need      Have    
    ------------------------- --------- --------
    experimental              0         0.020   
    meta                      0.003_003 0.006   
    Module::Pluggable::Object 0         5.2     
    perl                      5.026     5.030003

build_requires:

    Module                    Need      Have    
    ------------------------- --------- --------
    Test2::V0                 0         0.000159

configure_requires:

    Module                    Need      Have    
    ------------------------- --------- --------
    Module::Build             0.4004    0.4234  


------------------------------
ENVIRONMENT AND OTHER CONTEXT
------------------------------

Environment variables:

    LANG = en_GB.UTF-8
    LD_LIBRARY_PATH = /home/leo/lib
    PATH = /home/leo/bin:/usr/local/bin:/usr/bin:/bin:/usr/local/games:/usr/games
    PERL5LIB = 
    PERL5OPT = 
    PERL5_CPANPLUS_IS_RUNNING = 205562
    PERL5_CPAN_IS_RUNNING = 205562
    PERL_USE_UNSAFE_INC = 1
    SHELL = /bin/bash
    TERM = xterm

Perl special variables (and OS-specific diagnostics, for MSWin32):

    $^X = /home/leo/perl5/perlbrew/perls/perl-5.30.3/bin/perl
    $UID/$EUID = 1000 / 1000
    $GID = 1000 100 1000
    $EGID = 1000 100 1000

Perl module toolchain versions installed:

    Module              Have    
    ------------------- --------
    CPAN                2.22    
    CPAN::Meta          2.150010
    Cwd                 3.78    
    ExtUtils::CBuilder  0.280231
    ExtUtils::Command   7.34    
    ExtUtils::Install   2.14    
    ExtUtils::MakeMaker 7.34    
    ExtUtils::Manifest  1.72    
    ExtUtils::ParseXS   3.40    
    File::Spec          3.78    
    JSON                n/a     
    JSON::PP            4.16    
    Module::Build       0.4234  
    Module::Signature   n/a     
    Parse::CPAN::Meta   2.150010
    Test2               1.302196
    Test::Harness       3.42    
    Test::More          1.302196
    YAML                n/a     
    YAML::Syck          n/a     
    version             0.9924  


--

Summary of my perl5 (revision 5 version 30 subversion 3) configuration:
   
  Platform:
    osname=linux
    osvers=6.1.0-13-amd64
    archname=x86_64-linux-thread-multi
    uname='linux hevva 6.1.0-13-amd64 #1 smp preempt_dynamic debian 6.1.55-1 (2023-09-29) x86_64 gnulinux '
    config_args='-de -Dprefix=/home/leo/perl5/perlbrew/perls/perl-5.30.3 -Dusethreads -Aeval:scriptdir=/home/leo/perl5/perlbrew/perls/perl-5.30.3/bin'
    hint=recommended
    useposix=true
    d_sigaction=define
    useithreads=define
    usemultiplicity=define
    use64bitint=define
    use64bitall=define
    uselongdouble=undef
    usemymalloc=n
    default_inc_excludes_dot=define
    bincompat5005=undef
  Compiler:
    cc='cc'
    ccflags ='-D_REENTRANT -D_GNU_SOURCE -fwrapv -fno-strict-aliasing -pipe -fstack-protector-strong -I/usr/local/include -D_LARGEFILE_SOURCE -D_FILE_OFFSET_BITS=64 -D_FORTIFY_SOURCE=2'
    optimize='-O2'
    cppflags='-D_REENTRANT -D_GNU_SOURCE -fwrapv -fno-strict-aliasing -pipe -fstack-protector-strong -I/usr/local/include'
    ccversion=''
    gccversion='12.2.0'
    gccosandvers=''
    intsize=4
    longsize=8
    ptrsize=8
    doublesize=8
    byteorder=12345678
    doublekind=3
    d_longlong=define
    longlongsize=8
    d_longdbl=define
    longdblsize=16
    longdblkind=3
    ivtype='long'
    ivsize=8
    nvtype='double'
    nvsize=8
    Off_t='off_t'
    lseeksize=8
    alignbytes=8
    prototype=define
  Linker and Libraries:
    ld='cc'
    ldflags =' -fstack-protector-strong -L/usr/local/lib'
    libpth=/usr/local/lib /usr/include/x86_64-linux-gnu /usr/lib /lib/x86_64-linux-gnu /lib/../lib /usr/lib/x86_64-linux-gnu /usr/lib/../lib /lib /lib64 /usr/lib64
    libs=-lpthread -lnsl -ldl -lm -lcrypt -lutil -lc
    perllibs=-lpthread -lnsl -ldl -lm -lcrypt -lutil -lc
    libc=/lib/x86_64-linux-gnu/libc.so.6
    so=so
    useshrplib=false
    libperl=libperl.a
    gnulibc_version='2.36'
  Dynamic Linking:
    dlsrc=dl_dlopen.xs
    dlext=so
    d_dlsymun=undef
    ccdlflags='-Wl,-E'
    cccdlflags='-fPIC'
    lddlflags='-shared -O2 -L/usr/local/lib -fstack-protector-strong'


Characteristics of this binary (from libperl): 
  Compile-time options:
    HAS_TIMES
    MULTIPLICITY
    PERLIO_LAYERS
    PERL_COPY_ON_WRITE
    PERL_DONT_CREATE_GVSV
    PERL_IMPLICIT_CONTEXT
    PERL_MALLOC_WRAP
    PERL_OP_PARENT
    PERL_PRESERVE_IVUV
    USE_64_BIT_ALL
    USE_64_BIT_INT
    USE_ITHREADS
    USE_LARGE_FILES
    USE_LOCALE
    USE_LOCALE_COLLATE
    USE_LOCALE_CTYPE
    USE_LOCALE_NUMERIC
    USE_LOCALE_TIME
    USE_PERLIO
    USE_PERL_ATOF
    USE_REENTRANT_API
    USE_THREAD_SAFE_LOCALE
  Locally applied patches:
    Devel::PatchPerl 2.08
  Built under linux
  Compiled at Nov 26 2023 20:11:47
  %ENV:
    PERL5LIB=""
    PERL5OPT=""
    PERL5_CPANPLUS_IS_RUNNING="205562"
    PERL5_CPAN_IS_RUNNING="205562"
    PERL_USE_UNSAFE_INC="1"
  @INC:
    /home/leo/perl5/perlbrew/perls/perl-5.30.3/lib/site_perl/5.30.3/x86_64-linux-thread-multi
    /home/leo/perl5/perlbrew/perls/perl-5.30.3/lib/site_perl/5.30.3
    /home/leo/perl5/perlbrew/perls/perl-5.30.3/lib/5.30.3/x86_64-linux-thread-multi
    /home/leo/perl5/perlbrew/perls/perl-5.30.3/lib/5.30.3
    .