Back
From: metabase:user:314402c4-2aae-11df-837a-5e0a49663a4f
Subject: PASS App-RoboBot-4.004 v5.24.1 FreeBSD
Date: 2017-03-19T04:40:07Z
This distribution has been tested as part of the CPAN Testers
project, supporting the Perl programming language. See
http://wiki.cpantesters.org/ for more information or email
questions to cpan-testers-discuss@perl.org
--
Dear Jon Sime,
This is a computer-generated report for App-RoboBot-4.004
on perl 5.24.1, created by CPAN-Reporter-1.2018.
Thank you for uploading your work to CPAN. Congratulations!
All tests were successful.
Sections of this report:
* Tester comments
* Program output
* Prerequisites
* Environment and other context
------------------------------
TESTER COMMENTS
------------------------------
Additional comments from tester:
none provided
------------------------------
PROGRAM OUTPUT
------------------------------
Output from '/usr/bin/make test':
Skip blib/lib/auto/share/dist/App-RoboBot/migrations/deploy/p-thinge-20161128223332.sql (unchanged)
Skip blib/lib/auto/share/dist/App-RoboBot/migrations/revert/p-karma-20161128200656.sql (unchanged)
Skip blib/lib/auto/share/dist/App-RoboBot/migrations/verify/p-skills-20161128215019.sql (unchanged)
Skip blib/lib/auto/share/dist/App-RoboBot/migrations/verify/p-alarms-20161128153112.sql (unchanged)
Skip blib/lib/auto/share/dist/App-RoboBot/migrations/revert/p-auth-20161128164909.sql (unchanged)
Skip blib/lib/auto/share/dist/App-RoboBot/migrations/verify/p-fakequotes-20161128183237.sql (unchanged)
Skip blib/lib/auto/share/dist/App-RoboBot/migrations/revert/p-achievements-20161128144040.sql (unchanged)
Skip blib/lib/auto/share/dist/App-RoboBot/migrations/verify/p-thinge-20161128223332.sql (unchanged)
Skip blib/lib/auto/share/dist/App-RoboBot/migrations/deploy/p-macros-20161128210159.sql (unchanged)
Skip blib/lib/auto/share/dist/App-RoboBot/migrations/revert/p-alarms-20161128153112.sql (unchanged)
Skip blib/lib/auto/share/dist/App-RoboBot/migrations/revert/p-thinge-20161128223332.sql (unchanged)
Skip blib/lib/auto/share/dist/App-RoboBot/migrations/verify/p-markov-20161128212720.sql (unchanged)
Skip blib/lib/auto/share/dist/App-RoboBot/migrations/verify/p-net-urls-20161128224203.sql (unchanged)
Skip blib/lib/auto/share/dist/App-RoboBot/migrations/deploy/p-channellink-20161128173743.sql (unchanged)
Skip blib/lib/auto/share/dist/App-RoboBot/migrations/verify/base.sql (unchanged)
Skip blib/lib/auto/share/dist/App-RoboBot/robobot.conf.sample (unchanged)
Skip blib/lib/auto/share/dist/App-RoboBot/migrations/verify/p-github-20161128190436.sql (unchanged)
Skip blib/lib/auto/share/dist/App-RoboBot/migrations/revert/p-madlibs-20161128211213.sql (unchanged)
Skip blib/lib/auto/share/dist/App-RoboBot/migrations/deploy/p-fakequotes-20161128183237.sql (unchanged)
Skip blib/lib/auto/share/dist/App-RoboBot/ubuntu-xenial-16.04-cloudimg-console.log (unchanged)
Skip blib/lib/auto/share/dist/App-RoboBot/migrations/verify/p-voting-20161128224521.sql (unchanged)
Skip blib/lib/auto/share/dist/App-RoboBot/migrations/verify/p-factoids-20161128182038.sql (unchanged)
Skip blib/lib/auto/share/dist/App-RoboBot/migrations/deploy/p-voting-20161128224521.sql (unchanged)
Skip blib/lib/auto/share/dist/App-RoboBot/migrations/verify/p-madlibs-20161128211213.sql (unchanged)
Skip blib/lib/auto/share/dist/App-RoboBot/migrations/deploy/p-skills-20161128215019.sql (unchanged)
Skip blib/lib/auto/share/dist/App-RoboBot/migrations/verify/p-location-20161128204426.sql (unchanged)
Skip blib/lib/auto/share/dist/App-RoboBot/migrations/deploy/p-factoids-20161128182038.sql (unchanged)
Skip blib/lib/auto/share/dist/App-RoboBot/migrations/deploy/p-net-urls-20161128224203.sql (unchanged)
Skip blib/lib/auto/share/dist/App-RoboBot/migrations/verify/p-auth-20161128164909.sql (unchanged)
Skip blib/lib/auto/share/dist/App-RoboBot/migrations/revert/p-autoreply-20161128171050.sql (unchanged)
Skip blib/lib/auto/share/dist/App-RoboBot/migrations/deploy/p-auth-20161128164909.sql (unchanged)
Skip blib/lib/auto/share/dist/App-RoboBot/migrations/verify/p-karma-20161128200656.sql (unchanged)
Skip blib/lib/auto/share/dist/App-RoboBot/migrations/deploy/p-autoreply-20161128171050.sql (unchanged)
Skip blib/lib/auto/share/dist/App-RoboBot/migrations/deploy/p-memos-20161128214110.sql (unchanged)
Skip blib/lib/auto/share/dist/App-RoboBot/migrations/revert/p-logger-20161128205533.sql (unchanged)
Skip blib/lib/auto/share/dist/App-RoboBot/migrations/revert/p-location-20161128204426.sql (unchanged)
Skip blib/lib/auto/share/dist/App-RoboBot/migrations/verify/p-skills-20161128231536.sql (unchanged)
Skip blib/lib/auto/share/dist/App-RoboBot/migrations/revert/p-net-urls-20161128224203.sql (unchanged)
Skip blib/lib/auto/share/dist/App-RoboBot/migrations/deploy/p-net-http-20161128214753.sql (unchanged)
Skip blib/lib/auto/share/dist/App-RoboBot/migrations/revert/p-skills-20161128215019.sql (unchanged)
Skip blib/lib/auto/share/dist/App-RoboBot/Vagrantfile (unchanged)
Skip blib/lib/auto/share/dist/App-RoboBot/migrations/deploy/p-skills-20161128231536.sql (unchanged)
Skip blib/lib/auto/share/dist/App-RoboBot/migrations/revert/p-voting-20161128224521.sql (unchanged)
Skip blib/lib/auto/share/dist/App-RoboBot/migrations/verify/p-memos-20161128214110.sql (unchanged)
Skip blib/lib/auto/share/dist/App-RoboBot/migrations/deploy/p-markov-20161128212720.sql (unchanged)
Skip blib/lib/auto/share/dist/App-RoboBot/migrations/verify/p-variables-20161128195027.sql (unchanged)
Skip blib/lib/auto/share/dist/App-RoboBot/migrations/sqitch.plan (unchanged)
Skip blib/lib/auto/share/dist/App-RoboBot/migrations/deploy/p-madlibs-20161128211213.sql (unchanged)
Skip blib/lib/auto/share/dist/App-RoboBot/migrations/revert/p-fakequotes-20161128183237.sql (unchanged)
Skip blib/lib/auto/share/dist/App-RoboBot/migrations/deploy/p-logger-20161128205533.sql (unchanged)
Skip blib/lib/auto/share/dist/App-RoboBot/migrations/deploy/p-github-20161128190436.sql (unchanged)
Skip blib/lib/auto/share/dist/App-RoboBot/migrations/revert/p-variables-20161128195027.sql (unchanged)
Skip blib/lib/auto/share/dist/App-RoboBot/migrations/revert/p-memos-20161128214110.sql (unchanged)
Skip blib/lib/auto/share/dist/App-RoboBot/migrations/deploy/p-karma-20161128200656.sql (unchanged)
Skip blib/lib/auto/share/dist/App-RoboBot/migrations/deploy/p-variables-20161128195027.sql (unchanged)
Skip blib/lib/auto/share/dist/App-RoboBot/migrations/verify/p-macros-20161128210159.sql (unchanged)
Skip blib/lib/auto/share/dist/App-RoboBot/migrations/deploy/p-achievements-20161128144040.sql (unchanged)
Skip blib/lib/auto/share/dist/App-RoboBot/migrations/revert/p-github-20161128190436.sql (unchanged)
Skip blib/lib/auto/share/dist/App-RoboBot/migrations/revert/p-macros-20161128210159.sql (unchanged)
Skip blib/lib/auto/share/dist/App-RoboBot/migrations/deploy/base.sql (unchanged)
Skip blib/lib/auto/share/dist/App-RoboBot/migrations/revert/p-net-http-20161128214753.sql (unchanged)
Skip blib/lib/auto/share/dist/App-RoboBot/migrations/revert/base.sql (unchanged)
Skip blib/lib/auto/share/dist/App-RoboBot/migrations/verify/p-net-http-20161128214753.sql (unchanged)
Skip blib/lib/auto/share/dist/App-RoboBot/migrations/verify/p-autoreply-20161128171050.sql (unchanged)
Skip blib/lib/auto/share/dist/App-RoboBot/migrations/verify/p-channellink-20161128173743.sql (unchanged)
Skip blib/lib/auto/share/dist/App-RoboBot/migrations/revert/p-factoids-20161128182038.sql (unchanged)
Skip blib/lib/auto/share/dist/App-RoboBot/migrations/revert/p-markov-20161128212720.sql (unchanged)
Skip blib/lib/auto/share/dist/App-RoboBot/migrations/deploy/p-location-20161128204426.sql (unchanged)
Skip blib/lib/auto/share/dist/App-RoboBot/migrations/deploy/p-alarms-20161128153112.sql (unchanged)
Skip blib/lib/auto/share/dist/App-RoboBot/migrations/verify/p-logger-20161128205533.sql (unchanged)
Skip blib/lib/auto/share/dist/App-RoboBot/migrations/verify/p-achievements-20161128144040.sql (unchanged)
Skip blib/lib/auto/share/dist/App-RoboBot/migrations/revert/p-channellink-20161128173743.sql (unchanged)
Skip blib/lib/auto/share/dist/App-RoboBot/migrations/revert/p-skills-20161128231536.sql (unchanged)
Skip blib/lib/auto/share/dist/App-RoboBot/migrations/sqitch.conf (unchanged)
PERL_DL_NONLAZY=1 "/usr/perl5.24.1p/bin/perl" "-MExtUtils::Command::MM" "-MTest::Harness" "-e" "undef *Test::Harness::Switches; test_harness(0, 'blib/lib', 'blib/arch')" t/*.t
#
# Versions for all modules listed in MYMETA.json (including optional ones):
#
# === Configure Requires ===
#
# Module Want Have
# ----------------------- ---- ----
# ExtUtils::MakeMaker any 7.24
# File::ShareDir::Install 0.06 0.11
#
# === Build Requires ===
#
# Module Want Have
# ------------------- ---- ----
# ExtUtils::MakeMaker any 7.24
#
# === Test Requires ===
#
# Module Want Have
# ------------------- ---- --------
# ExtUtils::MakeMaker any 7.24
# File::Spec any 3.63_01
# Test::More any 1.302075
#
# === Test Recommends ===
#
# Module Want Have
# ---------- -------- --------
# CPAN::Meta 2.120900 2.150005
#
# === Runtime Requires ===
#
# Module Want Have
# ------------------------------- ---- ---------
# Acme::Zalgo any 0.002
# AnyEvent any 7.13
# AnyEvent::IRC::Client any undef
# AnyEvent::Mattermost any 0.002
# AnyEvent::SlackRTM any 0.161950
# App::Sqitch any 0.9995
# Clone any 0.38
# Config::Any::Merge any 0.08
# Config::General any 2.63
# DBD::Pg any 3.5.3
# DBIx::DataStore any 0.097
# Data::Dumper any 2.161
# DateTime any 1.42
# DateTime::Format::Pg any 0.16012
# EV any 4.22
# Exporter::Easy any 0.18
# File::HomeDir any 1.00
# File::ShareDir any 1.102
# FileHandle any 2.02
# Getopt::Long::Descriptive any 0.100
# HTML::TreeBuilder::LibXML any 0.26
# HTML::TreeBuilder::XPath any 0.14
# HTTP::Request any 6.11
# IPC::Open2 any 1.04
# JSON any 2.90
# JSON::Path any 0.205
# LWP::Protocol::https any 6.06
# LWP::Simple any 6.23
# LWP::UserAgent any 6.23
# Lingua::EN::Tagger any 0.28
# List::Util any 1.47
# Log::Dispatch::Screen any 2.58
# Log::Log4perl any 1.48
# Log::Log4perl::Appender::Screen any undef
# Module::Loaded any 0.08
# Module::Pluggable::Object any 5.2
# Moose any 2.2003
# MooseX::ClassAttribute any 0.29
# MooseX::SetOnce any 0.200002
# Number::Format any 1.75
# Pod::Simple::SimpleTree any 3.35
# Scalar::Util any 1.47
# Term::ExtendedColor any 0.224
# Text::Aspell any 0.09
# Text::Levenshtein any 0.13
# Text::Wrap any 2013.0523
# Time::HiRes any 1.9741
# Try::Tiny any 0.28
# URI any 1.71
# URI::Find any 20160806
# URI::QueryParam any 1.71
# XML::LibXML any 2.0128
# namespace::autoclean any 0.28
# strict any 1.11
# vars any 1.03
# warnings any 1.36
#
t/00-report-prereqs.t ............ ok
t/01-use.t ....................... ok
t/50-types-list.t ................ ok
t/50-types-map.t ................. ok
t/50-types-string.t .............. ok
t/50-types-vector.t .............. ok
t/author-pod-syntax.t ............ skipped: these tests are for testing by the author
t/release-changes_has_content.t .. skipped: these tests are for release candidate testing
All tests successful.
Files=8, Tests=96, 20 wallclock secs ( 0.00 usr 0.07 sys + 1.22 cusr 2.92 csys = 4.21 CPU)
Result: PASS
------------------------------
PREREQUISITES
------------------------------
Prerequisite modules loaded:
requires:
Module Need Have
------------------------------- -------- ---------
Acme::Zalgo 0 0.002
AnyEvent 0 7.13
AnyEvent::IRC::Client 0 0
! AnyEvent::Mattermost 0 broken
! AnyEvent::SlackRTM 0 broken
! App::Sqitch 0 broken
Clone 0 0.38
Config::Any::Merge 0 0.08
Config::General 0 2.63
Data::Dumper 0 2.161
DateTime 0 1.42
DateTime::Format::Pg 0 0.16012
DBD::Pg 0 3.5.3
DBIx::DataStore 0 0.097
EV 0 4.22
Exporter::Easy 0 0.18
File::HomeDir 0 1.00
File::ShareDir 0 1.102
FileHandle 0 2.02
Getopt::Long::Descriptive 0 0.100
HTML::TreeBuilder::LibXML 0 0.26
HTML::TreeBuilder::XPath 0 0.14
HTTP::Request 0 6.11
IPC::Open2 0 1.04
JSON 0 2.90
JSON::Path 0 0.205
Lingua::EN::Tagger 0 0.28
List::Util 0 1.47
Log::Dispatch::Screen 0 2.58
Log::Log4perl 0 1.48
Log::Log4perl::Appender::Screen 0 0
LWP::Protocol::https 0 6.06
LWP::Simple 0 6.23
LWP::UserAgent 0 6.23
Module::Loaded 0 0.08
Module::Pluggable::Object 0 5.2
Moose 0 2.2003
MooseX::ClassAttribute 0 0.29
MooseX::SetOnce 0 0.200002
namespace::autoclean 0 0.28
Number::Format 0 1.75
perl 5.020000 5.024001
Pod::Simple::SimpleTree 0 3.35
Scalar::Util 0 1.47
strict 0 1.11
Term::ExtendedColor 0 0.224
Text::Aspell 0 0.09
Text::Levenshtein 0 0.13
Text::Wrap 0 2013.0523
Time::HiRes 0 1.9741
Try::Tiny 0 0.28
URI 0 1.71
URI::Find 0 20160806
URI::QueryParam 0 1.71
vars 0 1.03
warnings 0 1.36
XML::LibXML 0 2.0128
build_requires:
Module Need Have
------------------------------- -------- ---------
ExtUtils::MakeMaker 0 7.24
File::Spec 0 3.63_01
Test::More 0 1.302075
configure_requires:
Module Need Have
------------------------------- -------- ---------
ExtUtils::MakeMaker 0 7.24
File::ShareDir::Install 0.06 0.11
------------------------------
ENVIRONMENT AND OTHER CONTEXT
------------------------------
Environment variables:
LC_ALL = de_DE.ISO8859-1
PATH = /usr/local/bin:/usr/bin:/bin:/usr/local/sbin:/usr/sbin:/sbin:/home/cpansand/bin/freebsd10.3:/home/cpansand/bin/sh:/home/cpansand/bin:/usr/games:/home/cpansand/devel:/home/eserte/src/srezic-misc/scripts
PERL5LIB = /home/cpansand/.cpan/build/2017031903/Text-Aspell-0.09-1/blib/arch:/home/cpansand/.cpan/build/2017031903/Text-Aspell-0.09-1/blib/lib:/home/cpansand/.cpan/build/2017031903/Term-ExtendedColor-0.224-1/blib/arch:/home/cpansand/.cpan/build/2017031903/Term-ExtendedColor-0.224-1/blib/lib:/home/cpansand/.cpan/build/2017031903/HTML-TreeBuilder-LibXML-0.26-1/blib/arch:/home/cpansand/.cpan/build/2017031903/HTML-TreeBuilder-LibXML-0.26-1/blib/lib:/home/cpansand/.cpan/build/2017031903/DBIx-DataStore-0.097-1/blib/arch:/home/cpansand/.cpan/build/2017031903/DBIx-DataStore-0.097-1/blib/lib:/home/cpansand/.cpan/build/2017031903/Config-Any-Merge-0.08-1/blib/arch:/home/cpansand/.cpan/build/2017031903/Config-Any-Merge-0.08-1/blib/lib:/home/cpansand/.cpan/build/2017031903/App-Sqitch-0.9995-1/blib/arch:/home/cpansand/.cpan/build/2017031903/App-Sqitch-0.9995-1/blib/lib:/home/cpansand/.cpan/build/2017031903/IO-Pager-0.36-0/blib/arch:/home/cpansand/.cpan/build/2017031903/IO-Pager-0.36-0/blib/lib:/home/cpansand/.cpan/build/2017031903/AnyEvent-SlackRTM-0.161950-1/blib/arch:/home/cpansand/.cpan/build/2017031903/AnyEvent-SlackRTM-0.161950-1/blib/lib:/home/cpansand/.cpan/build/2017031903/AnyEvent-Mattermost-0.002-1/blib/arch:/home/cpansand/.cpan/build/2017031903/AnyEvent-Mattermost-0.002-1/blib/lib:/home/cpansand/.cpan/build/2017031903/AnyEvent-IRC-0.97-1/blib/arch:/home/cpansand/.cpan/build/2017031903/AnyEvent-IRC-0.97-1/blib/lib:/home/cpansand/.cpan/build/2017031903/Acme-Zalgo-0.002-1/blib/arch:/home/cpansand/.cpan/build/2017031903/Acme-Zalgo-0.002-1/blib/lib
PERL5OPT =
PERL5_CPANPLUS_IS_RUNNING = 84237
PERL5_CPAN_IS_RUNNING = 84237
PERL5_CPAN_IS_RUNNING_IN_RECURSION = 84198,84237
PERLDOC = -MPod::Perldoc::ToTextOverstrike
PERL_BATCH = yes
PERL_CANARY_STABILITY_NOPROMPT = 1
PERL_CPAN_REPORTER_CONFIG = /var/tmp/cpansmoker-1023/2017031903/cpanreporter_000_config.ini
PERL_EXTUTILS_AUTOINSTALL = --defaultdeps
SHELL = /usr/local/bin/zsh
TERM = screen
TMPDIR = /var/tmp/cpansmoker-1023/2017031903
Perl special variables (and OS-specific diagnostics, for MSWin32):
$^X = /usr/perl5.24.1p/bin/perl
$UID/$EUID = 1023 / 1023
$GID = 1023 1023
$EGID = 1023 1023
Perl module toolchain versions installed:
Module Have
------------------- ----------
CPAN 2.16
CPAN::Meta 2.150005
Cwd 3.63_01
ExtUtils::CBuilder 0.280225
ExtUtils::Command 7.24
ExtUtils::Install 2.04
ExtUtils::MakeMaker 7.24
ExtUtils::Manifest 1.70
ExtUtils::ParseXS 3.31
File::Spec 3.63_01
JSON 2.90
JSON::PP 2.27400
Module::Build 0.4220
Module::Signature n/a
Parse::CPAN::Meta 1.4417_001
Test::Harness 3.38
Test::More 1.302075
YAML 1.22
YAML::Syck 1.29
version 0.9916
--
Summary of my perl5 (revision 5 version 24 subversion 1) configuration:
Platform:
osname=freebsd, osvers=10.1-release, archname=amd64-freebsd
uname='freebsd cvrsnica-freebsd-101.herceg.de 10.1-release freebsd 10.1-release #0 r274401: tue nov 11 21:02:49 utc 2014 root@releng1.nyi.freebsd.org:usrobjusrsrcsysgeneric amd64 '
config_args='-ds -e -Dprefix=/usr/perl5.24.1p -Dcf_email=srezic@cpan.org -Doptimize=-O2 -pipe'
hint=recommended, useposix=true, d_sigaction=define
useithreads=undef, usemultiplicity=undef
use64bitint=define, use64bitall=define, uselongdouble=undef
usemymalloc=n, bincompat5005=undef
Compiler:
cc='cc', ccflags ='-DHAS_FPSETMASK -DHAS_FLOATINGPOINT_H -fno-strict-aliasing -pipe -fstack-protector -I/usr/local/include -D_FORTIFY_SOURCE=2',
optimize='-O2 -pipe',
cppflags='-DHAS_FPSETMASK -DHAS_FLOATINGPOINT_H -fno-strict-aliasing -pipe -fstack-protector -I/usr/local/include'
ccversion='', gccversion='4.2.1 Compatible FreeBSD Clang 3.4.1 (tags/RELEASE_34/dot1-final 208032)', gccosandvers=''
intsize=4, longsize=8, ptrsize=8, doublesize=8, byteorder=12345678, doublekind=3
d_longlong=define, longlongsize=8, d_longdbl=define, longdblsize=16, longdblkind=3
ivtype='long', ivsize=8, nvtype='double', nvsize=8, Off_t='off_t', lseeksize=8
alignbytes=8, prototype=define
Linker and Libraries:
ld='cc', ldflags ='-pthread -Wl,-E -fstack-protector -L/usr/local/lib'
libpth=/usr/lib /usr/local/lib /usr/include/clang/3.4.1 /usr/lib
libs=-lpthread -lgdbm -lm -lcrypt -lutil -lc
perllibs=-lpthread -lm -lcrypt -lutil -lc
libc=, so=so, useshrplib=false, libperl=libperl.a
gnulibc_version=''
Dynamic Linking:
dlsrc=dl_dlopen.xs, dlext=so, d_dlsymun=undef, ccdlflags=' '
cccdlflags='-DPIC -fPIC', lddlflags='-shared -L/usr/local/lib -fstack-protector'
Characteristics of this binary (from libperl):
Compile-time options: HAS_TIMES PERLIO_LAYERS PERL_COPY_ON_WRITE
PERL_DONT_CREATE_GVSV
PERL_HASH_FUNC_ONE_AT_A_TIME_HARD PERL_MALLOC_WRAP
PERL_PRESERVE_IVUV USE_64_BIT_ALL USE_64_BIT_INT
USE_LARGE_FILES USE_LOCALE USE_LOCALE_COLLATE
USE_LOCALE_CTYPE USE_LOCALE_NUMERIC USE_LOCALE_TIME
USE_PERLIO USE_PERL_ATOF
Built under freebsd
Compiled at Jan 15 2017 11:45:26
%ENV:
PERL5LIB="/home/cpansand/.cpan/build/2017031903/Text-Aspell-0.09-1/blib/arch:/home/cpansand/.cpan/build/2017031903/Text-Aspell-0.09-1/blib/lib:/home/cpansand/.cpan/build/2017031903/Term-ExtendedColor-0.224-1/blib/arch:/home/cpansand/.cpan/build/2017031903/Term-ExtendedColor-0.224-1/blib/lib:/home/cpansand/.cpan/build/2017031903/HTML-TreeBuilder-LibXML-0.26-1/blib/arch:/home/cpansand/.cpan/build/2017031903/HTML-TreeBuilder-LibXML-0.26-1/blib/lib:/home/cpansand/.cpan/build/2017031903/DBIx-DataStore-0.097-1/blib/arch:/home/cpansand/.cpan/build/2017031903/DBIx-DataStore-0.097-1/blib/lib:/home/cpansand/.cpan/build/2017031903/Config-Any-Merge-0.08-1/blib/arch:/home/cpansand/.cpan/build/2017031903/Config-Any-Merge-0.08-1/blib/lib:/home/cpansand/.cpan/build/2017031903/App-Sqitch-0.9995-1/blib/arch:/home/cpansand/.cpan/build/2017031903/App-Sqitch-0.9995-1/blib/lib:/home/cpansand/.cpan/build/2017031903/IO-Pager-0.36-0/blib/arch:/home/cpansand/.cpan/build/2017031903/IO-Pager-0.36-0/blib/lib:/home/cpansand/.cpan/build/2017031903/AnyEvent-SlackRTM-0.161950-1/blib/arch:/home/cpansand/.cpan/build/2017031903/AnyEvent-SlackRTM-0.161950-1/blib/lib:/home/cpansand/.cpan/build/2017031903/AnyEvent-Mattermost-0.002-1/blib/arch:/home/cpansand/.cpan/build/2017031903/AnyEvent-Mattermost-0.002-1/blib/lib:/home/cpansand/.cpan/build/2017031903/AnyEvent-IRC-0.97-1/blib/arch:/home/cpansand/.cpan/build/2017031903/AnyEvent-IRC-0.97-1/blib/lib:/home/cpansand/.cpan/build/2017031903/Acme-Zalgo-0.002-1/blib/arch:/home/cpansand/.cpan/build/2017031903/Acme-Zalgo-0.002-1/blib/lib"
PERL5OPT=""
PERL5_CPANPLUS_IS_RUNNING="84237"
PERL5_CPAN_IS_RUNNING="84237"
PERL5_CPAN_IS_RUNNING_IN_RECURSION="84198,84237"
PERLDOC="-MPod::Perldoc::ToTextOverstrike"
PERL_BATCH="yes"
PERL_CANARY_STABILITY_NOPROMPT="1"
PERL_CPAN_REPORTER_CONFIG="/var/tmp/cpansmoker-1023/2017031903/cpanreporter_000_config.ini"
PERL_EXTUTILS_AUTOINSTALL="--defaultdeps"
@INC:
/home/cpansand/.cpan/build/2017031903/Text-Aspell-0.09-1/blib/arch
/home/cpansand/.cpan/build/2017031903/Text-Aspell-0.09-1/blib/lib
/home/cpansand/.cpan/build/2017031903/Term-ExtendedColor-0.224-1/blib/arch
/home/cpansand/.cpan/build/2017031903/Term-ExtendedColor-0.224-1/blib/lib
/home/cpansand/.cpan/build/2017031903/HTML-TreeBuilder-LibXML-0.26-1/blib/arch
/home/cpansand/.cpan/build/2017031903/HTML-TreeBuilder-LibXML-0.26-1/blib/lib
/home/cpansand/.cpan/build/2017031903/DBIx-DataStore-0.097-1/blib/arch
/home/cpansand/.cpan/build/2017031903/DBIx-DataStore-0.097-1/blib/lib
/home/cpansand/.cpan/build/2017031903/Config-Any-Merge-0.08-1/blib/arch
/home/cpansand/.cpan/build/2017031903/Config-Any-Merge-0.08-1/blib/lib
/home/cpansand/.cpan/build/2017031903/App-Sqitch-0.9995-1/blib/arch
/home/cpansand/.cpan/build/2017031903/App-Sqitch-0.9995-1/blib/lib
/home/cpansand/.cpan/build/2017031903/IO-Pager-0.36-0/blib/arch
/home/cpansand/.cpan/build/2017031903/IO-Pager-0.36-0/blib/lib
/home/cpansand/.cpan/build/2017031903/AnyEvent-SlackRTM-0.161950-1/blib/arch
/home/cpansand/.cpan/build/2017031903/AnyEvent-SlackRTM-0.161950-1/blib/lib
/home/cpansand/.cpan/build/2017031903/AnyEvent-Mattermost-0.002-1/blib/arch
/home/cpansand/.cpan/build/2017031903/AnyEvent-Mattermost-0.002-1/blib/lib
/home/cpansand/.cpan/build/2017031903/AnyEvent-IRC-0.97-1/blib/arch
/home/cpansand/.cpan/build/2017031903/AnyEvent-IRC-0.97-1/blib/lib
/home/cpansand/.cpan/build/2017031903/Acme-Zalgo-0.002-1/blib/arch
/home/cpansand/.cpan/build/2017031903/Acme-Zalgo-0.002-1/blib/lib
/usr/perl5.24.1p/lib/site_perl/5.24.1/amd64-freebsd
/usr/perl5.24.1p/lib/site_perl/5.24.1
/usr/perl5.24.1p/lib/5.24.1/amd64-freebsd
/usr/perl5.24.1p/lib/5.24.1
.