MooseX-Extended v0.35 Perl 5 v5.43.4 OpenBSD.amd64-openbsd-thread-multi
- Status
- Pass
- From
- Carlos Guevara
- Dist
-
MooseX-Extended v0.35
- Platform
- Perl 5 v5.43.4 OpenBSD.amd64-openbsd-thread-multi
- Date
- 2025-10-19 11:02:39
- ID
- 2093f144-acdb-11f0-8d73-9a15acb7b51b
This distribution has been tested as part of the CPAN Testers
project, supporting the Perl programming language. See
http://wiki.cpantesters.org/ for more information or email
questions to cpan-testers-discuss@perl.org
--
Dear Curtis Poe,
This is a computer-generated report for MooseX-Extended-0.35
on perl 5.43.4, created by CPAN-Reporter-1.2020.
Thank you for uploading your work to CPAN. Congratulations!
All tests were successful.
Sections of this report:
* Tester comments
* Program output
* Prerequisites
* Environment and other context
------------------------------
TESTER COMMENTS
------------------------------
Additional comments from tester:
this report is from an automated smoke testing program
and was not reviewed by a human for accuracy
------------------------------
PROGRAM OUTPUT
------------------------------
Output from '/usr/bin/make test':
PERL_DL_NONLAZY=1 "/home/cpan/bin/perl/bin/perl5.43.4" "-MExtUtils::Command::MM" "-MTest::Harness" "-e" "undef *Test::Harness::Switches; test_harness(0, 'blib/lib', 'blib/arch')" t/*.t
# Testing MooseX::Extended 0.35, Perl 5.043004, /home/cpan/bin/perl/bin/perl5.43.4
t/00-load.t ............... ok
#
# Versions for all modules listed in MYMETA.json (including optional ones):
#
# === Configure Requires ===
#
# Module Want Have
# ------------------- ---- ----
# ExtUtils::MakeMaker any 7.76
#
# === Build Requires ===
#
# Module Want Have
# ------------------- ---- ----
# ExtUtils::MakeMaker any 7.76
#
# === Test Requires ===
#
# Module Want Have
# ------------------- ---- --------
# Capture::Tiny any 0.50
# DateTime any 1.66
# ExtUtils::MakeMaker any 7.76
# File::Spec any 3.94
# List::Util any 1.70
# Scalar::Util any 1.70
# Test::Builder any 1.302214
# Test::More any 1.302214
# Test::Most any 0.38
# base any 2.27
# lib any 0.65
# version any 0.9933
#
# === Test Recommends ===
#
# Module Want Have
# --------------- -------- --------
# CPAN::Meta 2.120900 2.150010
# Data::Printer any 1.002001
# IO::Async::Loop any 0.804
#
# === Runtime Requires ===
#
# Module Want Have
# ----------------------------- -------- --------
# B::Hooks::AtRuntime 8 8
# Carp any 1.54
# Data::Printer any 1.002001
# Exporter any 5.79
# Import::Into any 1.002005
# Module::Load any 0.36
# Moose any 2.4000
# Moose::Exception any 2.4000
# Moose::Exception::Role::Class any 2.4000
# Moose::Exporter any 2.4000
# Moose::Meta::Role any 2.4000
# Moose::Role any 2.4000
# Moose::Util any 2.4000
# MooseX::Role::WarnOnConflict any 0.01
# MooseX::StrictConstructor any 0.21
# Ref::Util any 0.204
# Storable any 3.39
# Type::Library any 2.008004
# Type::Params any 2.008004
# Type::Tiny 1.012004 2.008004
# Type::Utils any 2.008004
# Types::Common::Numeric any 2.008004
# Types::Common::String any 2.008004
# Types::Standard any 2.008004
# constant any 1.33
# feature any 2.00
# mro any 1.30
# namespace::autoclean any 0.31
# parent any 0.244
# perl 5.020000 5.043004
# strict any 1.14
# true v1.0.2 v1.0.2
# warnings any 1.74
#
# === Runtime Suggests ===
#
# Module Want Have
# ------------------------- -------- --------
# Function::Parameters 2.001003 2.002006
# Future 0.48 0.52
# Future::AsyncAwait 0.58 0.71
# Syntax::Keyword::MultiSub 0.03 missing
# Syntax::Keyword::Try 0.027 0.31
#
t/00-report-prereqs.t ..... ok
t/async.t ................. ok
t/basic.t ................. ok
t/clone.t ................. ok
t/configuration.t ......... ok
t/custom.t ................ ok
t/exceptions.t ............ ok
t/excludes_field_param.t .. ok
t/field_init_arg.t ........ ok
t/import-lists.t .......... ok
t/inheritance.t ........... ok
t/inline.t ................ ok
t/method-keyword.t ........ ok
t/moose_compatibility.t ... ok
t/multimethods.t .......... skipped: Could not load Syntax::Keyword::MultiSub: Can't locate Syntax/Keyword/MultiSub.pm in @INC (you may need to install the Syntax::Keyword::MultiSub module) (@INC entries checked: t/lib /home/cpan/.cpan/build/MooseX-Extended-0.35-0/blib/lib /home/cpan/.cpan/build/MooseX-Extended-0.35-0/blib/arch /home/cpan/bin/perl/lib/site_perl/5.43.4/OpenBSD.amd64-openbsd-thread-multi /home/cpan/bin/perl/lib/site_perl/5.43.4 /home/cpan/bin/perl/lib/5.43.4/OpenBSD.amd64-openbsd-thread-multi /home/cpan/bin/perl/lib/5.43.4 .) at /home/cpan/bin/perl/lib/5.43.4/Module/Load.pm line 78.
t/roles.t ................. ok
t/rwp.t ................... ok
t/stringy-eval.t .......... ok
t/try.t ................... ok
t/types.t ................. ok
t/warnings.t .............. ok
All tests successful.
Files=22, Tests=120, 11 wallclock secs ( 0.10 usr 0.06 sys + 8.68 cusr 1.49 csys = 10.33 CPU)
Result: PASS
------------------------------
PREREQUISITES
------------------------------
Prerequisite modules loaded:
requires:
Module Need Have
----------------------------- -------- --------
B::Hooks::AtRuntime 8 8
Carp 0 1.54
constant 0 1.33
Data::Printer 0 1.002001
Exporter 0 5.79
feature 0 2.00
Import::Into 0 1.002005
Module::Load 0 0.36
Moose 0 2.4000
Moose::Exception 0 2.4000
Moose::Exception::Role::Class 0 2.4000
Moose::Exporter 0 2.4000
Moose::Meta::Role 0 2.4000
Moose::Role 0 2.4000
Moose::Util 0 2.4000
MooseX::Role::WarnOnConflict 0 0.01
MooseX::StrictConstructor 0 0.21
mro 0 1.30
namespace::autoclean 0 0.31
parent 0 0.244
perl 5.020000 5.043004
Ref::Util 0 0.204
Storable 0 3.39
strict 0 1.14
true v1.0.2 v1.0.2
Type::Library 0 2.008004
Type::Params 0 2.008004
Type::Tiny 1.012004 2.008004
Type::Utils 0 2.008004
Types::Common::Numeric 0 2.008004
Types::Common::String 0 2.008004
Types::Standard 0 2.008004
warnings 0 1.74
build_requires:
Module Need Have
----------------------------- -------- --------
base 0 2.27
Capture::Tiny 0 0.50
DateTime 0 1.66
ExtUtils::MakeMaker 0 7.76
File::Spec 0 3.94
lib 0 0.65
List::Util 0 1.70
Scalar::Util 0 1.70
Test::Builder 0 1.302214
Test::More 0 1.302214
Test::Most 0 0.38
version 0 0.9933
configure_requires:
Module Need Have
----------------------------- -------- --------
ExtUtils::MakeMaker 0 7.76
opt_requires:
Module Need Have
----------------------------- -------- --------
Function::Parameters 2.001003 2.002006
Future 0.48 0.52
Future::AsyncAwait 0.58 0.71
! Syntax::Keyword::MultiSub 0.03 n/a
Syntax::Keyword::Try 0.027 0.31
opt_build_requires:
Module Need Have
----------------------------- -------- --------
CPAN::Meta 2.120900 2.150010
Data::Printer 0 1.002001
IO::Async::Loop 0 0.804
------------------------------
ENVIRONMENT AND OTHER CONTEXT
------------------------------
Environment variables:
AUTOMATED_TESTING = 1
CJG_PERL_COMMIT = 6c696391d6
DATE_MANIP_TEST_DM5 = 1
LC_ALL = C
NONINTERACTIVE_TESTING = 1
NO_NETWORK_TESTING = 1
PATH = /home/cpan/bin/perl/bin:/home/cpan/bin:/home/cpan/bin:/bin:/sbin:/usr/bin:/usr/sbin:/usr/X11R6/bin:/usr/local/bin:/usr/local/sbin
PERL5LIB =
PERL5OPT =
PERL5_CPANPLUS_IS_RUNNING = 71692
PERL5_CPAN_IS_RUNNING = 71692
PERL_MM_USE_DEFAULT = 1
PERL_PERTURB_KEYS = 0
PERL_USE_UNSAFE_INC = 1
SHELL = /usr/local/bin/bash
TERM = screen
TMPDIR = /home/cpan/tmp
Perl special variables (and OS-specific diagnostics, for MSWin32):
$^X = /home/cpan/bin/perl/bin/perl5.43.4
$UID/$EUID = 1001 / 1001
$GID = 1001 1001
$EGID = 1001 1001
Perl module toolchain versions installed:
Module Have
------------------- --------
CPAN 2.38
CPAN::Meta 2.150010
Cwd 3.94
ExtUtils::CBuilder 0.280242
ExtUtils::Command 7.76
ExtUtils::Install 2.22
ExtUtils::MakeMaker 7.76
ExtUtils::Manifest 1.75
ExtUtils::ParseXS 3.60
File::Spec 3.94
JSON 4.10
JSON::PP 4.16
Module::Build 0.4234
Module::Signature n/a
Parse::CPAN::Meta 2.150010
Test2 1.302214
Test::Harness 3.52
Test::More 1.302214
YAML 1.31
YAML::Syck 1.36
version 0.9933
--
Summary of my perl5 (revision 5 version 43 subversion 4) configuration:
Commit id: 6c696391d6a59512901eaa88e2a6ab65f548021e
Platform:
osname=openbsd
osvers=7.7
archname=OpenBSD.amd64-openbsd-thread-multi
uname='openbsd cjg-openbsd7 7.7 generic#2 amd64 '
config_args='-des -Dprefix=/home/cpan/bin/perl -Dscriptdir=/home/cpan/bin/perl/bin -Dusedevel -Duse64bitall -Duseithreads'
hint=recommended
useposix=true
d_sigaction=define
useithreads=define
usemultiplicity=define
use64bitint=define
use64bitall=define
uselongdouble=undef
usemymalloc=n
default_inc_excludes_dot=define
Compiler:
cc='cc'
ccflags ='-pthread -DNO_LOCALE_NUMERIC -DNO_LOCALE_COLLATE -DNO_LOCALE_MONETARY -DNO_LOCALE_TIME -DNO_LOCALE_MESSAGES -DLIBC_HANDLES_MISMATCHED_CTYPE -fno-strict-aliasing -pipe -fstack-protector-strong -I/usr/local/include'
optimize='-O2'
cppflags='-pthread -DNO_LOCALE_NUMERIC -DNO_LOCALE_COLLATE -DNO_LOCALE_MONETARY -DNO_LOCALE_TIME -DNO_LOCALE_MESSAGES -DLIBC_HANDLES_MISMATCHED_CTYPE -fno-strict-aliasing -pipe -fstack-protector-strong -I/usr/local/include'
ccversion=''
gccversion='OpenBSD Clang 16.0.6'
gccosandvers=''
intsize=4
longsize=8
ptrsize=8
doublesize=8
byteorder=12345678
doublekind=3
d_longlong=define
longlongsize=8
d_longdbl=define
longdblsize=16
longdblkind=3
ivtype='long'
ivsize=8
nvtype='double'
nvsize=8
Off_t='off_t'
lseeksize=8
alignbytes=8
prototype=define
Linker and Libraries:
ld='cc'
ldflags ='-pthread -Wl,-E -fstack-protector-strong -L/usr/local/lib'
libpth=/usr/lib/clang/16/lib /usr/lib /usr/local/lib
libs=-lpthread -lm -lutil -lc
perllibs=-lpthread -lm -lutil -lc
libc=/usr/lib/libc.so.100.3
so=so
useshrplib=false
libperl=libperl.a
gnulibc_version=''
Dynamic Linking:
dlsrc=dl_dlopen.xs
dlext=so
d_dlsymun=undef
ccdlflags=' '
cccdlflags='-DPIC -fPIC '
lddlflags='-shared -fPIC -L/usr/local/lib -fstack-protector-strong'
Characteristics of this binary (from libperl):
Compile-time options:
HAS_LONG_DOUBLE
HAS_STRTOLD
HAS_TIMES
MULTIPLICITY
PERLIO_LAYERS
PERL_COPY_ON_WRITE
PERL_DONT_CREATE_GVSV
PERL_HASH_FUNC_SIPHASH13
PERL_HASH_USE_SBOX32
PERL_MALLOC_WRAP
PERL_OP_PARENT
PERL_PRESERVE_IVUV
PERL_USE_DEVEL
PERL_USE_SAFE_PUTENV
USE_64_BIT_ALL
USE_64_BIT_INT
USE_ITHREADS
USE_LARGE_FILES
USE_LOCALE
USE_LOCALE_CTYPE
USE_PERLIO
USE_PERL_ATOF
USE_REENTRANT_API
USE_THREAD_SAFE_LOCALE
Built under openbsd
Compiled at Oct 18 2025 17:28:50
%ENV:
PERL5LIB=""
PERL5OPT=""
PERL5_CPANPLUS_IS_RUNNING="71692"
PERL5_CPAN_IS_RUNNING="71692"
PERL_MM_USE_DEFAULT="1"
PERL_PERTURB_KEYS="0"
PERL_USE_UNSAFE_INC="1"
@INC:
/home/cpan/bin/perl/lib/site_perl/5.43.4/OpenBSD.amd64-openbsd-thread-multi
/home/cpan/bin/perl/lib/site_perl/5.43.4
/home/cpan/bin/perl/lib/5.43.4/OpenBSD.amd64-openbsd-thread-multi
/home/cpan/bin/perl/lib/5.43.4
.