Catalyst-Action-REST v1.21 Perl 5 v5.30.0 amd64-netbsd
- Status
- Pass
- From
- Carlos Guevara
- Dist
-
Catalyst-Action-REST v1.21
- Platform
- Perl 5 v5.30.0 amd64-netbsd
- Date
- 2019-05-21 23:06:54
- ID
- 2040dfc2-7c1d-11e9-a0b8-0ce6435365fc
This distribution has been tested as part of the CPAN Testers
project, supporting the Perl programming language. See
http://wiki.cpantesters.org/ for more information or email
questions to cpan-testers-discuss@perl.org
--
Dear John Napiorkowski,
This is a computer-generated report for Catalyst-Action-REST-1.21
on perl 5.30.0, created by CPAN-Reporter-1.2018.
Thank you for uploading your work to CPAN. Congratulations!
All tests were successful.
Sections of this report:
* Tester comments
* Program output
* Prerequisites
* Environment and other context
------------------------------
TESTER COMMENTS
------------------------------
Additional comments from tester:
none provided
------------------------------
PROGRAM OUTPUT
------------------------------
Output from '/usr/bin/make test':
PERL_DL_NONLAZY=1 "/home/cpan/bin/perl-blead/bin/perl5.30.0" "-MExtUtils::Command::MM" "-MTest::Harness" "-e" "undef *Test::Harness::Switches; test_harness(0, 'blib/lib', 'blib/arch')" t/*.t
t/author-pod-syntax.t ................................... skipped: these tests are for testing by the author
t/callback.t ............................................ ok
t/catalyst-action-deserialize-multipart.t ............... ok
t/catalyst-action-deserialize.t ......................... ok
t/catalyst-action-rest-action-dispatch-for-browsers.t ... ok
t/catalyst-action-rest-action-dispatch.t ................ ok
t/catalyst-action-rest.t ................................ ok
t/catalyst-action-serialize-accept.t .................... ok
t/catalyst-action-serialize-query.t ..................... ok
t/catalyst-action-serialize.t ........................... ok
t/catalyst-controller-rest.t ............................ ok
t/catalyst-request-rest-custom-nonrest-request-class.t .. ok
t/catalyst-request-rest-custom-rest-request-class.t ..... ok
t/catalyst-traitfor-request-rest-forbrowsers.t .......... ok
t/catalyst-traitfor-request-rest.t ...................... ok
t/isa.t ................................................. ok
t/json.t ................................................ ok
t/jsonp.t ............................................... ok
t/view.t ................................................ ok
t/xml-simple.t .......................................... ok
t/yaml-html.t ........................................... ok
t/yaml.t ................................................ ok
All tests successful.
Files=22, Tests=301, 29 wallclock secs ( 0.11 usr 0.08 sys + 24.48 cusr 4.33 csys = 29.00 CPU)
Result: PASS
------------------------------
PREREQUISITES
------------------------------
Prerequisite modules loaded:
requires:
Module Need Have
------------------------- ------- --------
Catalyst::Runtime 5.80030 5.90124
Class::Inspector 1.13 1.34
JSON::MaybeXS 0 1.004000
Module::Pluggable::Object 0 5.2
Moose 1.03 2.2011
MRO::Compat 0.10 0.13
namespace::autoclean 0 0.28
Params::Validate 0.76 1.29
URI::Find 0 20160806
build_requires:
Module Need Have
------------------------- ------- --------
ExtUtils::MakeMaker 0 7.36
LWP::UserAgent 5.00 6.39
Test::More 0.88 1.302164
Test::Requires 0 0.10
configure_requires:
Module Need Have
------------------------- ------- --------
ExtUtils::MakeMaker 0 7.36
------------------------------
ENVIRONMENT AND OTHER CONTEXT
------------------------------
Environment variables:
LC_ALL = C
NONINTERACTIVE_TESTING = 1
PATH = /home/cpan/bin/perl-blead/bin:/home/cpan/bin/perl-blead/bin:/home/cpan/bin:/home/cpan/bin:/bin:/sbin:/usr/bin:/usr/sbin:/usr/X11R7/bin:/usr/pkg/bin:/usr/pkg/sbin:/usr/games:/usr/local/bin:/usr/local/sbin
PERL5LIB =
PERL5OPT =
PERL5_CPANPLUS_IS_RUNNING = 18979
PERL5_CPAN_IS_RUNNING = 18979
PERL_MM_USE_DEFAULT = 1
PERL_USE_UNSAFE_INC = 1
PERL_VERSION = blead
SHELL = /usr/pkg/bin/bash
TERM = screen
TMPDIR = /home/cpan/tmp
Perl special variables (and OS-specific diagnostics, for MSWin32):
$^X = /home/cpan/bin/perl-blead/bin/perl5.30.0
$UID/$EUID = 1001 / 1001
$GID = 100 100
$EGID = 100 100
Perl module toolchain versions installed:
Module Have
------------------- --------
CPAN 2.22
CPAN::Meta 2.150010
Cwd 3.78
ExtUtils::CBuilder 0.280231
ExtUtils::Command 7.36
ExtUtils::Install 2.14
ExtUtils::MakeMaker 7.36
ExtUtils::Manifest 1.72
ExtUtils::ParseXS 3.40
File::Spec 3.78
JSON 4.02
JSON::PP 4.02
Module::Build 0.4229
Module::Signature n/a
Parse::CPAN::Meta 2.150010
Test::Harness 3.42
Test::More 1.302164
YAML 1.29
YAML::Syck 1.31
version 0.9924
--
Summary of my perl5 (revision 5 version 30 subversion 0) configuration:
Commit id: aff85be1c8cb189c4294c5a29879ecb96bd6651e
Platform:
osname=netbsd
osvers=8.0
archname=amd64-netbsd
uname='netbsd cjg-netbsd8 8.0 netbsd 8.0 (generic) #0: tue jul 17 14:59:51 utc 2018 mkrepro@mkrepro.netbsd.org:usrsrcsysarchamd64compilegeneric amd64 '
config_args='-des -Dprefix=~/bin/perl-blead -Dscriptdir=~/bin/perl-blead/bin -Dusedevel -Duse64bitall'
hint=recommended
useposix=true
d_sigaction=define
useithreads=undef
usemultiplicity=undef
use64bitint=define
use64bitall=define
uselongdouble=undef
usemymalloc=n
default_inc_excludes_dot=define
bincompat5005=undef
Compiler:
cc='cc'
ccflags ='-fwrapv -fno-strict-aliasing -pipe -fstack-protector-strong -I/usr/pkg/include -D_FORTIFY_SOURCE=2'
optimize='-O'
cppflags='-fwrapv -fno-strict-aliasing -pipe -fstack-protector-strong -I/usr/pkg/include'
ccversion=''
gccversion='5.5.0'
gccosandvers=''
intsize=4
longsize=8
ptrsize=8
doublesize=8
byteorder=12345678
doublekind=3
d_longlong=define
longlongsize=8
d_longdbl=define
longdblsize=16
longdblkind=3
ivtype='long'
ivsize=8
nvtype='double'
nvsize=8
Off_t='off_t'
lseeksize=8
alignbytes=8
prototype=define
Linker and Libraries:
ld='cc'
ldflags =' -Wl,-rpath,/usr/pkg/lib -Wl,-rpath,/usr/local/lib -fstack-protector-strong -L/usr/pkg/lib'
libpth=/usr/include/gcc-5 /usr/lib /usr/pkg/lib /lib
libs=-lpthread -lm -lcrypt -lutil -lc -lposix
perllibs=-lpthread -lm -lcrypt -lutil -lc -lposix
libc=/lib/libc.so
so=so
useshrplib=false
libperl=libperl.a
gnulibc_version=''
Dynamic Linking:
dlsrc=dl_dlopen.xs
dlext=so
d_dlsymun=undef
ccdlflags='-Wl,-E '
cccdlflags='-DPIC -fPIC '
lddlflags='-shared -L/usr/pkg/lib -fstack-protector-strong'
Characteristics of this binary (from libperl):
Compile-time options:
HAS_TIMES
PERLIO_LAYERS
PERL_COPY_ON_WRITE
PERL_DONT_CREATE_GVSV
PERL_MALLOC_WRAP
PERL_OP_PARENT
PERL_PRESERVE_IVUV
PERL_USE_DEVEL
USE_64_BIT_ALL
USE_64_BIT_INT
USE_LARGE_FILES
USE_LOCALE
USE_LOCALE_COLLATE
USE_LOCALE_CTYPE
USE_LOCALE_NUMERIC
USE_LOCALE_TIME
USE_PERLIO
USE_PERL_ATOF
Built under netbsd
Compiled at May 21 2019 12:37:41
%ENV:
PERL5LIB=""
PERL5OPT=""
PERL5_CPANPLUS_IS_RUNNING="18979"
PERL5_CPAN_IS_RUNNING="18979"
PERL_MM_USE_DEFAULT="1"
PERL_USE_UNSAFE_INC="1"
PERL_VERSION="blead"
@INC:
/home/cpan/bin/perl-blead/lib/site_perl/5.30.0/amd64-netbsd
/home/cpan/bin/perl-blead/lib/site_perl/5.30.0
/home/cpan/bin/perl-blead/lib/5.30.0/amd64-netbsd
/home/cpan/bin/perl-blead/lib/5.30.0
.