Class-Scaffold v1.102280 Perl 5 v5.8.9 i686-linux
- Status
- Pass
- From
- Serguei Trouchelle (STRO)
- Dist
-
Class-Scaffold v1.102280
- Platform
- Perl 5 v5.8.9 i686-linux
- Date
- 2010-08-17 16:26:01
- ID
- 2016d83a-aa1c-11df-b0fb-e03645804272
This distribution has been tested as part of the CPAN Testers
project, supporting the Perl programming language. See
http://wiki.cpantesters.org/ for more information or email
questions to cpan-testers-discuss@perl.org
--
Dear Marcel Gruenauer == hanekomu,
This is a computer-generated report for Class-Scaffold-1.102280
on perl 5.8.9, created by CPAN-Reporter-1.18.
Thank you for uploading your work to CPAN. Congratulations!
All tests were successful.
Sections of this report:
* Tester comments
* Program output
* Prerequisites
* Environment and other context
------------------------------
TESTER COMMENTS
------------------------------
Additional comments from tester:
this report is from an automated smoke testing program
and was not reviewed by a human for accuracy
------------------------------
PROGRAM OUTPUT
------------------------------
Output from '/usr/bin/make test':
PERL_DL_NONLAZY=1 /home/stro/perl/perl589th/bin/perl "-MExtUtils::Command::MM" "-e" "test_harness(0, 'blib/lib', 'blib/arch')" t/*.t
t/00-compile.t ............... ok
# Testing with Perl 5.008009, /home/stro/perl/perl589th/bin/perl
# Carp version is 1.10
# Class::Accessor::Complex version is 1.100880
# Class::Accessor::Constructor version is 1.100880
# Class::Accessor::FactoryTyped version is 1.100970
# Class::Factory::Enhanced version is 1.101420
# Class::Value version is 1.100840
# Cwd version is 3.31
# Data::Comparable version is 1.100840
# Data::Inherited version is 1.100860
# Data::Miscellany version is 1.100850
# Data::Storage version is 1.102250
# Devel::Caller version is 2.05
# Encode version is 2.39
# English version is 1.03
# Error version is 0.17016
# Error::Hierarchy version is 1.101690
# Error::Hierarchy::Container version is 1.101690
# Error::Hierarchy::Internal version is 1.101690
# Error::Hierarchy::Mixin version is 1.101690
# Error::Hierarchy::Test version is 1.101690
# Error::Hierarchy::Util version is 1.101690
# Exporter version is 5.63
# ExtUtils::MakeMaker version is 6.56
# File::Find version is 1.13
# File::Spec::Functions version is 3.3
# File::Temp version is 0.22
# FindBin version is 1.49
# Getopt::Inherited version is 1.100860
# Getopt::Long version is 2.38
# IO::File version is 1.14
# IO::Handle version is 1.27
# List::Util version is 1.23
# Property::Lookup version is 1.101400
# Scalar::Util version is 1.23
# String::FlexMatch version is 1.100820
# Sys::Hostname version is 1.11
# Test::Builder version is 0.96
# Test::Class::GetoptControl version is 1.100860
# Test::CompanionClasses::Base version is 1.101370
# Test::CompanionClasses::Engine version is 1.101370
# Test::More version is 0.96
# Time::HiRes version is 1.9715
# UNIVERSAL::require version is 0.13
# YAML version is 0.71
# YAML::Active version is 1.100810
# YAML::Active::Plugin::Array version is 1.100810
# YAML::Active::Plugin::Hash version is 1.100810
# YAML::Marshall version is 0.71
# constant version is 1.17
# overload version is 1.06
# parent version is 0.223
t/000-report-versions.t ...... ok
20100817.190853.49 Hello
20100817.190853.49 a debug message that should appear
20100817.190853.49 (00026234) a message with pid and timestamp
(00026234) a message with pid but without timestamp
a message without pid or timestamp
t/01_companion_classes.t ..... ok
t/02_storage_conf.t .......... ok
t/author-critic.t ............ skipped: these tests are for testing by the author
t/release-check-changes.t .... skipped: these tests are for release candidate testing
t/release-dist-manifest.t .... skipped: these tests are for release candidate testing
t/release-distmeta.t ......... skipped: these tests are for release candidate testing
t/release-has-version.t ...... skipped: these tests are for release candidate testing
t/release-kwalitee.t ......... skipped: these tests are for release candidate testing
t/release-minimum-version.t .. skipped: these tests are for release candidate testing
t/release-no-tabs.t .......... skipped: these tests are for release candidate testing
t/release-pod-coverage.t ..... skipped: these tests are for release candidate testing
t/release-pod-spell.t ........ skipped: these tests are for release candidate testing
t/release-pod-syntax.t ....... skipped: these tests are for release candidate testing
t/release-portability.t ...... skipped: these tests are for release candidate testing
t/release-synopsis.t ......... skipped: these tests are for release candidate testing
t/release-unused-vars.t ...... skipped: these tests are for release candidate testing
All tests successful.
Files=18, Tests=108, 8 wallclock secs ( 0.07 usr 0.17 sys + 3.37 cusr 4.00 csys = 7.61 CPU)
Result: PASS
------------------------------
PREREQUISITES
------------------------------
Prerequisite modules loaded:
requires:
Module Need Have
------------------------------ ----- --------
Carp 0 1.10
Class::Accessor::Complex 0 1.100880
Class::Accessor::Constructor 0 1.100880
Class::Accessor::FactoryTyped 0 1.100970
Class::Factory::Enhanced 0 1.101420
Class::Value 0 1.100840
constant 0 1.17
Cwd 0 3.31
Data::Comparable 0 1.100840
Data::Inherited 0 1.100860
Data::Miscellany 0 1.100850
Data::Storage 0 1.102250
Devel::Caller 0 2.05
Encode 0 2.39
Error 0 0.17016
Error::Hierarchy 0 1.101690
Error::Hierarchy::Container 0 1.101690
Error::Hierarchy::Internal 0 1.101690
Error::Hierarchy::Mixin 0 1.101690
Error::Hierarchy::Test 0 1.101690
Error::Hierarchy::Util 0 1.101690
Exporter 0 5.63
File::Find 0 1.13
File::Spec::Functions 0 3.30
FindBin 0 1.49
Getopt::Inherited 0 1.100860
Getopt::Long 0 2.38
IO::File 0 1.14
IO::Handle 0 1.27
List::Util 0 1.23
overload 0 1.06
parent 0 0.223
perl 5.008 5.008009
Property::Lookup 0 1.101400
String::FlexMatch 0 1.100820
Sys::Hostname 0 1.11
Test::Builder 0 0.96
Test::Class::GetoptControl 0 1.100860
Test::CompanionClasses::Base 0 1.101370
Test::CompanionClasses::Engine 0 1.101370
Test::More 0 0.96
Time::HiRes 0 1.9715
UNIVERSAL::require 0 0.13
YAML 0 0.71
YAML::Active 0 1.100810
YAML::Active::Plugin::Array 0 1.100810
YAML::Active::Plugin::Hash 0 1.100810
YAML::Marshall 0 0.71
build_requires:
Module Need Have
------------------------------ ----- --------
English 0 1.03
File::Temp 0 0.22
Scalar::Util 0 1.23
Test::More 0.94 0.96
configure_requires:
Module Need Have
------------------------------ ----- --------
ExtUtils::MakeMaker 6.31 6.56
------------------------------
ENVIRONMENT AND OTHER CONTEXT
------------------------------
Environment variables:
AUTOMATED_TESTING = 1
LANG = en_US.UTF-8
PATH = /usr/local/bin:/usr/bin:/bin:/usr/games
PERL5LIB =
PERL5OPT =
PERL5_CPANPLUS_IS_RUNNING = 26107
PERL5_CPAN_IS_RUNNING = 26107
PERL5_CPAN_IS_RUNNING_IN_RECURSION = 21781,26107
PERL_CR_SMOKER_CURRENT = Class-Scaffold-1.102280
PERL_EXTUTILS_AUTOINSTALL = --defaultdeps
PERL_MM_USE_DEFAULT = 1
SHELL = /bin/bash
TERM = xterm
Perl special variables (and OS-specific diagnostics, for MSWin32):
$^X = /home/stro/perl/perl589th/bin/perl
$UID/$EUID = 1000 / 1000
$GID = 1000 20 24 25 29 44 46 1000
$EGID = 1000 20 24 25 29 44 46 1000
Perl module toolchain versions installed:
Module Have
------------------- ------
CPAN 1.9402
Cwd 3.31
ExtUtils::CBuilder 0.2703
ExtUtils::Command 1.16
ExtUtils::Install 1.54
ExtUtils::MakeMaker 6.56
ExtUtils::Manifest 1.58
ExtUtils::ParseXS 2.2206
File::Spec 3.31
Module::Build 0.3607
Module::Signature n/a
Test::Harness 3.22
Test::More 0.96
YAML 0.71
YAML::Syck 1.10
version 0.82
--
Summary of my perl5 (revision 5 version 8 subversion 9) configuration:
Platform:
osname=linux, osvers=2.6.26-2-686, archname=i686-linux-thread-multi
uname='linux debian5 2.6.26-2-686 #1 smp wed may 12 21:56:10 utc 2010 i686 gnulinux '
config_args=''
hint=recommended, useposix=true, d_sigaction=define
usethreads=define use5005threads=undef useithreads=define usemultiplicity=define
useperlio=define d_sfio=undef uselargefiles=define usesocks=undef
use64bitint=undef use64bitall=undef uselongdouble=undef
usemymalloc=n, bincompat5005=undef
Compiler:
cc='cc', ccflags ='-D_REENTRANT -D_GNU_SOURCE -DTHREADS_HAVE_PIDS -fno-strict-aliasing -pipe -I/usr/local/include -D_LARGEFILE_SOURCE -D_FILE_OFFSET_BITS=64',
optimize='-O2',
cppflags='-D_REENTRANT -D_GNU_SOURCE -DTHREADS_HAVE_PIDS -fno-strict-aliasing -pipe -I/usr/local/include'
ccversion='', gccversion='4.3.2', gccosandvers=''
intsize=4, longsize=4, ptrsize=4, doublesize=8, byteorder=1234
d_longlong=define, longlongsize=8, d_longdbl=define, longdblsize=12
ivtype='long', ivsize=4, nvtype='double', nvsize=8, Off_t='off_t', lseeksize=8
alignbytes=4, prototype=define
Linker and Libraries:
ld='cc', ldflags =' -L/usr/local/lib'
libpth=/usr/local/lib /lib /usr/lib
libs=-lnsl -ldb -ldl -lm -lcrypt -lutil -lpthread -lc
perllibs=-lnsl -ldl -lm -lcrypt -lutil -lpthread -lc
libc=/lib/libc-2.7.so, so=so, useshrplib=false, libperl=libperl.a
gnulibc_version='2.7'
Dynamic Linking:
dlsrc=dl_dlopen.xs, dlext=so, d_dlsymun=undef, ccdlflags='-Wl,-E'
cccdlflags='-fPIC', lddlflags='-shared -O2 -L/usr/local/lib'
Characteristics of this binary (from libperl):
Compile-time options: MULTIPLICITY PERL_IMPLICIT_CONTEXT PERL_MALLOC_WRAP
THREADS_HAVE_PIDS USE_FAST_STDIO USE_ITHREADS
USE_LARGE_FILES USE_PERLIO USE_REENTRANT_API
Built under linux
Compiled at Jun 16 2010 17:51:04
%ENV:
PERL5LIB=""
PERL5OPT=""
PERL5_CPANPLUS_IS_RUNNING="26107"
PERL5_CPAN_IS_RUNNING="26107"
PERL5_CPAN_IS_RUNNING_IN_RECURSION="21781,26107"
PERL_CR_SMOKER_CURRENT="Class-Scaffold-1.102280"
PERL_EXTUTILS_AUTOINSTALL="--defaultdeps"
PERL_MM_USE_DEFAULT="1"
@INC:
/home/stro/perl/perl589th/lib/5.8.9/i686-linux-thread-multi
/home/stro/perl/perl589th/lib/5.8.9
/home/stro/perl/perl589th/lib/site_perl/5.8.9/i686-linux-thread-multi
/home/stro/perl/perl589th/lib/site_perl/5.8.9
.