App-GitFind v0.000002 Perl 5 v5.24.4 x86_64-linux

Status
Pass
From
Slaven Rezić (SREZIC)
Dist
App-GitFind v0.000002
Platform
Perl 5 v5.24.4 x86_64-linux
Date
2019-10-18 13:35:18
ID
2005d90e-f1ac-11e9-9b6b-1b1c1f24ea8f
This distribution has been tested as part of the CPAN Testers
project, supporting the Perl programming language.  See
http://wiki.cpantesters.org/ for more information or email
questions to cpan-testers-discuss@perl.org


--
Dear Christopher White,

This is a computer-generated report for App-GitFind-0.000002
on perl 5.24.4, created by CPAN-Reporter-1.2018.

Thank you for uploading your work to CPAN.  Congratulations!
All tests were successful.

Sections of this report:

    * Tester comments
    * Program output
    * Prerequisites
    * Environment and other context

------------------------------
TESTER COMMENTS
------------------------------

Additional comments from tester:

none provided

------------------------------
PROGRAM OUTPUT
------------------------------

Output from '/usr/bin/make test':

PERL_DL_NONLAZY=1 "/opt/perl-5.24.4/bin/perl" "-MExtUtils::Command::MM" "-MTest::Harness" "-e" "undef *Test::Harness::Switches; test_harness(0, 'blib/lib', 'blib/arch')" t/*.t
# Testing App::GitFind 0.000002, Perl 5.024004, /opt/perl-5.24.4/bin/perl
t/00-load.t .......... ok
# Devel::Cover not covering
# Testing script/git-find with command line:
# /opt/perl-5.24.4/bin/perl -I/home/cpansand/.cpan/build/2019092613/App-GitFind-0.000002-NupCmc/t -I/home/cpansand/.cpan/build/2019092613/App-GitFind-0.000002-NupCmc/blib/lib -I/home/cpansand/.cpan/build/2019092613/App-GitFind-0.000002-NupCmc/blib/arch -I/opt/perl-5.24.4/lib/site_perl/5.24.4/x86_64-linux -I/opt/perl-5.24.4/lib/site_perl/5.24.4 -I/opt/perl-5.24.4/lib/5.24.4/x86_64-linux -I/opt/perl-5.24.4/lib/5.24.4 -I. /home/cpansand/.cpan/build/2019092613/App-GitFind-0.000002-NupCmc/blib/script/git-find
t/01-script.t ........ ok
t/02-qwc.t ........... ok
t/11-lexer-rev.t ..... ok
t/20-parser-basic.t .. ok
All tests successful.
Files=5, Tests=187,  0 wallclock secs ( 0.04 usr  0.02 sys +  0.54 cusr  0.17 csys =  0.77 CPU)
Result: PASS

------------------------------
PREREQUISITES
------------------------------

Prerequisite modules loaded:

requires:

    Module                   Need     Have    
    ------------------------ -------- --------
    Class::Tiny              1.001    1.006   
    Class::Tiny::Immutable   0        0.001   
  ! Data::Dumper::Compact    0        n/a     
    Fcntl                    0        1.13    
    File::Find::Object       v0.3.1   0.3.4   
    Getargs::Mixed           1.04     1.06    
    Getopt::Long             2.34     2.51    
    Git::Raw                 0.84     0.84    
    Hash::Merge              0.299    0.300   
    Iterator::Simple         0.07     0.07    
    List::SomeUtils          0.50     0.56    
    Math::Cartesian::Product 1.009    1.009   
    Path::Class              0.37     0.37    
    perl                     5.010    5.024004
    Pod::Usage               0        1.68    
    POSIX                    0        1.65_01 
    vars                     0        1.03    
    vars::i                  1.10     1.10    

build_requires:

    Module                   Need     Have    
    ------------------------ -------- --------
    Capture::Tiny            0.39     0.48    
    Carp                     0        1.40    
    Cwd                      0        3.75    
    Exporter                 0        5.72    
    File::Basename           0        2.85    
    Getopt::Long             2.5      2.51    
    Import::Into             0        1.002005
    lib::relative            1.000    1.000   
    List::AutoNumbered       0.000007 0.000007
    List::Util               1.43     1.50    
    Parse::Yapp              0        1.21    
    Path::Class              0.37     0.37    
    Pod::Markdown            0        3.101   
    Pod::Text                0        4.07    
    Sub::Multi::Tiny         0.000012 0.000012
    Test2::V0                0.000125 0.000126
    Test::UseAllModules      0.15     0.17    
    Types::Standard          1.004004 1.004004

configure_requires:

    Module                   Need     Have    
    ------------------------ -------- --------
    Config                   0        5.024004
    ExtUtils::MakeMaker      0        7.38    
    File::Spec               0        3.75    
    strict                   0        1.11    
    warnings                 0        1.36    


------------------------------
ENVIRONMENT AND OTHER CONTEXT
------------------------------

Environment variables:

    LANG = en_US.UTF-8
    PATH = /usr/local/bin:/usr/bin:/bin:/usr/local/sbin:/usr/sbin:/sbin:/home/cpansand/bin/linux-gnu:/home/cpansand/bin/sh:/home/cpansand/bin:/usr/games:/home/cpansand/devel:/home/eserte/src/srezic-misc/scripts
    PERL5LIB = 
    PERL5OPT = 
    PERL5_CPANPLUS_IS_RUNNING = 17807
    PERL5_CPAN_IS_RUNNING = 17807
    PERL5_CPAN_IS_RUNNING_IN_RECURSION = 17751,17807
    PERLDOC = -MPod::Perldoc::ToTextOverstrike
    PERL_BATCH = yes
    PERL_CANARY_STABILITY_NOPROMPT = 1
    PERL_CPAN_REPORTER_CONFIG = /var/tmp/cpansmoker-1023/2019092613/cpanreporter_000_config.ini
    PERL_EXTUTILS_AUTOINSTALL = --defaultdeps
    SHELL = /usr/bin/zsh
    TERM = screen
    TMPDIR = /var/tmp/cpansmoker-1023/2019092613

Perl special variables (and OS-specific diagnostics, for MSWin32):

    $^X = /opt/perl-5.24.4/bin/perl
    $UID/$EUID = 1023 / 1023
    $GID = 1023 1023
    $EGID = 1023 1023

Perl module toolchain versions installed:

    Module              Have    
    ------------------- --------
    CPAN                2.11_01 
    CPAN::Meta          2.150010
    Cwd                 3.75    
    ExtUtils::CBuilder  0.280231
    ExtUtils::Command   7.38    
    ExtUtils::Install   2.06    
    ExtUtils::MakeMaker 7.38    
    ExtUtils::Manifest  1.70    
    ExtUtils::ParseXS   3.35    
    File::Spec          3.75    
    JSON                4.02    
    JSON::PP            4.04    
    Module::Build       0.4229  
    Module::Signature   n/a     
    Parse::CPAN::Meta   2.150010
    Test::Harness       3.42    
    Test::More          1.302167
    YAML                1.29    
    YAML::Syck          1.31    
    version             0.9916  


--

Summary of my perl5 (revision 5 version 24 subversion 4) configuration:
   
  Platform:
    osname=linux, osvers=4.4.0-157-generic, archname=x86_64-linux
    uname='linux ubuntu16 4.4.0-157-generic #185-ubuntu smp tue jul 23 09:17:01 utc 2019 x86_64 x86_64 x86_64 gnulinux '
    config_args='-ds -e -Dprefix=/opt/perl-5.24.4 -Dcf_email=srezic@cpan.org'
    hint=recommended, useposix=true, d_sigaction=define
    useithreads=undef, usemultiplicity=undef
    use64bitint=define, use64bitall=define, uselongdouble=undef
    usemymalloc=n, bincompat5005=undef
  Compiler:
    cc='cc', ccflags ='-fwrapv -fno-strict-aliasing -pipe -fstack-protector-strong -I/usr/local/include -D_LARGEFILE_SOURCE -D_FILE_OFFSET_BITS=64',
    optimize='-O2',
    cppflags='-fwrapv -fno-strict-aliasing -pipe -fstack-protector-strong -I/usr/local/include'
    ccversion='', gccversion='5.4.0 20160609', gccosandvers=''
    intsize=4, longsize=8, ptrsize=8, doublesize=8, byteorder=12345678, doublekind=3
    d_longlong=define, longlongsize=8, d_longdbl=define, longdblsize=16, longdblkind=3
    ivtype='long', ivsize=8, nvtype='double', nvsize=8, Off_t='off_t', lseeksize=8
    alignbytes=8, prototype=define
  Linker and Libraries:
    ld='cc', ldflags =' -fstack-protector-strong -L/usr/local/lib'
    libpth=/usr/local/lib /usr/lib/gcc/x86_64-linux-gnu/5/include-fixed /usr/include/x86_64-linux-gnu /usr/lib /lib/x86_64-linux-gnu /lib/../lib /usr/lib/x86_64-linux-gnu /usr/lib/../lib /lib
    libs=-lpthread -lnsl -ldb -ldl -lm -lcrypt -lutil -lc
    perllibs=-lpthread -lnsl -ldl -lm -lcrypt -lutil -lc
    libc=libc-2.23.so, so=so, useshrplib=false, libperl=libperl.a
    gnulibc_version='2.23'
  Dynamic Linking:
    dlsrc=dl_dlopen.xs, dlext=so, d_dlsymun=undef, ccdlflags='-Wl,-E'
    cccdlflags='-fPIC', lddlflags='-shared -O2 -L/usr/local/lib -fstack-protector-strong'


Characteristics of this binary (from libperl): 
  Compile-time options: HAS_TIMES PERLIO_LAYERS PERL_COPY_ON_WRITE
                        PERL_DONT_CREATE_GVSV
                        PERL_HASH_FUNC_ONE_AT_A_TIME_HARD PERL_MALLOC_WRAP
                        PERL_PRESERVE_IVUV USE_64_BIT_ALL USE_64_BIT_INT
                        USE_LARGE_FILES USE_LOCALE USE_LOCALE_COLLATE
                        USE_LOCALE_CTYPE USE_LOCALE_NUMERIC USE_LOCALE_TIME
                        USE_PERLIO USE_PERL_ATOF
  Built under linux
  Compiled at Aug  6 2019 17:24:30
  %ENV:
    PERL5LIB=""
    PERL5OPT=""
    PERL5_CPANPLUS_IS_RUNNING="17807"
    PERL5_CPAN_IS_RUNNING="17807"
    PERL5_CPAN_IS_RUNNING_IN_RECURSION="17751,17807"
    PERLDOC="-MPod::Perldoc::ToTextOverstrike"
    PERL_BATCH="yes"
    PERL_CANARY_STABILITY_NOPROMPT="1"
    PERL_CPAN_REPORTER_CONFIG="/var/tmp/cpansmoker-1023/2019092613/cpanreporter_000_config.ini"
    PERL_EXTUTILS_AUTOINSTALL="--defaultdeps"
  @INC:
    /opt/perl-5.24.4/lib/site_perl/5.24.4/x86_64-linux
    /opt/perl-5.24.4/lib/site_perl/5.24.4
    /opt/perl-5.24.4/lib/5.24.4/x86_64-linux
    /opt/perl-5.24.4/lib/5.24.4
    .