Report for Module-Install-AutoLicense-0.10

Back
From: metabase:user:314402c4-2aae-11df-837a-5e0a49663a4f
Subject: PASS Module-Install-AutoLicense-0.10 v5.25.11 GNU/Linux
Date: 2017-03-29T17:57:07Z

This distribution has been tested as part of the CPAN Testers
project, supporting the Perl programming language.  See
http://wiki.cpantesters.org/ for more information or email
questions to cpan-testers-discuss@perl.org


--
Dear Chris Williams,

This is a computer-generated report for Module-Install-AutoLicense-0.10
on perl 5.25.11, created by CPAN-Reporter-1.2018.

Thank you for uploading your work to CPAN.  Congratulations!
All tests were successful.

Sections of this report:

    * Tester comments
    * Program output
    * Prerequisites
    * Environment and other context

------------------------------
TESTER COMMENTS
------------------------------

Additional comments from tester:

none provided

------------------------------
PROGRAM OUTPUT
------------------------------

Output from '/usr/bin/make test':

PERL_DL_NONLAZY=1 "/opt/perl-5.25.11t/bin/perl5.25.11" "-MExtUtils::Command::MM" "-MTest::Harness" "-e" "undef *Test::Harness::Switches; test_harness(0, 'inc', 'blib/lib', 'blib/arch')" t/*.t
# Testing Module::Install::AutoLicense 0.10, Perl 5.025011, /opt/perl-5.25.11t/bin/perl5.25.11
t/00_compile.t ....... ok
# include /home/cpansand/.cpan/build/2017032915/Module-Install-AutoLicense-0.10-1/dist/nJ7Q_brVM7/inc/Module/Install.pm
# include inc/Module/Install/Metadata.pm
# include inc/Module/Install/Base.pm
# include inc/Module/Install/AutoLicense.pm
# include inc/Module/Install/Makefile.pm
# include inc/Module/Install/WriteAll.pm
# include inc/Module/Install/Win32.pm
# include inc/Module/Install/Can.pm
# include inc/Module/Install/Fetch.pm
# Generating a Unix-style Makefile
# Writing Makefile for Foo::Bar
# Writing MYMETA.yml and MYMETA.json
# Writing META.yml
# make[1]: Entering directory '/home/cpansand/.cpan/build/2017032915/Module-Install-AutoLicense-0.10-1/dist/nJ7Q_brVM7'
# rm -f \
#   Bar.bso Bar.def \
#   Bar.exp Bar.x \
#    blib/arch/auto/Foo/Bar/extralibs.all \
#   blib/arch/auto/Foo/Bar/extralibs.ld Makefile.aperl \
#   *.a *.o \
#   *perl.core MYMETA.json \
#   MYMETA.yml blibdirs.ts \
#   core core.*perl.*.? \
#   core.[0-9] core.[0-9][0-9] \
#   core.[0-9][0-9][0-9] core.[0-9][0-9][0-9][0-9] \
#   core.[0-9][0-9][0-9][0-9][0-9] libBar.def \
#   mon.out perl \
#   perl perl.exe \
#   perlmain.c pm_to_blib \
#   pm_to_blib.ts so_locations \
#   tmon.out 
# rm -rf \
#   blib 
# mv Makefile Makefile.old > /dev/null 2>&1
# rm -f \
#   Makefile Makefile.old 
# rm -rf \
#   Foo-Bar-0.01 MYMETA.yml 
# rm -f Foo-Bar-0.01.tar.gz
# rm -f MANIFEST.bak _build
# "/opt/perl-5.25.11t/bin/perl5.25.11" "-Iinc" "-Ilib" "-MModule::Install::Admin" -e "remove_meta()"
# rm -rf inc
# "/opt/perl-5.25.11t/bin/perl5.25.11" "-Iinc" "-MExtUtils::Manifest=fullcheck" -e fullcheck
# Problem opening MANIFEST: No such file or directory at /opt/perl-5.25.11t/lib/5.25.11/ExtUtils/Manifest.pm line 349.
# Problem opening MANIFEST: No such file or directory at /opt/perl-5.25.11t/lib/5.25.11/ExtUtils/Manifest.pm line 349.
# Not in MANIFEST: LICENSE
# Not in MANIFEST: Makefile.PL
# rm -f LICENSE
# make[1]: Leaving directory '/home/cpansand/.cpan/build/2017032915/Module-Install-AutoLicense-0.10-1/dist/nJ7Q_brVM7'
t/01_dist.t .......... ok
# include /home/cpansand/.cpan/build/2017032915/Module-Install-AutoLicense-0.10-1/dist/IyieqlGqzz/inc/Module/Install.pm
# include inc/Module/Install/Metadata.pm
# include inc/Module/Install/Base.pm
# include inc/Module/Install/AutoLicense.pm
# include inc/Module/Install/Makefile.pm
# include inc/Module/Install/WriteAll.pm
# include inc/Module/Install/Win32.pm
# include inc/Module/Install/Can.pm
# include inc/Module/Install/Fetch.pm
# Generating a Unix-style Makefile
# Writing Makefile for Foo::Bar
# Writing MYMETA.yml and MYMETA.json
# Writing META.yml
# make[1]: Entering directory '/home/cpansand/.cpan/build/2017032915/Module-Install-AutoLicense-0.10-1/dist/IyieqlGqzz'
# "/opt/perl-5.25.11t/bin/perl5.25.11" "-Iinc" "-MExtUtils::Manifest=mkmanifest" -e mkmanifest
# Added to MANIFEST: inc/Module/Install.pm
# Added to MANIFEST: inc/Module/Install/AutoLicense.pm
# Added to MANIFEST: inc/Module/Install/Base.pm
# Added to MANIFEST: inc/Module/Install/Can.pm
# Added to MANIFEST: inc/Module/Install/Fetch.pm
# Added to MANIFEST: inc/Module/Install/Makefile.pm
# Added to MANIFEST: inc/Module/Install/Metadata.pm
# Added to MANIFEST: inc/Module/Install/Win32.pm
# Added to MANIFEST: inc/Module/Install/WriteAll.pm
# Added to MANIFEST: LICENSE
# Added to MANIFEST: Makefile.PL
# Added to MANIFEST: MANIFEST
# Added to MANIFEST: META.yml
# make[1]: Leaving directory '/home/cpansand/.cpan/build/2017032915/Module-Install-AutoLicense-0.10-1/dist/IyieqlGqzz'
# make[1]: Entering directory '/home/cpansand/.cpan/build/2017032915/Module-Install-AutoLicense-0.10-1/dist/IyieqlGqzz'
# rm -rf Foo-Bar-0.01
# "/opt/perl-5.25.11t/bin/perl5.25.11" "-Iinc" "-MExtUtils::Manifest=manicopy,maniread" \
# 	-e "manicopy(maniread(),'Foo-Bar-0.01', 'best');"
# mkdir Foo-Bar-0.01
# mkdir Foo-Bar-0.01/inc
# mkdir Foo-Bar-0.01/inc/Module
# mkdir Foo-Bar-0.01/inc/Module/Install
# make[1]: Leaving directory '/home/cpansand/.cpan/build/2017032915/Module-Install-AutoLicense-0.10-1/dist/IyieqlGqzz'
# Checking if your kit is complete...
# Looks good
# Generating a Unix-style Makefile
# Writing Makefile for Foo::Bar
# Writing MYMETA.yml and MYMETA.json
# make[1]: Entering directory '/home/cpansand/.cpan/build/2017032915/Module-Install-AutoLicense-0.10-1/dist/IyieqlGqzz/Foo-Bar-0.01'
# rm -f \
#   Bar.bso Bar.def \
#   Bar.exp Bar.x \
#    blib/arch/auto/Foo/Bar/extralibs.all \
#   blib/arch/auto/Foo/Bar/extralibs.ld Makefile.aperl \
#   *.a *.o \
#   *perl.core MYMETA.json \
#   MYMETA.yml blibdirs.ts \
#   core core.*perl.*.? \
#   core.[0-9] core.[0-9][0-9] \
#   core.[0-9][0-9][0-9] core.[0-9][0-9][0-9][0-9] \
#   core.[0-9][0-9][0-9][0-9][0-9] libBar.def \
#   mon.out perl \
#   perl perl.exe \
#   perlmain.c pm_to_blib \
#   pm_to_blib.ts so_locations \
#   tmon.out 
# rm -rf \
#   blib 
# mv Makefile Makefile.old > /dev/null 2>&1
# rm -f \
#   Makefile Makefile.old 
# rm -rf \
#   Foo-Bar-0.01 MYMETA.yml 
# "/opt/perl-5.25.11t/bin/perl5.25.11" "-Iinc" "-MExtUtils::Manifest=fullcheck" -e fullcheck
# make[1]: Leaving directory '/home/cpansand/.cpan/build/2017032915/Module-Install-AutoLicense-0.10-1/dist/IyieqlGqzz/Foo-Bar-0.01'
cannot remove path when cwd is /home/cpansand/.cpan/build/2017032915/Module-Install-AutoLicense-0.10-1/dist/IyieqlGqzz/Foo-Bar-0.01 for /home/cpansand/.cpan/build/2017032915/Module-Install-AutoLicense-0.10-1/dist/IyieqlGqzz:  at /opt/perl-5.25.11t/lib/5.25.11/File/Temp.pm line 784.
t/02_distdir.t ....... ok
# include /home/cpansand/.cpan/build/2017032915/Module-Install-AutoLicense-0.10-1/dist/b4A6wsT0BV/inc/Module/Install.pm
# include inc/Module/Install/Metadata.pm
# include inc/Module/Install/Base.pm
# include inc/Module/Install/AutoLicense.pm
# include inc/Module/Install/Makefile.pm
# include inc/Module/Install/WriteAll.pm
# include inc/Module/Install/Win32.pm
# include inc/Module/Install/Can.pm
# include inc/Module/Install/Fetch.pm
# Generating a Unix-style Makefile
# Writing Makefile for Foo::Bar
# Writing MYMETA.yml and MYMETA.json
# Writing META.yml
# make[1]: Entering directory '/home/cpansand/.cpan/build/2017032915/Module-Install-AutoLicense-0.10-1/dist/b4A6wsT0BV'
# rm -f \
#   Bar.bso Bar.def \
#   Bar.exp Bar.x \
#    blib/arch/auto/Foo/Bar/extralibs.all \
#   blib/arch/auto/Foo/Bar/extralibs.ld Makefile.aperl \
#   *.a *.o \
#   *perl.core MYMETA.json \
#   MYMETA.yml blibdirs.ts \
#   core core.*perl.*.? \
#   core.[0-9] core.[0-9][0-9] \
#   core.[0-9][0-9][0-9] core.[0-9][0-9][0-9][0-9] \
#   core.[0-9][0-9][0-9][0-9][0-9] libBar.def \
#   mon.out perl \
#   perl perl.exe \
#   perlmain.c pm_to_blib \
#   pm_to_blib.ts so_locations \
#   tmon.out 
# rm -rf \
#   blib 
# mv Makefile Makefile.old > /dev/null 2>&1
# rm -f \
#   Makefile Makefile.old 
# rm -rf \
#   Foo-Bar-0.01 MYMETA.yml 
# rm -f Foo-Bar-0.01.tar.gz
# rm -f MANIFEST.bak _build
# "/opt/perl-5.25.11t/bin/perl5.25.11" "-Iinc" "-Ilib" "-MModule::Install::Admin" -e "remove_meta()"
# rm -rf inc
# "/opt/perl-5.25.11t/bin/perl5.25.11" "-Iinc" "-MExtUtils::Manifest=fullcheck" -e fullcheck
# Problem opening MANIFEST: No such file or directory at /opt/perl-5.25.11t/lib/5.25.11/ExtUtils/Manifest.pm line 349.
# Problem opening MANIFEST: No such file or directory at /opt/perl-5.25.11t/lib/5.25.11/ExtUtils/Manifest.pm line 349.
# Not in MANIFEST: LICENSE
# Not in MANIFEST: Makefile.PL
# rm -f LICENSE
# make[1]: Leaving directory '/home/cpansand/.cpan/build/2017032915/Module-Install-AutoLicense-0.10-1/dist/b4A6wsT0BV'
t/03_authors.t ....... ok
t/99_pod.t ........... ok
t/99_pod_coverage.t .. ok
All tests successful.
Files=6, Tests=17,  4 wallclock secs ( 0.05 usr  0.01 sys +  2.56 cusr  0.38 csys =  3.00 CPU)
Result: PASS

------------------------------
PREREQUISITES
------------------------------

Prerequisite modules loaded:

requires:

    Module              Need  Have    
    ------------------- ----- --------
    Module::Install     0.85  1.17    
    perl                5.006 5.025011
    Software::License   0.01  0.103012

build_requires:

    Module              Need  Have    
    ------------------- ----- --------
    Capture::Tiny       0.05  0.46    
    ExtUtils::MakeMaker 6.59  7.24    
    File::Temp          0     0.2304  
    Test::More          0.47  1.302078

configure_requires:

    Module              Need  Have    
    ------------------- ----- --------
    ExtUtils::MakeMaker 6.59  7.24    


------------------------------
ENVIRONMENT AND OTHER CONTEXT
------------------------------

Environment variables:

    LANG = en_US.UTF-8
    PATH = /usr/local/bin:/usr/bin:/bin:/usr/local/sbin:/usr/sbin:/sbin:/home/cpansand/bin/linux-gnu:/home/cpansand/bin/sh:/home/cpansand/bin:/usr/games:/home/cpansand/devel:/home/eserte/src/srezic-misc/scripts
    PERL5LIB = /home/cpansand/.cpan/build/2017032915/Module-Install-AssertOS-0.12-1/blib/arch:/home/cpansand/.cpan/build/2017032915/Module-Install-AssertOS-0.12-1/blib/lib:/home/cpansand/.cpan/build/2017032915/File-HomeDir-1.001_001-5/blib/arch:/home/cpansand/.cpan/build/2017032915/File-HomeDir-1.001_001-5/blib/lib
    PERL5OPT = 
    PERL5_CPANPLUS_IS_RUNNING = 26480
    PERL5_CPAN_IS_RUNNING = 26480
    PERL5_CPAN_IS_RUNNING_IN_RECURSION = 26385,26480
    PERLDOC = -MPod::Perldoc::ToTextOverstrike
    PERL_BATCH = yes
    PERL_CANARY_STABILITY_NOPROMPT = 1
    PERL_CPAN_REPORTER_CONFIG = /var/tmp/cpansmoker-1002/2017032915/cpanreporter_000_config.ini
    PERL_EXTUTILS_AUTOINSTALL = --defaultdeps
    PERL_USE_UNSAFE_INC = 1
    SHELL = /bin/zsh
    TERM = screen
    TMPDIR = /var/tmp/cpansmoker-1002/2017032915

Perl special variables (and OS-specific diagnostics, for MSWin32):

    $^X = /opt/perl-5.25.11t/bin/perl5.25.11
    $UID/$EUID = 1002 / 1002
    $GID = 1002 1002
    $EGID = 1002 1002

Perl module toolchain versions installed:

    Module              Have      
    ------------------- ----------
    CPAN                2.17      
    CPAN::Meta          2.150010  
    Cwd                 3.67      
    ExtUtils::CBuilder  0.280225  
    ExtUtils::Command   7.24      
    ExtUtils::Install   2.04      
    ExtUtils::MakeMaker 7.24      
    ExtUtils::Manifest  1.70      
    ExtUtils::ParseXS   3.34      
    File::Spec          3.67      
    JSON                2.90      
    JSON::PP            2.27400_02
    Module::Build       0.4220    
    Module::Signature   0.81      
    Parse::CPAN::Meta   2.150010  
    Test::Harness       3.38      
    Test::More          1.302078  
    YAML                1.23      
    YAML::Syck          1.29      
    version             0.9917    


--

Summary of my perl5 (revision 5 version 25 subversion 11) configuration:
   
  Platform:
    osname=linux
    osvers=4.4.0-67-generic
    archname=x86_64-linux-thread-multi
    uname='linux prod3 4.4.0-67-generic #88-ubuntu smp wed mar 8 16:34:45 utc 2017 x86_64 x86_64 x86_64 gnulinux '
    config_args='-ds -e -Dprefix=/opt/perl-5.25.11t -Dusedevel -Dusethreads -Dcf_email=srezic@cpan.org'
    hint=recommended
    useposix=true
    d_sigaction=define
    useithreads=define
    usemultiplicity=define
    use64bitint=define
    use64bitall=define
    uselongdouble=undef
    usemymalloc=n
    default_inc_excludes_dot=define
    bincompat5005=undef
  Compiler:
    cc='cc'
    ccflags ='-D_REENTRANT -D_GNU_SOURCE -fwrapv -fno-strict-aliasing -pipe -fstack-protector-strong -I/usr/local/include -D_LARGEFILE_SOURCE -D_FILE_OFFSET_BITS=64'
    optimize='-O2'
    cppflags='-D_REENTRANT -D_GNU_SOURCE -fwrapv -fno-strict-aliasing -pipe -fstack-protector-strong -I/usr/local/include'
    ccversion=''
    gccversion='5.4.0 20160609'
    gccosandvers=''
    intsize=4
    longsize=8
    ptrsize=8
    doublesize=8
    byteorder=12345678
    doublekind=3
    d_longlong=define
    longlongsize=8
    d_longdbl=define
    longdblsize=16
    longdblkind=3
    ivtype='long'
    ivsize=8
    nvtype='double'
    nvsize=8
    Off_t='off_t'
    lseeksize=8
    alignbytes=8
    prototype=define
  Linker and Libraries:
    ld='cc'
    ldflags =' -fstack-protector-strong -L/usr/local/lib'
    libpth=/usr/local/lib /usr/lib/gcc/x86_64-linux-gnu/5/include-fixed /usr/include/x86_64-linux-gnu /usr/lib /lib/x86_64-linux-gnu /lib/../lib /usr/lib/x86_64-linux-gnu /usr/lib/../lib /lib
    libs=-lpthread -lnsl -lgdbm -ldb -ldl -lm -lcrypt -lutil -lc -lgdbm_compat
    perllibs=-lpthread -lnsl -ldl -lm -lcrypt -lutil -lc
    libc=libc-2.23.so
    so=so
    useshrplib=false
    libperl=libperl.a
    gnulibc_version='2.23'
  Dynamic Linking:
    dlsrc=dl_dlopen.xs
    dlext=so
    d_dlsymun=undef
    ccdlflags='-Wl,-E'
    cccdlflags='-fPIC'
    lddlflags='-shared -O2 -L/usr/local/lib -fstack-protector-strong'


Characteristics of this binary (from libperl): 
  Compile-time options:
    HAS_TIMES
    MULTIPLICITY
    PERLIO_LAYERS
    PERL_COPY_ON_WRITE
    PERL_DONT_CREATE_GVSV
    PERL_IMPLICIT_CONTEXT
    PERL_MALLOC_WRAP
    PERL_OP_PARENT
    PERL_PRESERVE_IVUV
    PERL_USE_DEVEL
    USE_64_BIT_ALL
    USE_64_BIT_INT
    USE_ITHREADS
    USE_LARGE_FILES
    USE_LOCALE
    USE_LOCALE_COLLATE
    USE_LOCALE_CTYPE
    USE_LOCALE_NUMERIC
    USE_LOCALE_TIME
    USE_PERLIO
    USE_PERL_ATOF
    USE_REENTRANT_API
  Built under linux
  Compiled at Mar 22 2017 19:33:33
  %ENV:
    PERL5LIB="/home/cpansand/.cpan/build/2017032915/Module-Install-AssertOS-0.12-1/blib/arch:/home/cpansand/.cpan/build/2017032915/Module-Install-AssertOS-0.12-1/blib/lib:/home/cpansand/.cpan/build/2017032915/File-HomeDir-1.001_001-5/blib/arch:/home/cpansand/.cpan/build/2017032915/File-HomeDir-1.001_001-5/blib/lib"
    PERL5OPT=""
    PERL5_CPANPLUS_IS_RUNNING="26480"
    PERL5_CPAN_IS_RUNNING="26480"
    PERL5_CPAN_IS_RUNNING_IN_RECURSION="26385,26480"
    PERLDOC="-MPod::Perldoc::ToTextOverstrike"
    PERL_BATCH="yes"
    PERL_CANARY_STABILITY_NOPROMPT="1"
    PERL_CPAN_REPORTER_CONFIG="/var/tmp/cpansmoker-1002/2017032915/cpanreporter_000_config.ini"
    PERL_EXTUTILS_AUTOINSTALL="--defaultdeps"
    PERL_USE_UNSAFE_INC="1"
  @INC:
    /home/cpansand/.cpan/build/2017032915/Module-Install-AssertOS-0.12-1/blib/arch
    /home/cpansand/.cpan/build/2017032915/Module-Install-AssertOS-0.12-1/blib/lib
    /home/cpansand/.cpan/build/2017032915/File-HomeDir-1.001_001-5/blib/arch
    /home/cpansand/.cpan/build/2017032915/File-HomeDir-1.001_001-5/blib/lib
    /opt/perl-5.25.11t/lib/site_perl/5.25.11/x86_64-linux-thread-multi
    /opt/perl-5.25.11t/lib/site_perl/5.25.11
    /opt/perl-5.25.11t/lib/5.25.11/x86_64-linux-thread-multi
    /opt/perl-5.25.11t/lib/5.25.11
    .