CSS-Sass v3.6.4 Perl 5 v5.40.1 x86_64-linux-ld

Status
Pass
From
Andreas J. König (ANDK)
Dist
CSS-Sass v3.6.4
Platform
Perl 5 v5.40.1 x86_64-linux-ld
Date
2025-01-26 05:48:10
ID
1ff2124c-dba9-11ef-8845-941df9db6df0
This distribution has been tested as part of the CPAN Testers
project, supporting the Perl programming language.  See
http://wiki.cpantesters.org/ for more information or email
questions to cpan-testers-discuss@perl.org


--
Dear Marcel Greter,

This is a computer-generated report for CSS-Sass-3.6.4
on perl 5.40.1, created by CPAN-Reporter-1.2020.

Thank you for uploading your work to CPAN.  Congratulations!
All tests were successful.

Sections of this report:

    * Tester comments
    * Program output
    * Prerequisites
    * Environment and other context

------------------------------
TESTER COMMENTS
------------------------------

Additional comments from tester:

this report is from an automated smoke testing program
and was not reviewed by a human for accuracy

------------------------------
PROGRAM OUTPUT
------------------------------

Output from '/usr/bin/make test':

"/tmp/basesmoker-reloperl-8PK5/bin/perl" -MExtUtils::Command::MM -e 'cp_nonempty' -- Sass.bs blib/arch/auto/CSS/Sass/Sass.bs 644
PERL_DL_NONLAZY=1 "/tmp/basesmoker-reloperl-8PK5/bin/perl" "-MExtUtils::Command::MM" "-MTest::Harness" "-e" "undef *Test::Harness::Switches; test_harness(0, 'blib/lib', 'blib/arch')" t/*.t
t/00_sanity.t ........... ok
t/01_xs.t ............... ok
t/02_perl.t ............. ok
t/03_xs_functions.t ..... ok
t/04_xs_value_types.t ... ok
t/05_source_maps.t ...... ok
t/06_sass_import.t ...... ok
t/07_custom_importer.t .. ok
t/08_sass_to_scss.t ..... skipped: Moved to specs
t/09_unicode.t .......... ok
DEPRECATION WARNING on line 1 of [C-VALUE]:
The operation `#2a2b2c times #2a2b2c` is deprecated and will be an error in future versions.
Consider using Sass's color functions instead.
https://sass-lang.com/documentation/Sass/Script/Functions.html#other_color_functions

DEPRECATION WARNING on line 1 of [C-VALUE]:
The operation `#2a2b2c div #2a2b2c` is deprecated and will be an error in future versions.
Consider using Sass's color functions instead.
https://sass-lang.com/documentation/Sass/Script/Functions.html#other_color_functions

DEPRECATION WARNING on line 1 of [C-VALUE]:
The operation `#2a2b2c plus #2a2b2c` is deprecated and will be an error in future versions.
Consider using Sass's color functions instead.
https://sass-lang.com/documentation/Sass/Script/Functions.html#other_color_functions

DEPRECATION WARNING on line 1 of [C-VALUE]:
The operation `#2a2b2c minus #2a2b2c` is deprecated and will be an error in future versions.
Consider using Sass's color functions instead.
https://sass-lang.com/documentation/Sass/Script/Functions.html#other_color_functions

DEPRECATION WARNING on line 1 of [C-VALUE]:
The operation `#2a2b2c mod #2a2b2c` is deprecated and will be an error in future versions.
Consider using Sass's color functions instead.
https://sass-lang.com/documentation/Sass/Script/Functions.html#other_color_functions

DEPRECATION WARNING on line 1 of [C-VALUE]:
The operation `red plus #ff3366` is deprecated and will be an error in future versions.
Consider using Sass's color functions instead.
https://sass-lang.com/documentation/Sass/Script/Functions.html#other_color_functions

DEPRECATION WARNING on line 37 of stdin:
The operation `red plus #F36` is deprecated and will be an error in future versions.
Consider using Sass's color functions instead.
https://sass-lang.com/documentation/Sass/Script/Functions.html#other_color_functions

DEPRECATION WARNING on line 38 of stdin:
The operation `red plus #F36` is deprecated and will be an error in future versions.
Consider using Sass's color functions instead.
https://sass-lang.com/documentation/Sass/Script/Functions.html#other_color_functions

DEPRECATION WARNING on line 1 of [C-VALUE]:
The operation `red plus #ff3366` is deprecated and will be an error in future versions.
Consider using Sass's color functions instead.
https://sass-lang.com/documentation/Sass/Script/Functions.html#other_color_functions

DEPRECATION WARNING on line 1 of [C-VALUE]:
The operation `red plus #ff3366` is deprecated and will be an error in future versions.
Consider using Sass's color functions instead.
https://sass-lang.com/documentation/Sass/Script/Functions.html#other_color_functions

DEPRECATION WARNING on line 40 of stdin:
The operation `red plus #F36` is deprecated and will be an error in future versions.
Consider using Sass's color functions instead.
https://sass-lang.com/documentation/Sass/Script/Functions.html#other_color_functions

DEPRECATION WARNING on line 1 of [C-VALUE]:
The operation `red minus #ff3366` is deprecated and will be an error in future versions.
Consider using Sass's color functions instead.
https://sass-lang.com/documentation/Sass/Script/Functions.html#other_color_functions

DEPRECATION WARNING on line 41 of stdin:
The operation `red minus #F36` is deprecated and will be an error in future versions.
Consider using Sass's color functions instead.
https://sass-lang.com/documentation/Sass/Script/Functions.html#other_color_functions

DEPRECATION WARNING on line 42 of stdin:
The operation `red minus #F36` is deprecated and will be an error in future versions.
Consider using Sass's color functions instead.
https://sass-lang.com/documentation/Sass/Script/Functions.html#other_color_functions

DEPRECATION WARNING on line 1 of [C-VALUE]:
The operation `red minus #ff3366` is deprecated and will be an error in future versions.
Consider using Sass's color functions instead.
https://sass-lang.com/documentation/Sass/Script/Functions.html#other_color_functions

DEPRECATION WARNING on line 1 of [C-VALUE]:
The operation `red minus #ff3366` is deprecated and will be an error in future versions.
Consider using Sass's color functions instead.
https://sass-lang.com/documentation/Sass/Script/Functions.html#other_color_functions

DEPRECATION WARNING on line 44 of stdin:
The operation `red minus #F36` is deprecated and will be an error in future versions.
Consider using Sass's color functions instead.
https://sass-lang.com/documentation/Sass/Script/Functions.html#other_color_functions

DEPRECATION WARNING on line 1 of [C-VALUE]:
The operation `red div #ff3366` is deprecated and will be an error in future versions.
Consider using Sass's color functions instead.
https://sass-lang.com/documentation/Sass/Script/Functions.html#other_color_functions

DEPRECATION WARNING on line 45 of stdin:
The operation `red div #F36` is deprecated and will be an error in future versions.
Consider using Sass's color functions instead.
https://sass-lang.com/documentation/Sass/Script/Functions.html#other_color_functions

DEPRECATION WARNING on line 46 of stdin:
The operation `red div #F36` is deprecated and will be an error in future versions.
Consider using Sass's color functions instead.
https://sass-lang.com/documentation/Sass/Script/Functions.html#other_color_functions

DEPRECATION WARNING on line 1 of [C-VALUE]:
The operation `red div #ff3366` is deprecated and will be an error in future versions.
Consider using Sass's color functions instead.
https://sass-lang.com/documentation/Sass/Script/Functions.html#other_color_functions

DEPRECATION WARNING on line 1 of [C-VALUE]:
The operation `red div #ff3366` is deprecated and will be an error in future versions.
Consider using Sass's color functions instead.
https://sass-lang.com/documentation/Sass/Script/Functions.html#other_color_functions

DEPRECATION WARNING on line 48 of stdin:
The operation `red div #F36` is deprecated and will be an error in future versions.
Consider using Sass's color functions instead.
https://sass-lang.com/documentation/Sass/Script/Functions.html#other_color_functions

DEPRECATION WARNING on line 1 of [C-VALUE]:
The operation `red div #ff3366` is deprecated and will be an error in future versions.
Consider using Sass's color functions instead.
https://sass-lang.com/documentation/Sass/Script/Functions.html#other_color_functions

DEPRECATION WARNING on line 51 of stdin:
The operation `red times #F36` is deprecated and will be an error in future versions.
Consider using Sass's color functions instead.
https://sass-lang.com/documentation/Sass/Script/Functions.html#other_color_functions

DEPRECATION WARNING on line 52 of stdin:
The operation `red times #F36` is deprecated and will be an error in future versions.
Consider using Sass's color functions instead.
https://sass-lang.com/documentation/Sass/Script/Functions.html#other_color_functions

DEPRECATION WARNING on line 1 of [C-VALUE]:
The operation `red times #ff3366` is deprecated and will be an error in future versions.
Consider using Sass's color functions instead.
https://sass-lang.com/documentation/Sass/Script/Functions.html#other_color_functions

DEPRECATION WARNING on line 1 of [C-VALUE]:
The operation `red times #ff3366` is deprecated and will be an error in future versions.
Consider using Sass's color functions instead.
https://sass-lang.com/documentation/Sass/Script/Functions.html#other_color_functions

DEPRECATION WARNING on line 54 of stdin:
The operation `red times #F36` is deprecated and will be an error in future versions.
Consider using Sass's color functions instead.
https://sass-lang.com/documentation/Sass/Script/Functions.html#other_color_functions

DEPRECATION WARNING on line 1 of [C-VALUE]:
The operation `red mod #ff3366` is deprecated and will be an error in future versions.
Consider using Sass's color functions instead.
https://sass-lang.com/documentation/Sass/Script/Functions.html#other_color_functions

DEPRECATION WARNING on line 55 of stdin:
The operation `red mod #F36` is deprecated and will be an error in future versions.
Consider using Sass's color functions instead.
https://sass-lang.com/documentation/Sass/Script/Functions.html#other_color_functions

DEPRECATION WARNING on line 56 of stdin:
The operation `red mod #F36` is deprecated and will be an error in future versions.
Consider using Sass's color functions instead.
https://sass-lang.com/documentation/Sass/Script/Functions.html#other_color_functions

DEPRECATION WARNING on line 1 of [C-VALUE]:
The operation `red mod #ff3366` is deprecated and will be an error in future versions.
Consider using Sass's color functions instead.
https://sass-lang.com/documentation/Sass/Script/Functions.html#other_color_functions

DEPRECATION WARNING on line 1 of [C-VALUE]:
The operation `red mod #ff3366` is deprecated and will be an error in future versions.
Consider using Sass's color functions instead.
https://sass-lang.com/documentation/Sass/Script/Functions.html#other_color_functions

DEPRECATION WARNING on line 58 of stdin:
The operation `red mod #F36` is deprecated and will be an error in future versions.
Consider using Sass's color functions instead.
https://sass-lang.com/documentation/Sass/Script/Functions.html#other_color_functions

t/10_sass_value_op.t .... ok
DEPRECATION WARNING on line 1 of [math]:
!global assignments won't be able to declare new variables in future versions.
Consider adding `$E: null` at the top level.

DEPRECATION WARNING on line 2 of [math]:
!global assignments won't be able to declare new variables in future versions.
Consider adding `$PI: null` at the top level.

DEPRECATION WARNING on line 3 of [math]:
!global assignments won't be able to declare new variables in future versions.
Consider adding `$TAU: null` at the top level.

t/11_sass_plugins.t ..... ok
t/98_sass_srcmaps.t ..... skipped: Disabled
t/99_sass_specs.t ....... ok
All tests successful.
Files=14, Tests=8107, 13 wallclock secs ( 0.86 usr  0.12 sys +  9.15 cusr  2.90 csys = 13.03 CPU)
Result: PASS

------------------------------
PREREQUISITES
------------------------------

Prerequisite modules loaded:

requires:

    Module                  Need Have    
    ----------------------- ---- --------
    Carp                    1.01 1.54    
    Encode::Locale          0.01 1.05    
    Filesys::Notify::Simple 0.01 0.14    
    Getopt::Long            0.01 2.58    
    List::Util              1.45 1.68    
    strict                  0    1.13    
    version                 0    0.9933  
    warnings                0    1.70    

build_requires:

    Module                  Need Have    
    ----------------------- ---- --------
    ExtUtils::CppGuess      0.14 0.27    
    ExtUtils::MakeMaker     6.52 7.70    
    File::chdir             0.01 0.1011  
    Getopt::Long            0.01 2.58    
    Test::Differences       0.01 0.71    
    YAML::XS                0.01 v0.902.0

configure_requires:

    Module                  Need Have    
    ----------------------- ---- --------
    ExtUtils::CppGuess      0.14 0.27    
    ExtUtils::MakeMaker     6.52 7.70    
    Getopt::Long            0.01 2.58    


------------------------------
ENVIRONMENT AND OTHER CONTEXT
------------------------------

Environment variables:

    AUTOMATED_TESTING = 1
    LANG = en_US.UTF-8
    LC_ADDRESS = de_DE.UTF-8
    LC_IDENTIFICATION = de_DE.UTF-8
    LC_MEASUREMENT = de_DE.UTF-8
    LC_MONETARY = de_DE.UTF-8
    LC_NAME = de_DE.UTF-8
    LC_NUMERIC = de_DE.UTF-8
    LC_PAPER = de_DE.UTF-8
    LC_TELEPHONE = de_DE.UTF-8
    LC_TIME = de_DE.UTF-8
    PATH = /home/sand/bin:/usr/local/bin:/usr/local/sbin:/usr/sbin:/usr/bin:/sbin:/bin:/usr/games:/usr/local/games:/snap/bin:/usr/local/perl/bin:/usr/X11/bin
    PERL = /tmp/basesmoker-reloperl-8PK5/bin/perl
    PERL5LIB = /tmp/loop_over_bdir-1811576-gv8Zy6/Captive-Portal-4.10-0/blib/arch:/tmp/loop_over_bdir-1811576-gv8Zy6/Captive-Portal-4.10-0/blib/lib:/tmp/loop_over_bdir-1811576-gv8Zy6/mmds-1.902-0/blib/arch:/tmp/loop_over_bdir-1811576-gv8Zy6/mmds-1.902-0/blib/lib:/tmp/loop_over_bdir-1811576-gv8Zy6/CGI-Application-NetNewsIface-0.0204-0/blib/arch:/tmp/loop_over_bdir-1811576-gv8Zy6/CGI-Application-NetNewsIface-0.0204-0/blib/lib:/tmp/loop_over_bdir-1811576-gv8Zy6/App-nrun-v1.1.2-0/blib/arch:/tmp/loop_over_bdir-1811576-gv8Zy6/App-nrun-v1.1.2-0/blib/lib:/tmp/loop_over_bdir-1811576-gv8Zy6/Sysync-0.38-0/blib/arch:/tmp/loop_over_bdir-1811576-gv8Zy6/Sysync-0.38-0/blib/lib:/tmp/loop_over_bdir-1811576-gv8Zy6/Module-ScanDeps-Static-1.7.2-0/blib/arch:/tmp/loop_over_bdir-1811576-gv8Zy6/Module-ScanDeps-Static-1.7.2-0/blib/lib:/tmp/loop_over_bdir-1811576-gv8Zy6/dta-tokwrap-0.98-0/blib/arch:/tmp/loop_over_bdir-1811576-gv8Zy6/dta-tokwrap-0.98-0/blib/lib:/tmp/loop_over_bdir-1811576-gv8Zy6/Linux-InitFS-0.2-0/blib/arch:/tmp/loop_over_bdir-1811576-gv8Zy6/Linux-InitFS-0.2-0/blib/lib:/tmp/loop_over_bdir-1811576-gv8Zy6/Debian-Packages-0.03-0/blib/arch:/tmp/loop_over_bdir-1811576-gv8Zy6/Debian-Packages-0.03-0/blib/lib:/tmp/loop_over_bdir-1811576-gv8Zy6/DBIx-Migration-Directories-0.12-0/blib/arch:/tmp/loop_over_bdir-1811576-gv8Zy6/DBIx-Migration-Directories-0.12-0/blib/lib:/tmp/loop_over_bdir-1811576-gv8Zy6/perl-Hardware-UPS-Perl-0.43-0/blib/arch:/tmp/loop_over_bdir-1811576-gv8Zy6/perl-Hardware-UPS-Perl-0.43-0/blib/lib:/tmp/loop_over_bdir-1811576-gv8Zy6/Alien-SNMP-MIBDEV-2.020000-0/blib/arch:/tmp/loop_over_bdir-1811576-gv8Zy6/Alien-SNMP-MIBDEV-2.020000-0/blib/lib:/tmp/loop_over_bdir-1811576-gv8Zy6/Business-Shipping-DataFiles-1.02-0/blib/arch:/tmp/loop_over_bdir-1811576-gv8Zy6/Business-Shipping-DataFiles-1.02-0/blib/lib:/tmp/loop_over_bdir-1811576-gv8Zy6/Devel-Required-0.16-0/blib/arch:/tmp/loop_over_bdir-1811576-gv8Zy6/Devel-Required-0.16-0/blib/lib:/tmp/loop_over_bdir-1811576-gv8Zy6/App-oo_modulino_zsh_completion_helper-0.04-0/blib/arch:/tmp/loop_over_bdir-1811576-gv8Zy6/App-oo_modulino_zsh_completion_helper-0.04-0/blib/lib:/tmp/loop_over_bdir-1811576-gv8Zy6/NoZone-1.3-0/blib/arch:/tmp/loop_over_bdir-1811576-gv8Zy6/NoZone-1.3-0/blib/lib
    PERL5OPT = 
    PERL5_CPANPLUS_IS_RUNNING = 1811584
    PERL5_CPAN_IS_RUNNING = 1811584
    PERL_CANARY_STABILITY_NOPROMPT = 1
    PERL_MM_USE_DEFAULT = 1
    PERL_USE_UNSAFE_INC = 1
    SHELL = /usr/bin/zsh
    TERM = screen

Perl special variables (and OS-specific diagnostics, for MSWin32):

    $^X = /tmp/basesmoker-reloperl-8PK5/bin/perl
    $UID/$EUID = 1005 / 1005
    $GID = 1005 1005
    $EGID = 1005 1005

Perl module toolchain versions installed:

    Module              Have    
    ------------------- --------
    CPAN                2.38    
    CPAN::Meta          2.150010
    Cwd                 3.91    
    ExtUtils::CBuilder  0.280240
    ExtUtils::Command   7.70    
    ExtUtils::Install   2.22    
    ExtUtils::MakeMaker 7.70    
    ExtUtils::Manifest  1.75    
    ExtUtils::ParseXS   3.51    
    File::Spec          3.91    
    JSON                4.10    
    JSON::PP            4.16    
    Module::Build       0.4234  
    Module::Signature   0.89    
    Parse::CPAN::Meta   2.150010
    Test2               1.302207
    Test::Harness       3.50    
    Test::More          1.302207
    YAML                1.31    
    YAML::Syck          1.34    
    version             0.9933  


--

Summary of my perl5 (revision 5 version 40 subversion 1) configuration:
  Commit id: f722f11a2b1a34e28743e331bad6dd7da41e2086
  Platform:
    osname=linux
    osvers=6.8.0-50-generic
    archname=x86_64-linux-ld
    uname='linux k93jammy 6.8.0-50-generic #51~22.04.1-ubuntu smp preempt_dynamic thu nov 21 12:03:03 utc 2 x86_64 x86_64 x86_64 gnulinux '
    config_args='-Dprefix=/home/sand/src/perl/repoperls/installed-perls/host/k93jammy/v5.40.1/5674 -Dmyhostname=k93jammy -Dinstallusrbinperl=n -Uversiononly -Dusedevel -des -Ui_db -Dlibswanted=cl pthread socket inet nsl gdbm dbm malloc dl ld sun m crypt sec util c cposix posix ucb BSD gdbm_compat -Uuseithreads -Duselongdouble -DEBUGGING=-g'
    hint=recommended
    useposix=true
    d_sigaction=define
    useithreads=undef
    usemultiplicity=undef
    use64bitint=define
    use64bitall=define
    uselongdouble=define
    usemymalloc=n
    default_inc_excludes_dot=define
  Compiler:
    cc='cc'
    ccflags ='-fwrapv -fno-strict-aliasing -pipe -fstack-protector-strong -I/usr/local/include -D_LARGEFILE_SOURCE -D_FILE_OFFSET_BITS=64'
    optimize='-O2 -g'
    cppflags='-fwrapv -fno-strict-aliasing -pipe -fstack-protector-strong -I/usr/local/include'
    ccversion=''
    gccversion='11.4.0'
    gccosandvers=''
    intsize=4
    longsize=8
    ptrsize=8
    doublesize=8
    byteorder=12345678
    doublekind=3
    d_longlong=define
    longlongsize=8
    d_longdbl=define
    longdblsize=16
    longdblkind=3
    ivtype='long'
    ivsize=8
    nvtype='long double'
    nvsize=16
    Off_t='off_t'
    lseeksize=8
    alignbytes=16
    prototype=define
  Linker and Libraries:
    ld='cc'
    ldflags =' -fstack-protector-strong -L/usr/local/lib'
    libpth=/usr/local/lib /usr/lib/x86_64-linux-gnu /usr/lib /usr/lib64
    libs=-lpthread -lnsl -ldl -lm -lcrypt -lutil -lc
    perllibs=-lpthread -lnsl -ldl -lm -lcrypt -lutil -lc
    libc=/lib/x86_64-linux-gnu/libc.so.6
    so=so
    useshrplib=false
    libperl=libperl.a
    gnulibc_version='2.35'
  Dynamic Linking:
    dlsrc=dl_dlopen.xs
    dlext=so
    d_dlsymun=undef
    ccdlflags='-Wl,-E'
    cccdlflags='-fPIC'
    lddlflags='-shared -O2 -g -L/usr/local/lib -fstack-protector-strong'


Characteristics of this binary (from libperl): 
  Compile-time options:
    HAS_LONG_DOUBLE
    HAS_STRTOLD
    HAS_TIMES
    PERLIO_LAYERS
    PERL_COPY_ON_WRITE
    PERL_DONT_CREATE_GVSV
    PERL_HASH_FUNC_SIPHASH13
    PERL_HASH_USE_SBOX32
    PERL_MALLOC_WRAP
    PERL_OP_PARENT
    PERL_PRESERVE_IVUV
    PERL_USE_DEVEL
    PERL_USE_SAFE_PUTENV
    USE_64_BIT_ALL
    USE_64_BIT_INT
    USE_LARGE_FILES
    USE_LOCALE
    USE_LOCALE_COLLATE
    USE_LOCALE_CTYPE
    USE_LOCALE_NUMERIC
    USE_LOCALE_TIME
    USE_LONG_DOUBLE
    USE_PERLIO
    USE_PERL_ATOF
  Built under linux
  Compiled at Jan 20 2025 16:57:45
  %ENV:
    PERL="/tmp/basesmoker-reloperl-8PK5/bin/perl"
    PERL5LIB="/tmp/loop_over_bdir-1811576-gv8Zy6/Captive-Portal-4.10-0/blib/arch:/tmp/loop_over_bdir-1811576-gv8Zy6/Captive-Portal-4.10-0/blib/lib:/tmp/loop_over_bdir-1811576-gv8Zy6/mmds-1.902-0/blib/arch:/tmp/loop_over_bdir-1811576-gv8Zy6/mmds-1.902-0/blib/lib:/tmp/loop_over_bdir-1811576-gv8Zy6/CGI-Application-NetNewsIface-0.0204-0/blib/arch:/tmp/loop_over_bdir-1811576-gv8Zy6/CGI-Application-NetNewsIface-0.0204-0/blib/lib:/tmp/loop_over_bdir-1811576-gv8Zy6/App-nrun-v1.1.2-0/blib/arch:/tmp/loop_over_bdir-1811576-gv8Zy6/App-nrun-v1.1.2-0/blib/lib:/tmp/loop_over_bdir-1811576-gv8Zy6/Sysync-0.38-0/blib/arch:/tmp/loop_over_bdir-1811576-gv8Zy6/Sysync-0.38-0/blib/lib:/tmp/loop_over_bdir-1811576-gv8Zy6/Module-ScanDeps-Static-1.7.2-0/blib/arch:/tmp/loop_over_bdir-1811576-gv8Zy6/Module-ScanDeps-Static-1.7.2-0/blib/lib:/tmp/loop_over_bdir-1811576-gv8Zy6/dta-tokwrap-0.98-0/blib/arch:/tmp/loop_over_bdir-1811576-gv8Zy6/dta-tokwrap-0.98-0/blib/lib:/tmp/loop_over_bdir-1811576-gv8Zy6/Linux-InitFS-0.2-0/blib/arch:/tmp/loop_over_bdir-1811576-gv8Zy6/Linux-InitFS-0.2-0/blib/lib:/tmp/loop_over_bdir-1811576-gv8Zy6/Debian-Packages-0.03-0/blib/arch:/tmp/loop_over_bdir-1811576-gv8Zy6/Debian-Packages-0.03-0/blib/lib:/tmp/loop_over_bdir-1811576-gv8Zy6/DBIx-Migration-Directories-0.12-0/blib/arch:/tmp/loop_over_bdir-1811576-gv8Zy6/DBIx-Migration-Directories-0.12-0/blib/lib:/tmp/loop_over_bdir-1811576-gv8Zy6/perl-Hardware-UPS-Perl-0.43-0/blib/arch:/tmp/loop_over_bdir-1811576-gv8Zy6/perl-Hardware-UPS-Perl-0.43-0/blib/lib:/tmp/loop_over_bdir-1811576-gv8Zy6/Alien-SNMP-MIBDEV-2.020000-0/blib/arch:/tmp/loop_over_bdir-1811576-gv8Zy6/Alien-SNMP-MIBDEV-2.020000-0/blib/lib:/tmp/loop_over_bdir-1811576-gv8Zy6/Business-Shipping-DataFiles-1.02-0/blib/arch:/tmp/loop_over_bdir-1811576-gv8Zy6/Business-Shipping-DataFiles-1.02-0/blib/lib:/tmp/loop_over_bdir-1811576-gv8Zy6/Devel-Required-0.16-0/blib/arch:/tmp/loop_over_bdir-1811576-gv8Zy6/Devel-Required-0.16-0/blib/lib:/tmp/loop_over_bdir-1811576-gv8Zy6/App-oo_modulino_zsh_completion_helper-0.04-0/blib/arch:/tmp/loop_over_bdir-1811576-gv8Zy6/App-oo_modulino_zsh_completion_helper-0.04-0/blib/lib:/tmp/loop_over_bdir-1811576-gv8Zy6/NoZone-1.3-0/blib/arch:/tmp/loop_over_bdir-1811576-gv8Zy6/NoZone-1.3-0/blib/lib"
    PERL5OPT=""
    PERL5_CPANPLUS_IS_RUNNING="1811584"
    PERL5_CPAN_IS_RUNNING="1811584"
    PERL_CANARY_STABILITY_NOPROMPT="1"
    PERL_MM_USE_DEFAULT="1"
    PERL_USE_UNSAFE_INC="1"
  @INC:
    /tmp/loop_over_bdir-1811576-gv8Zy6/Captive-Portal-4.10-0/blib/arch
    /tmp/loop_over_bdir-1811576-gv8Zy6/Captive-Portal-4.10-0/blib/lib
    /tmp/loop_over_bdir-1811576-gv8Zy6/mmds-1.902-0/blib/arch
    /tmp/loop_over_bdir-1811576-gv8Zy6/mmds-1.902-0/blib/lib
    /tmp/loop_over_bdir-1811576-gv8Zy6/CGI-Application-NetNewsIface-0.0204-0/blib/arch
    /tmp/loop_over_bdir-1811576-gv8Zy6/CGI-Application-NetNewsIface-0.0204-0/blib/lib
    /tmp/loop_over_bdir-1811576-gv8Zy6/App-nrun-v1.1.2-0/blib/arch
    /tmp/loop_over_bdir-1811576-gv8Zy6/App-nrun-v1.1.2-0/blib/lib
    /tmp/loop_over_bdir-1811576-gv8Zy6/Sysync-0.38-0/blib/arch
    /tmp/loop_over_bdir-1811576-gv8Zy6/Sysync-0.38-0/blib/lib
    /tmp/loop_over_bdir-1811576-gv8Zy6/Module-ScanDeps-Static-1.7.2-0/blib/arch
    /tmp/loop_over_bdir-1811576-gv8Zy6/Module-ScanDeps-Static-1.7.2-0/blib/lib
    /tmp/loop_over_bdir-1811576-gv8Zy6/dta-tokwrap-0.98-0/blib/arch
    /tmp/loop_over_bdir-1811576-gv8Zy6/dta-tokwrap-0.98-0/blib/lib
    /tmp/loop_over_bdir-1811576-gv8Zy6/Linux-InitFS-0.2-0/blib/arch
    /tmp/loop_over_bdir-1811576-gv8Zy6/Linux-InitFS-0.2-0/blib/lib
    /tmp/loop_over_bdir-1811576-gv8Zy6/Debian-Packages-0.03-0/blib/arch
    /tmp/loop_over_bdir-1811576-gv8Zy6/Debian-Packages-0.03-0/blib/lib
    /tmp/loop_over_bdir-1811576-gv8Zy6/DBIx-Migration-Directories-0.12-0/blib/arch
    /tmp/loop_over_bdir-1811576-gv8Zy6/DBIx-Migration-Directories-0.12-0/blib/lib
    /tmp/loop_over_bdir-1811576-gv8Zy6/perl-Hardware-UPS-Perl-0.43-0/blib/arch
    /tmp/loop_over_bdir-1811576-gv8Zy6/perl-Hardware-UPS-Perl-0.43-0/blib/lib
    /tmp/loop_over_bdir-1811576-gv8Zy6/Alien-SNMP-MIBDEV-2.020000-0/blib/arch
    /tmp/loop_over_bdir-1811576-gv8Zy6/Alien-SNMP-MIBDEV-2.020000-0/blib/lib
    /tmp/loop_over_bdir-1811576-gv8Zy6/Business-Shipping-DataFiles-1.02-0/blib/arch
    /tmp/loop_over_bdir-1811576-gv8Zy6/Business-Shipping-DataFiles-1.02-0/blib/lib
    /tmp/loop_over_bdir-1811576-gv8Zy6/Devel-Required-0.16-0/blib/arch
    /tmp/loop_over_bdir-1811576-gv8Zy6/Devel-Required-0.16-0/blib/lib
    /tmp/loop_over_bdir-1811576-gv8Zy6/App-oo_modulino_zsh_completion_helper-0.04-0/blib/arch
    /tmp/loop_over_bdir-1811576-gv8Zy6/App-oo_modulino_zsh_completion_helper-0.04-0/blib/lib
    /tmp/loop_over_bdir-1811576-gv8Zy6/NoZone-1.3-0/blib/arch
    /tmp/loop_over_bdir-1811576-gv8Zy6/NoZone-1.3-0/blib/lib
    /home/sand/src/perl/repoperls/installed-perls/host/k93jammy/v5.40.1/5674/lib/site_perl/5.40.1/x86_64-linux-ld
    /home/sand/src/perl/repoperls/installed-perls/host/k93jammy/v5.40.1/5674/lib/site_perl/5.40.1
    /home/sand/src/perl/repoperls/installed-perls/host/k93jammy/v5.40.1/5674/lib/5.40.1/x86_64-linux-ld
    /home/sand/src/perl/repoperls/installed-perls/host/k93jammy/v5.40.1/5674/lib/5.40.1
    .