Text-Amuse-Preprocessor v0.67 Perl 5 v5.16.2 x86_64-linux

Status
Pass
From
Chris Williams (BINGOS)
Dist
Text-Amuse-Preprocessor v0.67
Platform
Perl 5 v5.16.2 x86_64-linux
Date
2023-07-16 10:54:23
ID
1fb80a8e-23c7-11ee-98b0-b3c3213a625c
This distribution has been tested as part of the CPAN Testers
project, supporting the Perl programming language.  See
http://wiki.cpantesters.org/ for more information or email
questions to cpan-testers-discuss@perl.org


--

Dear MELMOTHX,

This is a computer-generated error report created automatically by
CPANPLUS, version 0.9914. Testers personal comments may appear
at the end of this report.


Thank you for uploading your work to CPAN.  Congratulations!
All tests were successful.

TEST RESULTS:

Below is the error stack from stage 'make test':

PERL_DL_NONLAZY=1 "/home/cpan/pit/bare/perl-5.16.2/bin/perl" "-MExtUtils::Command::MM" "-MTest::Harness" "-e" "undef *Test::Harness::Switches; test_harness(0, 'blib/lib', 'blib/arch')" t/*.t
# Testing Text::Amuse::Preprocessor 0.67, Perl 5.016002, /home/cpan/pit/bare/perl-5.16.2/bin/perl
t/00-load.t ........... ok
t/changes.t ........... skipped: Changes testing not required (or Test::CPAN::Changes not found)
t/chars.t ............. ok
t/chinese.t ........... ok
# Using /tmp/sPZ6xpJdsk for ligatures
# Using /tmp/pbNJXyCFyQ for missing_nl
# Using /tmp/zCbSGfIkXE for garbage
# Using /tmp/wYBKIYFRMO for ellipsis_no_fix
# Using /tmp/4QmkwGQPk_ for ellipsis
# Using /tmp/y_1UuCyDuf for links
# Using /tmp/9lG9DRkpL6 for en
# Using /tmp/Vp4vCyd6bE for fi
# Using /tmp/LEhHKzU6UT for es
# Using /tmp/EitYYWne8d for sr
# Using /tmp/gNg0CuvYVU for hr
# Using /tmp/TiAk8mxoXy for ru
# Using /tmp/ASCwBfL5eZ for it
# Using /tmp/j0RFDJx4hQ for mk
# Using /tmp/3MHhYbo94C for sv
# Using /tmp/84rcbWN70P for de
# Using /tmp/r5kH9Z6mYD for pl
# Using /tmp/cT5TsRWQUV for bg
# Using /tmp/FTuBW14w9O for eo
# Using /tmp/H5iccpONrQ for fr
# Using /tmp/q7oi1lmzDR for pt
# Using /tmp/_hQTf4vttg for sq
# Using /tmp/7Owb945cQo for da
# Using /tmp/C37TL8csWA for nl
# Using /tmp/XMPR0SVSBv for id
# Using /tmp/eLeo4a4nFp for Full example
# Using /tmp/R_xGO2k37y for Quote
# Using /tmp/Q15lVb5IH6 for Quote
# Using /tmp/de3kfIxy3o for Nl quotation
t/common.t ............ ok
t/crash-on-verb.t ..... ok
# $VAR1 = "#title Test
# #lang en
# 
# 0
# 
# \x{201c}0\x{201d}
# 
# 0
# ";
# $VAR1 = "#title Test
# #lang en
# 
# 0
# 
# \x{201c}0\x{201d}
# 
# 0
# ";
t/crash_on_loop.t ..... ok
# /tmp/ZnHPMOtoHH/verbatim-in.muse
# /tmp/ZnHPMOtoHH
t/exclude-verbatim.t .. ok
tagpile mismatch: meta, head
tagpile mismatch: head, html
tagpile mismatch: link, head
tagpile mismatch: hr, div
tagpile mismatch: br, body
tagpile mismatch: div, html
# 
# 
# <right>
# سلام من هیچکسی نیستم.[1]
# </right>
# 
# <br>
# 
# [1] https://amusewiki.org
# 
tagpile mismatch: link, head
tagpile mismatch: hr, div
tagpile mismatch: br, body
tagpile mismatch: div, html
# 
# 
# سلام من هیچکسی نیستم.[1]
# 
# <br>
# 
# [1] https://amusewiki.org
# 
t/farsi.t ............. ok
# Testing t/footnotes/good.in => t/footnotes/good.out
# Testing t/footnotes/good2.in => t/footnotes/good2.out
# Testing t/footnotes/good3.in => t/footnotes/good3.out
# Testing t/footnotes/mixed.in => t/footnotes/mixed.out
# Testing t/footnotes/indentation.in => t/footnotes/indentation.out
# Testing t/footnotes/sec-good.in => t/footnotes/sec-good.out
# Testing t/footnotes/sec-good2.in => t/footnotes/sec-good2.out
# Testing t/footnotes/sec-good3.in => t/footnotes/sec-good3.out
# Testing t/footnotes/sec-bad.in => t/footnotes/sec-bad.out
# @@ -1 +1,2 @@
# -{4}
# +{3}
# +{3}
# Testing t/footnotes/sec-bad2.in => t/footnotes/sec-bad2.out
# @@ -1,3 +1,2 @@
# -{4}
# +{3}
# -{5}
# +{3}
# -{6}
# Testing t/footnotes/bad.in => t/footnotes/bad.out
# @@ -1,2 +1,3 @@
#  [1]
# -[1]
# +[2]
# +[4]
# Testing t/footnotes/bad2.in => t/footnotes/bad2.out
# @@ -1,4 +1,3 @@
#  [1]
# -[1]
# +[2]
#  [4]
# -[5]
t/footnotes.t ......... ok
tagpile mismatch: root, p
t/html-2.t ............ ok
# Using /tmp/UUbjYGuvhA.html
# Using /tmp/XczeQPNigM.html
# Using /tmp/A6wGgoEi0e.html
# Using /tmp/gZpKpwnWuF.html
# Using /tmp/DBWJlMFaxS.html
# Using /tmp/j3xOdlhttQ.html
# Using /tmp/cRoSERODqg.html
# Using /tmp/_HvbDlG511.html
# Using /tmp/kHSlThmBKM.html
# Using /tmp/Ygvh1kIlFP.html
# Using /tmp/RXXQA9adJi.html
# Using /tmp/eIkqBkPL2V.html
# Using /tmp/H_31H6DToK.html
# Using /tmp/MMLRIsdT3i.html
# Using /tmp/tuy0_n26CX.html
# Using /tmp/KutcJh24fZ.html
# Using /tmp/fSJwYXdXeJ.html
t/html.t .............. ok
# Retrieved on February 2, 2011 from http://j12.org/spunk/library/writers/meltzer/sp001500.html
# Retrieved on February 2, 2011 from [[http://j12.org/spunk/library/writers/meltzer/sp001500.html][j12.org]]
# Retrieved on December 22, 2011 from http://libertarian-labyrinth.org/archive/The_Great_Debacle
# Retrieved on December 22, 2011 from [[http://libertarian-labyrinth.org/archive/The_Great_Debacle][libertarian-labyrinth.org]]
# <br>http://www.nancho.net/advisors/anaes.html<br>
# <br>[[http://www.nancho.net/advisors/anaes.html][www.nancho.net]]<br>
# http://www.nancho.net/advisors/anaes.html<br>http://www.nancho.net/advisors/anaes.html<br>
# [[http://www.nancho.net/advisors/anaes.html][www.nancho.net]]<br>[[http://www.nancho.net/advisors/anaes.html][www.nancho.net]]<br>
#  https://web.archive.org/web/20220504202253/https://amusewiki.org/special/index 
#  [[https://web.archive.org/web/20220504202253/https://amusewiki.org/special/index][web.archive.org]] 
#  [[https://web.archive.org/web/20220504202253/https://amusewiki.org/special/index][web.archive.org]] 
#  [[https://web.archive.org/web/20220504202253/https://amusewiki.org/special/index][web.archive.org]] 
# http://test.org/xx and http://test.org/xx
# [[http://test.org/xx][test.org]] and [[http://test.org/xx][test.org]]
# [[http://test.org/xx][test.org]] and [[http://test.org/xx][test.org]]
# [[http://test.org/xx][test.org]] and [[http://test.org/xx][test.org]]
# http://test.org/xx and [[http://test.org/xx][test.org]]
# [[http://test.org/xx][test.org]] and [[http://test.org/xx][test.org]]
# http://test.org/xx and http://test.org/xx][test.org]] 
# [[http://test.org/xx][test.org]] and http://test.org/xx][test.org]] 
# <http://test.org/xx> and >http://test.org/xx<
# <[[http://test.org/xx][test.org]]> and >[[http://test.org/xx][test.org]]<
# <http://test.org/xx> and https://test.org:80/>http://test.org/xx< and https://test.org/ and [[https://test.org/][test.org]]
# <[[http://test.org/xx][test.org]]> and [[https://test.org:80/][test.org]]>[[http://test.org/xx][test.org]]< and [[https://test.org/][test.org]] and [[https://test.org/][test.org]]
# https://example.com/@test and https://example.com/@test
# [[https://example.com/@test][example.com]] and [[https://example.com/@test][example.com]]
# (http://en.wikipedia.org/wiki/Pi_%28instrument%29)
# ([[http://en.wikipedia.org/wiki/Pi_%28instrument%29][en.wikipedia.org]])
# (http://en.wikipedia.org?test=1)
# ([[http://en.wikipedia.org?test=1][en.wikipedia.org]])
# (http://en.wikipedia.org?test=1&test=2) (http://en.wikipedia.org/test?test=1)
# ([[http://en.wikipedia.org?test=1&test=2][en.wikipedia.org]]) ([[http://en.wikipedia.org/test?test=1][en.wikipedia.org]])
t/links.t ............. ok
t/manifest.t .......... skipped: Author tests not required for installation
t/memory-cycles.t ..... skipped: Test::Memory::Cycle required for testing memory cycles
t/nbsp.t .............. ok
# Infile is /tmp/VA_OvfiKso/input.txt
# Using /tmp/XHOgM_O54Q as temporary dir
t/object.t ............ ok
t/pod-coverage.t ...... skipped: Pod coverage not required for installation
t/pod.t ............... skipped: Pod test not required for installation
t/russian.t ........... ok
t/subs.t .............. ok
t/typography.t ........ ok
All tests successful.
Files=22, Tests=480,  3 wallclock secs ( 0.10 usr  0.02 sys +  1.90 cusr  0.31 csys =  2.33 CPU)
Result: PASS


PREREQUISITES:

Here is a list of prerequisites you specified and versions we
managed to load:

	  Module Name                        Have     Want
	  HTML::PullParser                   3.81        0
	  IO::HTML                          1.004        1
	  Pod::Simple::Wiki                  0.20     0.19
	  Test::More                     1.302195        0
	  Text::Amuse                        1.83     0.95
	  Text::Diff                         1.45        0

Perl module toolchain versions installed:
	Module Name                        Have
	CPANPLUS                         0.9914
	CPANPLUS::Dist::Build              0.90
	Cwd                                3.75
	ExtUtils::CBuilder             0.280236
	ExtUtils::Command                  7.70
	ExtUtils::Install                  2.22
	ExtUtils::MakeMaker                7.70
	ExtUtils::Manifest                 1.75
	ExtUtils::ParseXS                  3.44
	File::Spec                         3.75
	Module::Build                    0.4234
	Pod::Parser                        1.51
	Pod::Simple                        3.20
	Test2                          1.302195
	Test::Harness                      3.44
	Test::More                     1.302195
	version                          0.9929

******************************** NOTE ********************************
The comments above are created mechanically, possibly without manual
checking by the sender.  As there are many people performing automatic
tests on each upload to CPAN, it is likely that you will receive
identical messages about the same problem.

If you believe that the message is mistaken, please reply to the first
one with correction and/or additional informations, and do not take
it personally.  We appreciate your patience. :)
**********************************************************************

Additional comments:


This report was machine-generated by CPANPLUS::Dist::YACSmoke 1.08.
Powered by minismokebox version 0.68

CPANPLUS is prefering Build.PL

------------------------------
ENVIRONMENT AND OTHER CONTEXT
------------------------------

Environment variables:

    AUTOMATED_TESTING = 1
    LANG = C.UTF-8
    LC_COLLATE = C
    NONINTERACTIVE_TESTING = 1
    PATH = /home/cpan/pit/bare/conf/perl-5.16.2/.cpanplus/5.16.2/build/o2aROQcR69/Text-Amuse-Preprocessor-0.67/blib/script:/usr/local/sbin:/usr/local/bin:/usr/sbin:/usr/bin:/sbin:/bin
    PERL5LIB = /home/cpan/pit/jail/YSRmeNkfUO/lib/perl5:/home/cpan/pit/bare/conf/perl-5.16.2/.cpanplus/5.16.2/build/o2aROQcR69/Text-Amuse-Preprocessor-0.67/blib/lib:/home/cpan/pit/bare/conf/perl-5.16.2/.cpanplus/5.16.2/build/o2aROQcR69/Text-Amuse-Preprocessor-0.67/blib/arch
    PERL5_CPANPLUS_IS_RUNNING = 27553
    PERL5_CPANPLUS_IS_VERSION = 0.9914
    PERL5_MINISMOKEBOX = 0.68
    PERL5_YACSMOKE_BASE = /home/cpan/pit/bare/conf/perl-5.16.2
    PERL_EXTUTILS_AUTOINSTALL = --defaultdeps
    PERL_LOCAL_LIB_ROOT = /home/cpan/pit/jail/YSRmeNkfUO
    PERL_MB_OPT = --install_base "/home/cpan/pit/jail/YSRmeNkfUO"
    PERL_MM_OPT = INSTALL_BASE=/home/cpan/pit/jail/YSRmeNkfUO
    PERL_MM_USE_DEFAULT = 1
    SHELL = /bin/bash
    TERM = screen

Perl special variables (and OS-specific diagnostics, for MSWin32):

    Perl: $^X = /home/cpan/pit/bare/perl-5.16.2/bin/perl
    UID:  $<  = 1001
    EUID: $>  = 1001
    GID:  $(  = 1001 1001
    EGID: $)  = 1001 1001


-------------------------------


--

Summary of my perl5 (revision 5 version 16 subversion 2) configuration:
   
  Platform:
    osname=linux, osvers=5.10.16-0-lts, archname=x86_64-linux
    uname='linux agaric 5.10.16-0-lts #1-alpine smp wed, 17 feb 2021 08:17:06 utc x86_64 linux '
    config_args='-des -Dprefix=/home/cpan/pit/bare/perl-5.16.2'
    hint=recommended, useposix=true, d_sigaction=define
    useithreads=undef, usemultiplicity=undef
    useperlio=define, d_sfio=undef, uselargefiles=define, usesocks=undef
    use64bitint=define, use64bitall=define, uselongdouble=undef
    usemymalloc=n, bincompat5005=undef
  Compiler:
    cc='cc', ccflags ='-D_GNU_SOURCE -fwrapv -fno-strict-aliasing -pipe -fstack-protector -D_LARGEFILE_SOURCE -D_FILE_OFFSET_BITS=64',
    optimize='-O2',
    cppflags='-D_GNU_SOURCE -fwrapv -fno-strict-aliasing -pipe -fstack-protector'
    ccversion='', gccversion='10.2.1 20201203', gccosandvers=''
    intsize=4, longsize=8, ptrsize=8, doublesize=8, byteorder=12345678
    d_longlong=define, longlongsize=8, d_longdbl=define, longdblsize=16
    ivtype='long', ivsize=8, nvtype='double', nvsize=8, Off_t='off_t', lseeksize=8
    alignbytes=8, prototype=define
  Linker and Libraries:
    ld='cc', ldflags =' -fstack-protector -L/usr/local/lib'
    libpth=/usr/local/lib /lib/../lib /usr/lib/../lib /lib /usr/lib
    libs=-lgdbm -ldl -lm -lcrypt -lutil -lc -lgdbm_compat
    perllibs=-ldl -lm -lcrypt -lutil -lc
    libc=/usr/lib/libc.a, so=so, useshrplib=false, libperl=libperl.a
    gnulibc_version=''
  Dynamic Linking:
    dlsrc=dl_dlopen.xs, dlext=so, d_dlsymun=undef, ccdlflags='-Wl,-E'
    cccdlflags='-fPIC', lddlflags='-shared -O2 -L/usr/local/lib -fstack-protector'


Characteristics of this binary (from libperl): 
  Compile-time options: HAS_TIMES PERLIO_LAYERS PERL_DONT_CREATE_GVSV
                        PERL_MALLOC_WRAP PERL_PRESERVE_IVUV USE_64_BIT_ALL
                        USE_64_BIT_INT USE_LARGE_FILES USE_LOCALE
                        USE_LOCALE_COLLATE USE_LOCALE_CTYPE
                        USE_LOCALE_NUMERIC USE_PERLIO USE_PERL_ATOF
  Locally applied patches:
	Devel::PatchPerl 2.08
  Built under linux
  Compiled at Mar 11 2021 23:10:44
  %ENV:
    PERL5LIB="/home/cpan/pit/jail/YSRmeNkfUO/lib/perl5:/home/cpan/pit/bare/conf/perl-5.16.2/.cpanplus/5.16.2/build/o2aROQcR69/Text-Amuse-Preprocessor-0.67/blib/lib:/home/cpan/pit/bare/conf/perl-5.16.2/.cpanplus/5.16.2/build/o2aROQcR69/Text-Amuse-Preprocessor-0.67/blib/arch"
    PERL5_CPANPLUS_IS_RUNNING="27553"
    PERL5_CPANPLUS_IS_VERSION="0.9914"
    PERL5_MINISMOKEBOX="0.68"
    PERL5_YACSMOKE_BASE="/home/cpan/pit/bare/conf/perl-5.16.2"
    PERL_EXTUTILS_AUTOINSTALL="--defaultdeps"
    PERL_LOCAL_LIB_ROOT="/home/cpan/pit/jail/YSRmeNkfUO"
    PERL_MB_OPT="--install_base "/home/cpan/pit/jail/YSRmeNkfUO""
    PERL_MM_OPT="INSTALL_BASE=/home/cpan/pit/jail/YSRmeNkfUO"
    PERL_MM_USE_DEFAULT="1"
  @INC:
    /home/cpan/pit/jail/YSRmeNkfUO/lib/perl5/5.16.2/x86_64-linux
    /home/cpan/pit/jail/YSRmeNkfUO/lib/perl5/5.16.2
    /home/cpan/pit/jail/YSRmeNkfUO/lib/perl5/x86_64-linux
    /home/cpan/pit/jail/YSRmeNkfUO/lib/perl5
    /home/cpan/pit/bare/conf/perl-5.16.2/.cpanplus/5.16.2/build/o2aROQcR69/Text-Amuse-Preprocessor-0.67/blib/lib
    /home/cpan/pit/bare/conf/perl-5.16.2/.cpanplus/5.16.2/build/o2aROQcR69/Text-Amuse-Preprocessor-0.67/blib/arch
    /home/cpan/pit/bare/perl-5.16.2/lib/site_perl/5.16.2/x86_64-linux
    /home/cpan/pit/bare/perl-5.16.2/lib/site_perl/5.16.2
    /home/cpan/pit/bare/perl-5.16.2/lib/5.16.2/x86_64-linux
    /home/cpan/pit/bare/perl-5.16.2/lib/5.16.2
    .