Back
From: metabase:user:320bfe00-2aae-11df-837a-5e0a49663a4f
Subject: PASS Web-Request-0.11 v5.25.10 GNU/Linux
Date: 2017-02-23T03:21:10Z
This distribution has been tested as part of the CPAN Testers
project, supporting the Perl programming language. See
http://wiki.cpantesters.org/ for more information or email
questions to cpan-testers-discuss@perl.org
--
Dear Jesse Luehrs,
This is a computer-generated report for Web-Request-0.11
on perl 5.25.10, created by CPAN-Reporter-1.2018.
Thank you for uploading your work to CPAN. Congratulations!
All tests were successful.
Sections of this report:
* Tester comments
* Program output
* Prerequisites
* Environment and other context
------------------------------
TESTER COMMENTS
------------------------------
Additional comments from tester:
this report is from an automated smoke testing program
and was not reviewed by a human for accuracy
------------------------------
PROGRAM OUTPUT
------------------------------
Output from '/usr/bin/make test':
PERL_DL_NONLAZY=1 "/tmp/basesmoker-reloperl-69DG/bin/perl" "-MExtUtils::Command::MM" "-MTest::Harness" "-e" "undef *Test::Harness::Switches; test_harness(0, 'blib/lib', 'blib/arch')" t/*.t
t/00-compile.t ................. ok
t/base.t ....................... ok
t/body.t ....................... ok
t/content-on-get.t ............. ok
t/content.t .................... ok
t/cookie.t ..................... ok
t/double_port.t ................ ok
t/encoding.t ................... ok
t/hostname.t ................... ok
t/many_upload.t ................ ok
t/multi_read.t ................. ok
t/new.t ........................ ok
t/parameters.t ................. ok
t/params.t ..................... ok
t/path_info.t .................. ok
t/path_info_escaped.t .......... ok
t/readbody.t ................... ok
t/request_uri.t ................ ok
t/response-body.t .............. ok
t/response-compatible.t ........ ok
t/response-cookie.t ............ ok
t/response-new.t ............... ok
t/response-redirect.t .......... ok
t/response-streaming-cookie.t .. ok
t/response-streaming-utf8.t .... ok
t/response-streaming.t ......... ok
t/response-to_app.t ............ ok
t/response.t ................... ok
t/upload-basename.t ............ ok
t/upload-large.t ............... ok
t/upload.t ..................... ok
t/uri.t ........................ ok
t/uri_utf8.t ................... ok
All tests successful.
Files=33, Tests=244, 12 wallclock secs ( 0.10 usr 0.14 sys + 10.48 cusr 1.76 csys = 12.48 CPU)
Result: PASS
------------------------------
PREREQUISITES
------------------------------
Prerequisite modules loaded:
requires:
Module Need Have
---------------------------- ---- --------
Encode 0 2.88
File::Spec::Unix 0 3.66
HTTP::Body 0 1.22
HTTP::Headers 0 6.11
HTTP::Message::PSGI 0 0
Module::Runtime 0 0.014
Moose 0 2.2004
Moose::Util::TypeConstraints 0 2.2004
Plack::Util 0 0
Stream::Buffered 0 0.03
strict 0 1.11
URI 0 1.71
URI::Escape 0 3.31
warnings 0 1.37
build_requires:
Module Need Have
---------------------------- ---- --------
Data::Dumper 0 2.167
File::Find 0 1.34
File::Temp 0 0.2304
FindBin 0 1.51
HTTP::Request 0 6.11
HTTP::Request::Common 0 6.11
IO::String 0 1.08
Plack::App::URLMap 0 0
Plack::Test 0 0
Test::More 0.88 1.302075
Try::Tiny 0 0.28
utf8 0 1.19
configure_requires:
Module Need Have
---------------------------- ---- --------
ExtUtils::MakeMaker 6.30 7.24
------------------------------
ENVIRONMENT AND OTHER CONTEXT
------------------------------
Environment variables:
AUTOMATED_TESTING = 1
LANG = C
PATH = /home/sand/bin:/usr/local/bin:/usr/bin:/bin:/usr/games:/usr/local/perl/bin:/usr/X11/bin:/sbin:/usr/sbin
PERL5LIB = /tmp/loop_over_bdir-19656-t7Yv_Y/HTML-Tree-5.03-0/blib/arch:/tmp/loop_over_bdir-19656-t7Yv_Y/HTML-Tree-5.03-0/blib/lib:/tmp/loop_over_bdir-19656-t7Yv_Y/libintl-perl-1.26-0/blib/arch:/tmp/loop_over_bdir-19656-t7Yv_Y/libintl-perl-1.26-0/blib/lib:/tmp/loop_over_bdir-19656-t7Yv_Y/Mouse-v2.4.9-0/blib/arch:/tmp/loop_over_bdir-19656-t7Yv_Y/Mouse-v2.4.9-0/blib/lib:/tmp/loop_over_bdir-19656-t7Yv_Y/Compiler-Lexer-0.22-0/blib/arch:/tmp/loop_over_bdir-19656-t7Yv_Y/Compiler-Lexer-0.22-0/blib/lib:/tmp/loop_over_bdir-19656-t7Yv_Y/Clownfish-0.6.1-0/blib/arch:/tmp/loop_over_bdir-19656-t7Yv_Y/Clownfish-0.6.1-0/blib/lib
PERL5OPT =
PERL5_CPANPLUS_IS_RUNNING = 2662
PERL5_CPAN_IS_RUNNING = 2662
PERL_CANARY_STABILITY_NOPROMPT = 1
PERL_MM_USE_DEFAULT = 1
PERL_USE_UNSAFE_INC = 1
SHELL = /usr/bin/zsh
TERM = screen
Perl special variables (and OS-specific diagnostics, for MSWin32):
$^X = /tmp/basesmoker-reloperl-69DG/bin/perl
$UID/$EUID = 1005 / 1005
$GID = 1005 1005
$EGID = 1005 1005
Perl module toolchain versions installed:
Module Have
------------------- ----------
CPAN 2.17
CPAN::Meta 2.150010
Cwd 3.66
ExtUtils::CBuilder 0.280225
ExtUtils::Command 7.24
ExtUtils::Install 2.04
ExtUtils::MakeMaker 7.24
ExtUtils::Manifest 1.70
ExtUtils::ParseXS 3.33
File::Spec 3.66
JSON 2.90
JSON::PP 2.27400_02
Module::Build 0.4220
Module::Signature 0.81
Parse::CPAN::Meta 2.150010
Test::Harness 3.36_01
Test::More 1.302075
YAML 1.23
YAML::Syck 1.29
version 0.9917
--
Summary of my perl5 (revision 5 version 25 subversion 10) configuration:
Commit id: 4b99a68c34a1cfc3a4769459a7d93a36acae8219
Platform:
osname=linux
osvers=4.9.0-2-amd64
archname=x86_64-linux-thread-multi-ld
uname='linux k93x64sid 4.9.0-2-amd64 #1 smp debian 4.9.10-1 (2017-02-17) x86_64 gnulinux '
config_args='-Dprefix=/home/sand/src/perl/repoperls/installed-perls/host/k93x64sid/v5.25.10/ac0e -Dmyhostname=k93x64sid -Dinstallusrbinperl=n -Uversiononly -Dusedevel -des -Ui_db -Dlibswanted=cl pthread socket inet nsl gdbm dbm malloc dl ld sun m crypt sec util c cposix posix ucb BSD gdbm_compat -Duseithreads -Duselongdouble -DDEBUGGING=-g -Ddefault_inc_excludes_dot'
hint=recommended
useposix=true
d_sigaction=define
useithreads=define
usemultiplicity=define
use64bitint=define
use64bitall=define
uselongdouble=define
usemymalloc=n
bincompat5005=undef
Compiler:
cc='cc'
ccflags ='-D_REENTRANT -D_GNU_SOURCE -fwrapv -fno-strict-aliasing -pipe -fstack-protector-strong -I/usr/local/include -D_LARGEFILE_SOURCE -D_FILE_OFFSET_BITS=64'
optimize='-O2 -g'
cppflags='-D_REENTRANT -D_GNU_SOURCE -fwrapv -fno-strict-aliasing -pipe -fstack-protector-strong -I/usr/local/include'
ccversion=''
gccversion='6.3.0 20170218'
gccosandvers=''
intsize=4
longsize=8
ptrsize=8
doublesize=8
byteorder=12345678
doublekind=3
d_longlong=define
longlongsize=8
d_longdbl=define
longdblsize=16
longdblkind=3
ivtype='long'
ivsize=8
nvtype='long double'
nvsize=16
Off_t='off_t'
lseeksize=8
alignbytes=16
prototype=define
Linker and Libraries:
ld='cc'
ldflags =' -fstack-protector-strong -L/usr/local/lib'
libpth=/usr/local/lib /usr/lib/gcc/x86_64-linux-gnu/6/include-fixed /usr/include/x86_64-linux-gnu /usr/lib /lib/x86_64-linux-gnu /lib/../lib /usr/lib/x86_64-linux-gnu /usr/lib/../lib /lib
libs=-lpthread -lnsl -ldl -lm -lcrypt -lutil -lc
perllibs=-lpthread -lnsl -ldl -lm -lcrypt -lutil -lc
libc=libc-2.24.so
so=so
useshrplib=false
libperl=libperl.a
gnulibc_version='2.24'
Dynamic Linking:
dlsrc=dl_dlopen.xs
dlext=so
d_dlsymun=undef
ccdlflags='-Wl,-E'
cccdlflags='-fPIC'
lddlflags='-shared -O2 -g -L/usr/local/lib -fstack-protector-strong'
Characteristics of this binary (from libperl):
Compile-time options:
HAS_TIMES
MULTIPLICITY
PERLIO_LAYERS
PERL_COPY_ON_WRITE
PERL_DONT_CREATE_GVSV
PERL_IMPLICIT_CONTEXT
PERL_MALLOC_WRAP
PERL_OP_PARENT
PERL_PRESERVE_IVUV
PERL_USE_DEVEL
USE_64_BIT_ALL
USE_64_BIT_INT
USE_ITHREADS
USE_LARGE_FILES
USE_LOCALE
USE_LOCALE_COLLATE
USE_LOCALE_CTYPE
USE_LOCALE_NUMERIC
USE_LOCALE_TIME
USE_LONG_DOUBLE
USE_PERLIO
USE_PERL_ATOF
USE_REENTRANT_API
Built under linux
Compiled at Feb 21 2017 20:21:58
%ENV:
PERL5LIB="/tmp/loop_over_bdir-19656-t7Yv_Y/HTML-Tree-5.03-0/blib/arch:/tmp/loop_over_bdir-19656-t7Yv_Y/HTML-Tree-5.03-0/blib/lib:/tmp/loop_over_bdir-19656-t7Yv_Y/libintl-perl-1.26-0/blib/arch:/tmp/loop_over_bdir-19656-t7Yv_Y/libintl-perl-1.26-0/blib/lib:/tmp/loop_over_bdir-19656-t7Yv_Y/Mouse-v2.4.9-0/blib/arch:/tmp/loop_over_bdir-19656-t7Yv_Y/Mouse-v2.4.9-0/blib/lib:/tmp/loop_over_bdir-19656-t7Yv_Y/Compiler-Lexer-0.22-0/blib/arch:/tmp/loop_over_bdir-19656-t7Yv_Y/Compiler-Lexer-0.22-0/blib/lib:/tmp/loop_over_bdir-19656-t7Yv_Y/Clownfish-0.6.1-0/blib/arch:/tmp/loop_over_bdir-19656-t7Yv_Y/Clownfish-0.6.1-0/blib/lib"
PERL5OPT=""
PERL5_CPANPLUS_IS_RUNNING="2662"
PERL5_CPAN_IS_RUNNING="2662"
PERL_CANARY_STABILITY_NOPROMPT="1"
PERL_MM_USE_DEFAULT="1"
PERL_USE_UNSAFE_INC="1"
@INC:
/tmp/loop_over_bdir-19656-t7Yv_Y/HTML-Tree-5.03-0/blib/arch
/tmp/loop_over_bdir-19656-t7Yv_Y/HTML-Tree-5.03-0/blib/lib
/tmp/loop_over_bdir-19656-t7Yv_Y/libintl-perl-1.26-0/blib/arch
/tmp/loop_over_bdir-19656-t7Yv_Y/libintl-perl-1.26-0/blib/lib
/tmp/loop_over_bdir-19656-t7Yv_Y/Mouse-v2.4.9-0/blib/arch
/tmp/loop_over_bdir-19656-t7Yv_Y/Mouse-v2.4.9-0/blib/lib
/tmp/loop_over_bdir-19656-t7Yv_Y/Compiler-Lexer-0.22-0/blib/arch
/tmp/loop_over_bdir-19656-t7Yv_Y/Compiler-Lexer-0.22-0/blib/lib
/tmp/loop_over_bdir-19656-t7Yv_Y/Clownfish-0.6.1-0/blib/arch
/tmp/loop_over_bdir-19656-t7Yv_Y/Clownfish-0.6.1-0/blib/lib
/home/sand/src/perl/repoperls/installed-perls/host/k93x64sid/v5.25.10/ac0e/lib/site_perl/5.25.10/x86_64-linux-thread-multi-ld
/home/sand/src/perl/repoperls/installed-perls/host/k93x64sid/v5.25.10/ac0e/lib/site_perl/5.25.10
/home/sand/src/perl/repoperls/installed-perls/host/k93x64sid/v5.25.10/ac0e/lib/5.25.10/x86_64-linux-thread-multi-ld
/home/sand/src/perl/repoperls/installed-perls/host/k93x64sid/v5.25.10/ac0e/lib/5.25.10
.