Net-Statsd-Server v0.20 Perl 5 v5.43.5 amd64-netbsd-thread-multi

Status
Pass
From
Carlos Guevara
Dist
Net-Statsd-Server v0.20
Platform
Perl 5 v5.43.5 amd64-netbsd-thread-multi
Date
2025-10-29 14:25:31
ID
1fa1e53e-b4d3-11f0-affd-e57a0cff6eac
This distribution has been tested as part of the CPAN Testers
project, supporting the Perl programming language.  See
http://wiki.cpantesters.org/ for more information or email
questions to cpan-testers-discuss@perl.org


--
Dear Cosimo Streppone,

This is a computer-generated report for Net-Statsd-Server-0.20
on perl 5.43.5, created by CPAN-Reporter-1.2020.

Thank you for uploading your work to CPAN.  Congratulations!
All tests were successful.

Sections of this report:

    * Tester comments
    * Program output
    * Prerequisites
    * Environment and other context

------------------------------
TESTER COMMENTS
------------------------------

Additional comments from tester:

this report is from an automated smoke testing program
and was not reviewed by a human for accuracy

------------------------------
PROGRAM OUTPUT
------------------------------

Output from '/usr/bin/make test':

PERL_DL_NONLAZY=1 "/home/cpan/bin/perl/bin/perl5.43.5" "-MExtUtils::Command::MM" "-MTest::Harness" "-e" "undef *Test::Harness::Switches; test_harness(0, 'blib/lib', 'blib/arch')" t/*.t t/integration-tests/*.t
t/000-sanity.t ............................. ok
t/config.t ................................. ok
t/graphite.t ............................... ok
2025-10-29 10:25:20.000000 -0400 note  Net::Statsd::Server: Initializing Net::Statsd::Server::Backend::Console backend
2025-10-29 10:25:20.000000 -0400 note  Net::Statsd::Server: Initializing Net::Statsd::Server::Backend::Graphite backend
2025-10-29 10:25:20.000000 -0400 info  AnyEvent: Autoloaded model 'AnyEvent::Impl::Perl', using it.
Couldn't set SO_RCVBUF: No buffer space available at /home/cpan/.cpan/build/Net-Statsd-Server-0.20-0/bin/../lib/Net/Statsd/Server.pm line 709.
2025-10-29 10:25:20.087223 -0400 note  Net::Statsd::Server: statsd server started on 0.0.0.0:40001 (v0.17)
2025-10-29 10:25:20.087332 -0400 note  Net::Statsd::Server: manager interface started on 0.0.0.0:40002
2025-10-29 10:25:20.087424 -0400 note  Net::Statsd::Server: metrics flush will happen every 1s
2025-10-29 10:25:20.540699 -0400 warn  Net::Statsd::Server: Bad line: 1 in msg "a_bad_test_value|z"
2025-10-29 10:25:21.100414 -0400 note  Net::Statsd::Server: flushing metrics
Flushing stats at Wed Oct 29 10:25:21 2025
{"counter_rates":{"statsd.bad_lines_seen":1,"statsd.packets_received":1},"pctThreshold":[90],"counters":{"statsd.bad_lines_seen":1,"statsd.packets_received":1},"timers":{},"sets":null,"timer_data":{},"gauges":{}}
t/integration-tests/bad-message.t .......... ok
2025-10-29 10:25:21.000000 -0400 note  Net::Statsd::Server: Initializing Net::Statsd::Server::Backend::Console backend
2025-10-29 10:25:21.000000 -0400 note  Net::Statsd::Server: Initializing Net::Statsd::Server::Backend::Graphite backend
2025-10-29 10:25:21.000000 -0400 info  AnyEvent: Autoloaded model 'AnyEvent::Impl::Perl', using it.
Couldn't set SO_RCVBUF: No buffer space available at /home/cpan/.cpan/build/Net-Statsd-Server-0.20-0/bin/../lib/Net/Statsd/Server.pm line 709.
2025-10-29 10:25:21.274194 -0400 note  Net::Statsd::Server: statsd server started on 0.0.0.0:40001 (v0.17)
2025-10-29 10:25:21.274296 -0400 note  Net::Statsd::Server: manager interface started on 0.0.0.0:40002
2025-10-29 10:25:21.274389 -0400 note  Net::Statsd::Server: metrics flush will happen every 1s
2025-10-29 10:25:22.285717 -0400 note  Net::Statsd::Server: flushing metrics
Flushing stats at Wed Oct 29 10:25:22 2025
{"gauges":{},"pctThreshold":[90],"sets":null,"counter_rates":{"statsd.packets_received":1,"a_test_value":100,"statsd.bad_lines_seen":0},"timer_data":{},"timers":{},"counters":{"a_test_value":100,"statsd.packets_received":1,"statsd.bad_lines_seen":0}}
# stats.counters.a_test_value.rate 100.000000 1761747922
# stats.counters.a_test_value.count 100 1761747922
# stats.counters.statsd.packets_received.rate 1.000000 1761747922
# stats.counters.statsd.packets_received.count 1 1761747922
# stats.counters.statsd.bad_lines_seen.rate 0.000000 1761747922
# stats.counters.statsd.bad_lines_seen.count 0 1761747922
# stats.statsd.numStats 3 1761747922
# stats.statsd.graphiteStats.calculationtime 0.147000 1761747922
# stats.statsd.processing_time 0.062 1761747922
# stats.statsd.graphiteStats.last_exception 132412174445160 1761747922
# stats.statsd.graphiteStats.last_flush 132412174445160 1761747922
t/integration-tests/counts-are-valid.t ..... ok
2025-10-29 10:25:22.000000 -0400 note  Net::Statsd::Server: Initializing Net::Statsd::Server::Backend::Graphite backend
2025-10-29 10:25:22.000000 -0400 info  AnyEvent: Autoloaded model 'AnyEvent::Impl::Perl', using it.
Couldn't set SO_RCVBUF: No buffer space available at /home/cpan/.cpan/build/Net-Statsd-Server-0.20-0/bin/../lib/Net/Statsd/Server.pm line 709.
2025-10-29 10:25:22.462454 -0400 note  Net::Statsd::Server: statsd server started on 0.0.0.0:40001 (v0.17)
2025-10-29 10:25:22.462558 -0400 note  Net::Statsd::Server: manager interface started on 0.0.0.0:40002
2025-10-29 10:25:22.462650 -0400 note  Net::Statsd::Server: metrics flush will happen every 1s
2025-10-29 10:25:23.480923 -0400 note  Net::Statsd::Server: flushing metrics
# First flush. Test gauge should be there.
2025-10-29 10:25:24.475126 -0400 note  Net::Statsd::Server: flushing metrics
# Second flush. deleteGauges=false should keep the test gauge.
t/integration-tests/delete-gauges-false.t .. ok
2025-10-29 10:25:24.000000 -0400 note  Net::Statsd::Server: Initializing Net::Statsd::Server::Backend::Graphite backend
2025-10-29 10:25:24.000000 -0400 info  AnyEvent: Autoloaded model 'AnyEvent::Impl::Perl', using it.
Couldn't set SO_RCVBUF: No buffer space available at /home/cpan/.cpan/build/Net-Statsd-Server-0.20-0/bin/../lib/Net/Statsd/Server.pm line 709.
2025-10-29 10:25:24.632328 -0400 note  Net::Statsd::Server: statsd server started on 0.0.0.0:40001 (v0.17)
2025-10-29 10:25:24.632431 -0400 note  Net::Statsd::Server: manager interface started on 0.0.0.0:40002
2025-10-29 10:25:24.632524 -0400 note  Net::Statsd::Server: metrics flush will happen every 1s
2025-10-29 10:25:25.650230 -0400 note  Net::Statsd::Server: flushing metrics
# First flush. Test gauge should be there.
2025-10-29 10:25:26.644532 -0400 note  Net::Statsd::Server: flushing metrics
# Second flush. deleteIdleStats should have cleared the test gauge.
t/integration-tests/delete-idle-stats.t .... ok
2025-10-29 10:25:26.000000 -0400 note  Net::Statsd::Server: Initializing Net::Statsd::Server::Backend::Console backend
2025-10-29 10:25:26.000000 -0400 note  Net::Statsd::Server: Initializing Net::Statsd::Server::Backend::Graphite backend
2025-10-29 10:25:26.000000 -0400 info  AnyEvent: Autoloaded model 'AnyEvent::Impl::Perl', using it.
Couldn't set SO_RCVBUF: No buffer space available at /home/cpan/.cpan/build/Net-Statsd-Server-0.20-0/bin/../lib/Net/Statsd/Server.pm line 709.
2025-10-29 10:25:26.800033 -0400 note  Net::Statsd::Server: statsd server started on 0.0.0.0:40001 (v0.17)
2025-10-29 10:25:26.800060 -0400 note  Net::Statsd::Server: manager interface started on 0.0.0.0:40002
2025-10-29 10:25:26.800082 -0400 note  Net::Statsd::Server: metrics flush will happen every 1s
2025-10-29 10:25:27.819580 -0400 note  Net::Statsd::Server: flushing metrics
Flushing stats at Wed Oct 29 10:25:27 2025
{"pctThreshold":[90],"counter_rates":{"statsd.packets_received":1,"statsd.bad_lines_seen":0,"a_test_value,category=web,severity=high":100},"gauges":{},"timers":{},"counters":{"statsd.packets_received":1,"a_test_value,category=web,severity=high":100,"statsd.bad_lines_seen":0},"sets":null,"timer_data":{}}
# stats.counters.statsd.packets_received.rate 1.000000 1761747927
# stats.counters.statsd.packets_received.count 1 1761747927
# stats.counters.a_test_value,category=web,severity=high.rate 100.000000 1761747927
# stats.counters.a_test_value,category=web,severity=high.count 100 1761747927
# stats.counters.statsd.bad_lines_seen.rate 0.000000 1761747927
# stats.counters.statsd.bad_lines_seen.count 0 1761747927
# stats.statsd.numStats 3 1761747927
# stats.statsd.graphiteStats.calculationtime 0.090000 1761747927
# stats.statsd.processing_time 0.051 1761747927
# stats.statsd.graphiteStats.last_exception 123865255484008 1761747927
# stats.statsd.graphiteStats.last_flush 123865255484008 1761747927
t/integration-tests/keys-with-tags.t ....... ok
2025-10-29 10:25:27.000000 -0400 note  Net::Statsd::Server: Initializing Net::Statsd::Server::Backend::Graphite backend
2025-10-29 10:25:27.000000 -0400 info  AnyEvent: Autoloaded model 'AnyEvent::Impl::Perl', using it.
Couldn't set SO_RCVBUF: No buffer space available at /home/cpan/.cpan/build/Net-Statsd-Server-0.20-0/bin/../lib/Net/Statsd/Server.pm line 709.
2025-10-29 10:25:27.991914 -0400 note  Net::Statsd::Server: statsd server started on 0.0.0.0:40001 (v0.17)
2025-10-29 10:25:27.992017 -0400 note  Net::Statsd::Server: manager interface started on 0.0.0.0:40002
2025-10-29 10:25:27.992108 -0400 note  Net::Statsd::Server: metrics flush will happen every 1s
# Expected mean value is 1947.82
2025-10-29 10:25:29.004724 -0400 note  Net::Statsd::Server: flushing metrics
# stats.counters.statsd.bad_lines_seen.rate 0.000000 1761747929
# stats.counters.statsd.bad_lines_seen.count 0 1761747929
# stats.counters.statsd.packets_received.rate 100.000000 1761747929
# stats.counters.statsd.packets_received.count 100 1761747929
# stats.timers.read_latency.sum_95 180039.000000 1761747929
# stats.timers.read_latency.sum_99 191787.000000 1761747929
# stats.timers.read_latency.count_98 98.000000 1761747929
# stats.timers.read_latency.sum 194782.000000 1761747929
# stats.timers.read_latency.sum_squares 414956826.000000 1761747929
# stats.timers.read_latency.sum_squares_99 405986801.000000 1761747929
# stats.timers.read_latency.std 596.293139 1761747929
# stats.timers.read_latency.mean_99 1937.242424 1761747929
# stats.timers.read_latency.upper_98 2957.000000 1761747929
# stats.timers.read_latency.median 1972.500000 1761747929
# stats.timers.read_latency.mean 1947.820000 1761747929
# stats.timers.read_latency.sum_squares_95 371477971.000000 1761747929
# stats.timers.read_latency.count_95 95.000000 1761747929
# stats.timers.read_latency.count_99 99.000000 1761747929
# stats.timers.read_latency.mean_95 1895.147368 1761747929
# stats.timers.read_latency.count 100.000000 1761747929
# stats.timers.read_latency.lower 1012.000000 1761747929
# stats.timers.read_latency.sum_98 188809.000000 1761747929
# stats.timers.read_latency.upper_99 2978.000000 1761747929
# stats.timers.read_latency.count_ps 100.000000 1761747929
# stats.timers.read_latency.upper_95 2878.000000 1761747929
# stats.timers.read_latency.mean_98 1926.622449 1761747929
# stats.timers.read_latency.upper 2995.000000 1761747929
# stats.timers.read_latency.sum_squares_98 397118317.000000 1761747929
# stats.statsd.numStats 3 1761747929
# stats.statsd.graphiteStats.calculationtime 0.232000 1761747929
# stats.statsd.processing_time 0.619 1761747929
# stats.statsd.graphiteStats.last_exception 127297422764648 1761747929
# stats.statsd.graphiteStats.last_flush 127297422764648 1761747929
t/integration-tests/percent-threshold.t .... ok
2025-10-29 10:25:29.000000 -0400 note  Net::Statsd::Server: Initializing Net::Statsd::Server::Backend::Console backend
2025-10-29 10:25:29.000000 -0400 note  Net::Statsd::Server: Initializing Net::Statsd::Server::Backend::Graphite backend
2025-10-29 10:25:29.000000 -0400 info  AnyEvent: Autoloaded model 'AnyEvent::Impl::Perl', using it.
Couldn't set SO_RCVBUF: No buffer space available at /home/cpan/.cpan/build/Net-Statsd-Server-0.20-0/bin/../lib/Net/Statsd/Server.pm line 709.
2025-10-29 10:25:29.181039 -0400 note  Net::Statsd::Server: statsd server started on 0.0.0.0:40001 (v0.17)
2025-10-29 10:25:29.181142 -0400 note  Net::Statsd::Server: manager interface started on 0.0.0.0:40002
2025-10-29 10:25:29.181232 -0400 note  Net::Statsd::Server: metrics flush will happen every 1s
2025-10-29 10:25:30.190006 -0400 note  Net::Statsd::Server: flushing metrics
Flushing stats at Wed Oct 29 10:25:30 2025
{"timers":{"a_test_value":["100"]},"counter_rates":{"statsd.packets_received":1,"statsd.bad_lines_seen":0},"sets":null,"timer_data":{"a_test_value":{"count":1,"upper":"100","mean":100,"count_ps":1,"sum_squares":10000,"std":0,"mean_90":"100","median":"100","count_90":1,"sum":"100","sum_90":"100","lower":"100","sum_squares_90":10000,"upper_90":"100"}},"gauges":{},"counters":{"statsd.bad_lines_seen":0,"statsd.packets_received":1},"pctThreshold":["90"]}
# stats.counters.statsd.bad_lines_seen.rate 0.000000 1761747930
# stats.counters.statsd.bad_lines_seen.count 0 1761747930
# stats.counters.statsd.packets_received.rate 1.000000 1761747930
# stats.counters.statsd.packets_received.count 1 1761747930
# stats.timers.a_test_value.count 1.000000 1761747930
# stats.timers.a_test_value.upper 100.000000 1761747930
# stats.timers.a_test_value.mean 100.000000 1761747930
# stats.timers.a_test_value.count_ps 1.000000 1761747930
# stats.timers.a_test_value.sum_squares 10000.000000 1761747930
# stats.timers.a_test_value.std 0.000000 1761747930
# stats.timers.a_test_value.mean_90 100.000000 1761747930
# stats.timers.a_test_value.median 100.000000 1761747930
# stats.timers.a_test_value.count_90 1.000000 1761747930
# stats.timers.a_test_value.sum 100.000000 1761747930
# stats.timers.a_test_value.sum_90 100.000000 1761747930
# stats.timers.a_test_value.lower 100.000000 1761747930
# stats.timers.a_test_value.sum_squares_90 10000.000000 1761747930
# stats.timers.a_test_value.upper_90 100.000000 1761747930
# stats.statsd.numStats 3 1761747930
# stats.statsd.graphiteStats.calculationtime 0.268000 1761747930
# stats.statsd.processing_time 0.16 1761747930
# stats.statsd.graphiteStats.last_exception 134490110909032 1761747930
# stats.statsd.graphiteStats.last_flush 134490110909032 1761747930
t/integration-tests/timers-are-valid.t ..... ok
t/process-metrics.t ........................ ok
t/trim.t ................................... ok
All tests successful.
Files=12, Tests=92, 11 wallclock secs ( 0.05 usr  0.03 sys +  0.88 cusr  0.23 csys =  1.19 CPU)
Result: PASS

------------------------------
PREREQUISITES
------------------------------

Prerequisite modules loaded:

requires:

    Module                Need Have    
    --------------------- ---- --------
    AnyEvent::Handle::UDP 0    0.050   
    IO::Socket::INET      0    1.55    
    JSON::XS              0    4.04    

build_requires:

    Module                Need Have    
    --------------------- ---- --------
    ExtUtils::MakeMaker   0    7.76    
    Test::More            0    1.302214

configure_requires:

    Module                Need Have    
    --------------------- ---- --------
    ExtUtils::MakeMaker   0    7.76    


------------------------------
ENVIRONMENT AND OTHER CONTEXT
------------------------------

Environment variables:

    AUTOMATED_TESTING = 1
    CJG_PERL_COMMIT = 4eadf9a62f
    DATE_MANIP_TEST_DM5 = 1
    LC_ALL = C
    NONINTERACTIVE_TESTING = 1
    NO_NETWORK_TESTING = 1
    PATH = /home/cpan/bin/perl/bin:/home/cpan/bin:/home/cpan/bin:/bin:/sbin:/usr/bin:/usr/sbin:/usr/X11R7/bin:/usr/pkg/bin:/usr/pkg/sbin:/usr/games:/usr/local/bin:/usr/local/sbin
    PERL5LIB = 
    PERL5OPT = 
    PERL5_CPANPLUS_IS_RUNNING = 13043
    PERL5_CPAN_IS_RUNNING = 13043
    PERL_MM_USE_DEFAULT = 1
    PERL_PERTURB_KEYS = 0
    PERL_USE_UNSAFE_INC = 1
    SHELL = /usr/pkg/bin/bash
    TERM = screen
    TMPDIR = /home/cpan/tmp

Perl special variables (and OS-specific diagnostics, for MSWin32):

    $^X = /home/cpan/bin/perl/bin/perl5.43.5
    $UID/$EUID = 1003 / 1003
    $GID = 100 100
    $EGID = 100 100

Perl module toolchain versions installed:

    Module              Have    
    ------------------- --------
    CPAN                2.38    
    CPAN::Meta          2.150010
    Cwd                 3.94    
    ExtUtils::CBuilder  0.280242
    ExtUtils::Command   7.76    
    ExtUtils::Install   2.22    
    ExtUtils::MakeMaker 7.76    
    ExtUtils::Manifest  1.75    
    ExtUtils::ParseXS   3.60    
    File::Spec          3.94    
    JSON                4.10    
    JSON::PP            4.16    
    Module::Build       0.4234  
    Module::Signature   n/a     
    Parse::CPAN::Meta   2.150010
    Test2               1.302214
    Test::Harness       3.52    
    Test::More          1.302214
    YAML                1.31    
    YAML::Syck          1.36    
    version             0.9933  


--

Summary of my perl5 (revision 5 version 43 subversion 5) configuration:
  Commit id: 4eadf9a62fce11decdf054588c040ae20cbfb0ad
  Platform:
    osname=netbsd
    osvers=10.1
    archname=amd64-netbsd-thread-multi
    uname='netbsd cjg-netbsd10 10.1 netbsd 10.1 (generic) #0: mon dec 16 13:08:11 utc 2024 mkrepro@mkrepro.netbsd.org:usrsrcsysarchamd64compilegeneric amd64 '
    config_args='-des -Dprefix=/home/cpan/bin/perl -Dscriptdir=/home/cpan/bin/perl/bin -Dusedevel -Duse64bitall -Duseithreads'
    hint=recommended
    useposix=true
    d_sigaction=define
    useithreads=define
    usemultiplicity=define
    use64bitint=define
    use64bitall=define
    uselongdouble=undef
    usemymalloc=n
    default_inc_excludes_dot=define
  Compiler:
    cc='cc'
    ccflags ='-fwrapv -fno-strict-aliasing -pipe -fstack-protector-strong -I/usr/pkg/include -D_FORTIFY_SOURCE=2'
    optimize='-O'
    cppflags='-fwrapv -fno-strict-aliasing -pipe -fstack-protector-strong -I/usr/pkg/include'
    ccversion=''
    gccversion='10.5.0'
    gccosandvers=''
    intsize=4
    longsize=8
    ptrsize=8
    doublesize=8
    byteorder=12345678
    doublekind=3
    d_longlong=define
    longlongsize=8
    d_longdbl=define
    longdblsize=16
    longdblkind=3
    ivtype='long'
    ivsize=8
    nvtype='double'
    nvsize=8
    Off_t='off_t'
    lseeksize=8
    alignbytes=8
    prototype=define
  Linker and Libraries:
    ld='cc'
    ldflags =' -Wl,-rpath,/usr/pkg/lib -Wl,-rpath,/usr/local/lib -fstack-protector-strong -L/usr/pkg/lib'
    libpth=/usr/lib /usr/pkg/lib /lib
    libs=-lpthread -lm -lcrypt -lutil -lc -lposix
    perllibs=-lpthread -lm -lcrypt -lutil -lc -lposix
    libc=/lib/libc.so
    so=so
    useshrplib=false
    libperl=libperl.a
    gnulibc_version=''
  Dynamic Linking:
    dlsrc=dl_dlopen.xs
    dlext=so
    d_dlsymun=undef
    ccdlflags='-Wl,-E '
    cccdlflags='-DPIC -fPIC '
    lddlflags='-shared  -L/usr/pkg/lib -fstack-protector-strong'


Characteristics of this binary (from libperl): 
  Compile-time options:
    HAS_LONG_DOUBLE
    HAS_STRTOLD
    HAS_TIMES
    MULTIPLICITY
    PERLIO_LAYERS
    PERL_COPY_ON_WRITE
    PERL_DONT_CREATE_GVSV
    PERL_HASH_FUNC_SIPHASH13
    PERL_HASH_USE_SBOX32
    PERL_MALLOC_WRAP
    PERL_OP_PARENT
    PERL_PRESERVE_IVUV
    PERL_USE_DEVEL
    PERL_USE_SAFE_PUTENV
    USE_64_BIT_ALL
    USE_64_BIT_INT
    USE_ITHREADS
    USE_LARGE_FILES
    USE_LOCALE
    USE_LOCALE_COLLATE
    USE_LOCALE_CTYPE
    USE_LOCALE_NUMERIC
    USE_LOCALE_TIME
    USE_PERLIO
    USE_PERL_ATOF
    USE_REENTRANT_API
  Built under netbsd
  Compiled at Oct 27 2025 01:31:55
  %ENV:
    PERL5LIB=""
    PERL5OPT=""
    PERL5_CPANPLUS_IS_RUNNING="13043"
    PERL5_CPAN_IS_RUNNING="13043"
    PERL_MM_USE_DEFAULT="1"
    PERL_PERTURB_KEYS="0"
    PERL_USE_UNSAFE_INC="1"
  @INC:
    /home/cpan/bin/perl/lib/site_perl/5.43.5/amd64-netbsd-thread-multi
    /home/cpan/bin/perl/lib/site_perl/5.43.5
    /home/cpan/bin/perl/lib/5.43.5/amd64-netbsd-thread-multi
    /home/cpan/bin/perl/lib/5.43.5
    .