Sub-Multi-Tiny v0.000013 Perl 5 v5.38.2 amd64-freebsd

Status
Pass
From
Slaven Rezić
Dist
Sub-Multi-Tiny v0.000013
Platform
Perl 5 v5.38.2 amd64-freebsd
Date
2023-12-22 00:14:50
ID
1f8583f6-a05f-11ee-abf4-c1436e8775ea
This distribution has been tested as part of the CPAN Testers
project, supporting the Perl programming language.  See
http://wiki.cpantesters.org/ for more information or email
questions to cpan-testers-discuss@perl.org


--
Dear Christopher White,

This is a computer-generated report for Sub-Multi-Tiny-0.000013
on perl 5.38.2, created by CPAN-Reporter-1.2019.

Thank you for uploading your work to CPAN.  Congratulations!
All tests were successful.

Sections of this report:

    * Tester comments
    * Program output
    * Prerequisites
    * Environment and other context

------------------------------
TESTER COMMENTS
------------------------------

Additional comments from tester:

none provided

------------------------------
PROGRAM OUTPUT
------------------------------

Output from './Build test':

# Testing Sub::Multi::Tiny 0.000013, Perl 5.038002, /usr/perl5.38.2/bin/perl
t/00_compile.t ............. ok
# ########################################
# t/10_lexer.t
t/10_lexer.t ............... ok
# ########################################
# t/20_parser.t
t/20_parser.t .............. ok
# ########################################
# t/30_synopsis.t
t/30_synopsis.t ............ ok
# ########################################
# t/31_ambiguous_dispatch.t
t/31_ambiguous_dispatch.t .. ok
# ########################################
# t/32_same_arity.t
# Devel::Cover not covering
# Running /usr/perl5.38.2/bin/perl -I/home/cpansand/.cpan/build/2023122200/Sub-Multi-Tiny-0.000013-0/t -I/home/cpansand/.cpan/build/2023122200/Sub-Multi-Tiny-0.000013-0/blib/arch -I/home/cpansand/.cpan/build/2023122200/Sub-Multi-Tiny-0.000013-0/blib/lib -I/usr/perl5.38.2/lib/site_perl/5.38.2/amd64-freebsd -I/usr/perl5.38.2/lib/site_perl/5.38.2 -I/usr/perl5.38.2/lib/5.38.2/amd64-freebsd -I/usr/perl5.38.2/lib/5.38.2 -I. /home/cpansand/.cpan/build/2023122200/Sub-Multi-Tiny-0.000013-0/t/32_same_arity.pl
# Error message was 'Two candidates of the same arity (1) - try D:TypeParams? at /home/cpansand/.cpan/build/2023122200/Sub-Multi-Tiny-0.000013-0/blib/lib/Sub/Multi/Tiny/Dispatcher/Default.pm line 57.
# INIT failed--call queue aborted.
# '
t/32_same_arity.t .......... ok
# ########################################
# t/33_recursion.t
t/33_recursion.t ........... ok
# ########################################
# t/34_invalid_param.t
# Devel::Cover not covering
# Running /usr/perl5.38.2/bin/perl -I/home/cpansand/.cpan/build/2023122200/Sub-Multi-Tiny-0.000013-0/t -I/home/cpansand/.cpan/build/2023122200/Sub-Multi-Tiny-0.000013-0/blib/arch -I/home/cpansand/.cpan/build/2023122200/Sub-Multi-Tiny-0.000013-0/blib/lib -I/usr/perl5.38.2/lib/site_perl/5.38.2/amd64-freebsd -I/usr/perl5.38.2/lib/site_perl/5.38.2 -I/usr/perl5.38.2/lib/5.38.2/amd64-freebsd -I/usr/perl5.38.2/lib/5.38.2 -I. /home/cpansand/.cpan/build/2023122200/Sub-Multi-Tiny-0.000013-0/t/34_invalid_param.pl
# Error message was 'Argument $bar is not listed on the 'use Sub::Multi::Tiny' line (used by main::oops::second at /home/cpansand/.cpan/build/2023122200/Sub-Multi-Tiny-0.000013-0/t/34_invalid_param.pl:11 at /home/cpansand/.cpan/build/2023122200/Sub-Multi-Tiny-0.000013-0/blib/lib/Sub/Multi/Tiny.pm line 313.
# CHECK failed--call queue aborted.
# '
t/34_invalid_param.t ....... ok
# ########################################
# t/35_invalid_type.t
# Devel::Cover not covering
# Running /usr/perl5.38.2/bin/perl -I/home/cpansand/.cpan/build/2023122200/Sub-Multi-Tiny-0.000013-0/t -I/home/cpansand/.cpan/build/2023122200/Sub-Multi-Tiny-0.000013-0/blib/arch -I/home/cpansand/.cpan/build/2023122200/Sub-Multi-Tiny-0.000013-0/blib/lib -I/usr/perl5.38.2/lib/site_perl/5.38.2/amd64-freebsd -I/usr/perl5.38.2/lib/site_perl/5.38.2 -I/usr/perl5.38.2/lib/5.38.2/amd64-freebsd -I/usr/perl5.38.2/lib/5.38.2 -I. /home/cpansand/.cpan/build/2023122200/Sub-Multi-Tiny-0.000013-0/t/35_invalid_type.pl
# Error message was 'Type constraint on main::oops::first, arg $foo- try D:TypeParams? at /home/cpansand/.cpan/build/2023122200/Sub-Multi-Tiny-0.000013-0/blib/lib/Sub/Multi/Tiny/Dispatcher/Default.pm line 65.
# INIT failed--call queue aborted.
# '
t/35_invalid_type.t ........ ok
# ########################################
# t/36_invalid_where.t
# Devel::Cover not covering
# Running /usr/perl5.38.2/bin/perl -I/home/cpansand/.cpan/build/2023122200/Sub-Multi-Tiny-0.000013-0/t -I/home/cpansand/.cpan/build/2023122200/Sub-Multi-Tiny-0.000013-0/blib/arch -I/home/cpansand/.cpan/build/2023122200/Sub-Multi-Tiny-0.000013-0/blib/lib -I/usr/perl5.38.2/lib/site_perl/5.38.2/amd64-freebsd -I/usr/perl5.38.2/lib/site_perl/5.38.2 -I/usr/perl5.38.2/lib/5.38.2/amd64-freebsd -I/usr/perl5.38.2/lib/5.38.2 -I. /home/cpansand/.cpan/build/2023122200/Sub-Multi-Tiny-0.000013-0/t/36_invalid_where.pl
# Error message was ''where' clause on main::oops::first, arg $foo- try D:TypeParams? at /home/cpansand/.cpan/build/2023122200/Sub-Multi-Tiny-0.000013-0/blib/lib/Sub/Multi/Tiny/Dispatcher/Default.pm line 67.
# INIT failed--call queue aborted.
# '
t/36_invalid_where.t ....... ok
# ########################################
# t/40_type_tiny.t
# Type::Tiny / Types::Standard
t/40_type_tiny.t ........... ok
# ########################################
# t/41_type_tiny_verbose.t
t/41_type_tiny_verbose.t ... ok
# ########################################
# t/42_pos_and_named.t
t/42_pos_and_named.t ....... ok
# ########################################
# t/43_recursion_fib.t
t/43_recursion_fib.t ....... ok
All tests successful.
Files=14, Tests=236,  2 wallclock secs ( 0.05 usr  0.03 sys +  1.70 cusr  0.44 csys =  2.22 CPU)
Result: PASS

------------------------------
PREREQUISITES
------------------------------

Prerequisite modules loaded:

requires:

    Module              Need     Have    
    ------------------- -------- --------
    Attribute::Handlers 0.79     1.03    
    attributes          0        0.35    
    Carp                0        1.54    
    constant            0        1.33    
    Data::Dumper        0        2.188   
    enum                1.08     1.12    
    Exporter            5.57     5.77    
    Guard               1.023    1.023   
    Import::Into        1.002005 1.002005
    parent              0        0.241   
    perl                5.008001 5.038002
    Scalar::Util        1.50     1.63    
    strict              0        1.12    
    subs                0        1.04    
    Text::Balanced      2.01     2.06    
    Type::Params        1.999010 2.004000
    vars                0        1.05    
    vars::i             1.10     2.000000
    warnings            0        1.65    

build_requires:

    Module              Need     Have    
    ------------------- -------- --------
    Config              0        5.038002
    CPAN::Meta          2.150008 2.150010
    Data::PowerSet      0.05     0.05    
    IPC::Run3           0.047    0.048   
    lib::relative       1.000    1.002   
    Test::Fatal         0.014    0.017   
    Test::More          0.98     1.302198
    Type::Tiny          1.004004 2.004000
    Types::Standard     0        2.004000

configure_requires:

    Module              Need     Have    
    ------------------- -------- --------
    Cwd                 0        3.89    
    File::Spec          0        3.88    
    Module::Build::Tiny 0.035    0.047   
    Parse::Yapp         0        1.21    
    Parse::Yapp::Driver 0        1.21    


------------------------------
ENVIRONMENT AND OTHER CONTEXT
------------------------------

Environment variables:

    LANG = C.UTF-8
    PATH = /usr/local/bin:/usr/bin:/bin:/usr/local/sbin:/usr/sbin:/sbin:/home/cpansand/bin/freebsd14.0:/home/cpansand/bin/sh:/home/cpansand/bin:/usr/games:/home/cpansand/devel:/home/eserte/src/srezic-misc/scripts
    PERL5LIB = 
    PERL5OPT = 
    PERL5_CPANPLUS_IS_RUNNING = 67759
    PERL5_CPAN_IS_RUNNING = 67759
    PERL5_CPAN_IS_RUNNING_IN_RECURSION = 66200,67759
    PERLDOC = -MPod::Perldoc::ToTextOverstrike
    PERL_BATCH = yes
    PERL_CANARY_STABILITY_NOPROMPT = 1
    PERL_CPAN_REPORTER_CONFIG = /var/tmp/cpansmoker-1023/2023122107/cpanreporter_000_config.ini
    PERL_EXTUTILS_AUTOINSTALL = --defaultdeps
    PERL_USE_UNSAFE_INC = 1
    SHELL = /usr/local/bin/zsh
    TERM = screen
    TMPDIR = /var/tmp/cpansmoker-1023/2023122107

Perl special variables (and OS-specific diagnostics, for MSWin32):

    $^X = /usr/perl5.38.2/bin/perl5.38.2
    $UID/$EUID = 1023 / 1023
    $GID = 1023 1023
    $EGID = 1023 1023

Perl module toolchain versions installed:

    Module              Have    
    ------------------- --------
    CPAN                2.36    
    CPAN::Meta          2.150010
    Cwd                 3.89    
    ExtUtils::CBuilder  0.280238
    ExtUtils::Command   7.70    
    ExtUtils::Install   2.22    
    ExtUtils::MakeMaker 7.70    
    ExtUtils::Manifest  1.75    
    ExtUtils::ParseXS   3.51    
    File::Spec          3.88    
    JSON                4.10    
    JSON::PP            4.16    
    Module::Build       0.4234  
    Module::Signature   0.88    
    Parse::CPAN::Meta   2.150010
    Test2               1.302198
    Test::Harness       3.48    
    Test::More          1.302198
    YAML                1.30    
    YAML::Syck          1.34    
    version             0.9930  


--

Summary of my perl5 (revision 5 version 38 subversion 2) configuration:
   
  Platform:
    osname=freebsd
    osvers=14.0-stable
    archname=amd64-freebsd
    uname='freebsd cloud11.bbbike.org 14.0-stable freebsd 14.0-stable #0 stable14-8d42f85d9: wed dec 13 14:10:27 utc 2023 root@cloud11.bbbike.org:usrobjhomeprojectsfreebsd-srcamd64.amd64sysgeneric amd64 '
    config_args='-ds -e -Dprefix=/usr/perl5.38.2 -Dcf_email=srezic@cpan.org -Doptimize=-O2 -pipe'
    hint=recommended
    useposix=true
    d_sigaction=define
    useithreads=undef
    usemultiplicity=undef
    use64bitint=define
    use64bitall=define
    uselongdouble=undef
    usemymalloc=n
    default_inc_excludes_dot=define
  Compiler:
    cc='cc'
    ccflags ='-DHAS_FPSETMASK -DHAS_FLOATINGPOINT_H -fno-strict-aliasing -pipe -fstack-protector-strong -I/usr/local/include'
    optimize='-O2 -pipe'
    cppflags='-DHAS_FPSETMASK -DHAS_FLOATINGPOINT_H -fno-strict-aliasing -pipe -fstack-protector-strong -I/usr/local/include'
    ccversion=''
    gccversion='FreeBSD Clang 16.0.6 (https://github.com/llvm/llvm-project.git llvmorg-16.0.6-0-g7cbf1a259152)'
    gccosandvers=''
    intsize=4
    longsize=8
    ptrsize=8
    doublesize=8
    byteorder=12345678
    doublekind=3
    d_longlong=define
    longlongsize=8
    d_longdbl=define
    longdblsize=16
    longdblkind=3
    ivtype='long'
    ivsize=8
    nvtype='double'
    nvsize=8
    Off_t='off_t'
    lseeksize=8
    alignbytes=8
    prototype=define
  Linker and Libraries:
    ld='cc'
    ldflags ='-Wl,-E  -fstack-protector-strong -L/usr/local/lib'
    libpth=/usr/lib /usr/local/lib /usr/lib/clang/16/lib
    libs=-lpthread -lgdbm -ldl -lm -lcrypt -lutil -lc
    perllibs=-lpthread -ldl -lm -lcrypt -lutil -lc
    libc=
    so=so
    useshrplib=false
    libperl=libperl.a
    gnulibc_version=''
  Dynamic Linking:
    dlsrc=dl_dlopen.xs
    dlext=so
    d_dlsymun=undef
    ccdlflags=' '
    cccdlflags='-DPIC -fPIC'
    lddlflags='-shared  -L/usr/local/lib -fstack-protector-strong'


Characteristics of this binary (from libperl): 
  Compile-time options:
    HAS_LONG_DOUBLE
    HAS_STRTOLD
    HAS_TIMES
    PERLIO_LAYERS
    PERL_COPY_ON_WRITE
    PERL_DONT_CREATE_GVSV
    PERL_HASH_FUNC_SIPHASH13
    PERL_HASH_USE_SBOX32
    PERL_MALLOC_WRAP
    PERL_OP_PARENT
    PERL_PRESERVE_IVUV
    PERL_USE_SAFE_PUTENV
    USE_64_BIT_ALL
    USE_64_BIT_INT
    USE_LARGE_FILES
    USE_LOCALE
    USE_LOCALE_COLLATE
    USE_LOCALE_CTYPE
    USE_LOCALE_NUMERIC
    USE_LOCALE_TIME
    USE_PERLIO
    USE_PERL_ATOF
  Built under freebsd
  Compiled at Dec 13 2023 17:28:52
  %ENV:
    PERL5LIB=""
    PERL5OPT=""
    PERL5_CPANPLUS_IS_RUNNING="67759"
    PERL5_CPAN_IS_RUNNING="67759"
    PERL5_CPAN_IS_RUNNING_IN_RECURSION="66200,67759"
    PERLDOC="-MPod::Perldoc::ToTextOverstrike"
    PERL_BATCH="yes"
    PERL_CANARY_STABILITY_NOPROMPT="1"
    PERL_CPAN_REPORTER_CONFIG="/var/tmp/cpansmoker-1023/2023122107/cpanreporter_000_config.ini"
    PERL_EXTUTILS_AUTOINSTALL="--defaultdeps"
    PERL_USE_UNSAFE_INC="1"
  @INC:
    /usr/perl5.38.2/lib/site_perl/5.38.2/amd64-freebsd
    /usr/perl5.38.2/lib/site_perl/5.38.2
    /usr/perl5.38.2/lib/5.38.2/amd64-freebsd
    /usr/perl5.38.2/lib/5.38.2
    .