Module-Install-ReadmeFromPod v0.30 Perl 5 v5.26.0 amd64-freebsd

Status
Pass
From
Slaven Rezić (SREZIC)
Dist
Module-Install-ReadmeFromPod v0.30
Platform
Perl 5 v5.26.0 amd64-freebsd
Date
2018-03-02 20:56:04
ID
1f70b18c-1e5c-11e8-a31b-8a4b0215d858
This distribution has been tested as part of the CPAN Testers
project, supporting the Perl programming language.  See
http://wiki.cpantesters.org/ for more information or email
questions to cpan-testers-discuss@perl.org


--
Dear Chris Williams,

This is a computer-generated report for Module-Install-ReadmeFromPod-0.30
on perl 5.26.0, created by CPAN-Reporter-1.2018.

Thank you for uploading your work to CPAN.  Congratulations!
All tests were successful.

Sections of this report:

    * Tester comments
    * Program output
    * Prerequisites
    * Environment and other context

------------------------------
TESTER COMMENTS
------------------------------

Additional comments from tester:

none provided

------------------------------
PROGRAM OUTPUT
------------------------------

Output from '/usr/bin/make test':

PERL_DL_NONLAZY=1 "/usr/perl5.26.0p/bin/perl5.26.0" "-MExtUtils::Command::MM" "-MTest::Harness" "-e" "undef *Test::Harness::Switches; test_harness(0, 'inc', 'blib/lib', 'blib/arch')" t/*.t
# Testing Module::Install::ReadmeFromPod 0.30, Perl 5.026000, /usr/perl5.26.0p/bin/perl5.26.0
t/00_compile.t ....... ok
# Subroutine Module::Install::ReadmeFromPod::io redefined at /usr/perl5.26.0p/lib/site_perl/5.26.0/IO/All/Base.pm line 24.
# include /home/cpansand/.cpan/build/2018030221/Module-Install-ReadmeFromPod-0.30-1/dist/jdpkddilY3/inc/Module/Install.pm
# include inc/Module/Install/Metadata.pm
# include inc/Module/Install/Base.pm
# include inc/Module/Install/ReadmeFromPod.pm
# readme_from README.pm to txt
# readme_from README.pm to htm
# Subroutine Module::Install::ReadmeFromPod::io redefined at /usr/perl5.26.0p/lib/site_perl/5.26.0/IO/All/Base.pm line 24.
# Subroutine Module::Install::ReadmeFromPod::io redefined at /usr/perl5.26.0p/lib/site_perl/5.26.0/IO/All/Base.pm line 24.
# readme_from README.pm to man
# readme_from README.pm to md
# include inc/Module/Install/WriteAll.pm
# include inc/Module/Install/Makefile.pm
# include inc/Module/Install/Win32.pm
# include inc/Module/Install/Can.pm
# include inc/Module/Install/Fetch.pm
# Generating a Unix-style Makefile
# Writing Makefile for Foo::Bar
# Writing MYMETA.yml and MYMETA.json
# Writing META.yml
# rm -f  Bar.bso Bar.def  Bar.exp Bar.x   blib/arch/auto/Foo/Bar/extralibs.all  blib/arch/auto/Foo/Bar/extralibs.ld Makefile.aperl  *.a *.o  *perl.core MYMETA.json  MYMETA.yml blibdirs.ts  core core.*perl.*.?  core.[0-9] core.[0-9][0-9]  core.[0-9][0-9][0-9] core.[0-9][0-9][0-9][0-9]  core.[0-9][0-9][0-9][0-9][0-9] libBar.def  mon.out perl  perl perl.exe  perlmain.c pm_to_blib  pm_to_blib.ts so_locations  tmon.out
# rm -rf  blib
# mv Makefile Makefile.old > /dev/null 2>&1
# rm -f  Makefile Makefile.old
# rm -rf  Foo-Bar-0.01 MYMETA.yml
# rm -f Foo-Bar-0.01.tar.gz
# rm -f MANIFEST.bak _build
# "/usr/perl5.26.0p/bin/perl5.26.0" "-Iinc" "-Ilib" "-MModule::Install::Admin" -e "remove_meta()"
# rm -rf inc
# "/usr/perl5.26.0p/bin/perl5.26.0" "-Iinc" "-MExtUtils::Manifest=fullcheck" -e fullcheck
# Problem opening MANIFEST: No such file or directory at /usr/perl5.26.0p/lib/5.26.0/ExtUtils/Manifest.pm line 349.
# Problem opening MANIFEST: No such file or directory at /usr/perl5.26.0p/lib/5.26.0/ExtUtils/Manifest.pm line 349.
# Not in MANIFEST: Makefile.PL
# Not in MANIFEST: README
# Not in MANIFEST: README.1
# Not in MANIFEST: README.htm
# Not in MANIFEST: README.md
# Not in MANIFEST: README.pm
t/01_dist.t .......... ok
# Subroutine Module::Install::ReadmeFromPod::io redefined at /usr/perl5.26.0p/lib/site_perl/5.26.0/IO/All/Base.pm line 24.
# include /home/cpansand/.cpan/build/2018030221/Module-Install-ReadmeFromPod-0.30-1/dist/cXkuVSZaZ1/inc/Module/Install.pm
# include inc/Module/Install/Metadata.pm
# include inc/Module/Install/Base.pm
# include inc/Module/Install/ReadmeFromPod.pm
# readme_from README.pm to text
# include inc/Module/Install/Makefile.pm
# readme_from README.pm to html
# Subroutine Module::Install::ReadmeFromPod::io redefined at /usr/perl5.26.0p/lib/site_perl/5.26.0/IO/All/Base.pm line 24.
# Subroutine Module::Install::ReadmeFromPod::io redefined at /usr/perl5.26.0p/lib/site_perl/5.26.0/IO/All/Base.pm line 24.
# readme_from README.pm to md
# readme_from README.pm to man
# include inc/Module/Install/WriteAll.pm
# include inc/Module/Install/Win32.pm
# include inc/Module/Install/Can.pm
# include inc/Module/Install/Fetch.pm
# Generating a Unix-style Makefile
# Writing Makefile for Foo::Bar
# Writing MYMETA.yml and MYMETA.json
# Writing META.yml
# rm -f  Bar.bso Bar.def  Bar.exp Bar.x   blib/arch/auto/Foo/Bar/extralibs.all  blib/arch/auto/Foo/Bar/extralibs.ld Makefile.aperl  *.a *.o  *perl.core MYMETA.json  MYMETA.yml blibdirs.ts  core core.*perl.*.?  core.[0-9] core.[0-9][0-9]  core.[0-9][0-9][0-9] core.[0-9][0-9][0-9][0-9]  core.[0-9][0-9][0-9][0-9][0-9] libBar.def  mon.out perl  perl perl.exe  perlmain.c pm_to_blib  pm_to_blib.ts so_locations  tmon.out
# rm -rf  Foobar.htm Foobar.man  Foobar.md Foobar.txt  blib
# mv Makefile Makefile.old > /dev/null 2>&1
# rm -f  Makefile Makefile.old
# rm -rf  Foo-Bar-0.01 MYMETA.yml
# rm -f Foo-Bar-0.01.tar.gz
# rm -f MANIFEST.bak _build
# "/usr/perl5.26.0p/bin/perl5.26.0" "-Iinc" "-Ilib" "-MModule::Install::Admin" -e "remove_meta()"
# rm -rf inc
# "/usr/perl5.26.0p/bin/perl5.26.0" "-Iinc" "-MExtUtils::Manifest=fullcheck" -e fullcheck
# Problem opening MANIFEST: No such file or directory at /usr/perl5.26.0p/lib/5.26.0/ExtUtils/Manifest.pm line 349.
# Problem opening MANIFEST: No such file or directory at /usr/perl5.26.0p/lib/5.26.0/ExtUtils/Manifest.pm line 349.
# Not in MANIFEST: Makefile.PL
# Not in MANIFEST: README.pm
t/02_clean.t ......... ok
# include /home/cpansand/.cpan/build/2018030221/Module-Install-ReadmeFromPod-0.30-1/dist/WLXz3Da5BV/inc/Module/Install.pm
# include inc/Module/Install/Metadata.pm
# include inc/Module/Install/Base.pm
# include inc/Module/Install/Makefile.pm
# include inc/Module/Install/ReadmeFromPod.pm
# readme_from README.pm to txt
# include inc/Module/Install/WriteAll.pm
# include inc/Module/Install/Win32.pm
# include inc/Module/Install/Can.pm
# include inc/Module/Install/Fetch.pm
# Generating a Unix-style Makefile
# Writing Makefile for Foo::Bar
# Writing MYMETA.yml and MYMETA.json
# Writing META.yml
# rm -f  Bar.bso Bar.def  Bar.exp Bar.x   blib/arch/auto/Foo/Bar/extralibs.all  blib/arch/auto/Foo/Bar/extralibs.ld Makefile.aperl  *.a *.o  *perl.core MYMETA.json  MYMETA.yml blibdirs.ts  core core.*perl.*.?  core.[0-9] core.[0-9][0-9]  core.[0-9][0-9][0-9] core.[0-9][0-9][0-9][0-9]  core.[0-9][0-9][0-9][0-9][0-9] libBar.def  mon.out perl  perl perl.exe  perlmain.c pm_to_blib  pm_to_blib.ts so_locations  tmon.out
# rm -rf  blib
# mv Makefile Makefile.old > /dev/null 2>&1
# rm -f  Makefile Makefile.old
# rm -rf  Foo-Bar-0.01 MYMETA.yml
# rm -f Foo-Bar-0.01.tar.gz
# rm -f MANIFEST.bak _build
# "/usr/perl5.26.0p/bin/perl5.26.0" "-Iinc" "-Ilib" "-MModule::Install::Admin" -e "remove_meta()"
# rm -rf inc
# "/usr/perl5.26.0p/bin/perl5.26.0" "-Iinc" "-MExtUtils::Manifest=fullcheck" -e fullcheck
# Problem opening MANIFEST: No such file or directory at /usr/perl5.26.0p/lib/5.26.0/ExtUtils/Manifest.pm line 349.
# Problem opening MANIFEST: No such file or directory at /usr/perl5.26.0p/lib/5.26.0/ExtUtils/Manifest.pm line 349.
# Not in MANIFEST: Makefile.PL
# Not in MANIFEST: README
# Not in MANIFEST: README.pm
t/03_all_from.t ...... ok
t/04_distpdf.t ....... skipped: App::pod2pdf not installed
t/05_cleanpdf.t ...... skipped: App::pod2pdf not installed
t/99_pod.t ........... ok
t/99_pod_coverage.t .. ok
All tests successful.
Files=8, Tests=33,  3 wallclock secs ( 0.01 usr  0.03 sys +  0.33 cusr  1.56 csys =  1.93 CPU)
Result: PASS

------------------------------
PREREQUISITES
------------------------------

Prerequisite modules loaded:

requires:

    Module              Need  Have    
    ------------------- ----- --------
    IO::All             0     0.86    
    Module::Install     1     1.18    
    perl                5.006 5.026000
    Pod::Html           0     1.2202  
    Pod::Man            0     4.09    
    Pod::Markdown       2     3.005   
    Pod::Text           3.13  4.09    

build_requires:

    Module              Need  Have    
    ------------------- ----- --------
    Capture::Tiny       0.05  0.46    
    ExtUtils::MakeMaker 6.59  7.32    
    File::Temp          0     0.2304  
    Test::InDistDir     0     1.112071
    Test::More          0.47  1.302125

configure_requires:

    Module              Need  Have    
    ------------------- ----- --------
    ExtUtils::MakeMaker 6.59  7.32    


------------------------------
ENVIRONMENT AND OTHER CONTEXT
------------------------------

Environment variables:

    LC_ALL = de_DE.ISO8859-1
    PATH = /usr/local/bin:/usr/bin:/bin:/usr/local/sbin:/usr/sbin:/sbin:/home/cpansand/bin/freebsd10.3:/home/cpansand/bin/sh:/home/cpansand/bin:/usr/games:/home/cpansand/devel:/home/eserte/src/srezic-misc/scripts
    PERL5LIB = /home/cpansand/.cpan/build/2018030221/Date-Lectionary-1.20180302-2/blib/arch:/home/cpansand/.cpan/build/2018030221/Date-Lectionary-1.20180302-2/blib/lib
    PERL5OPT = 
    PERL5_CPANPLUS_IS_RUNNING = 1970
    PERL5_CPAN_IS_RUNNING = 1970
    PERL5_CPAN_IS_RUNNING_IN_RECURSION = 459,1970
    PERLDOC = -MPod::Perldoc::ToTextOverstrike
    PERL_BATCH = yes
    PERL_CANARY_STABILITY_NOPROMPT = 1
    PERL_CPAN_REPORTER_CONFIG = /var/tmp/cpansmoker-1023/2018030221/cpanreporter_000_config.ini
    PERL_EXTUTILS_AUTOINSTALL = --defaultdeps
    PERL_USE_UNSAFE_INC = 1
    SHELL = /usr/local/bin/zsh
    TERM = screen
    TMPDIR = /var/tmp/cpansmoker-1023/2018030221

Perl special variables (and OS-specific diagnostics, for MSWin32):

    $^X = /usr/perl5.26.0p/bin/perl5.26.0
    $UID/$EUID = 1023 / 1023
    $GID = 1023 1023
    $EGID = 1023 1023

Perl module toolchain versions installed:

    Module              Have    
    ------------------- --------
    CPAN                2.18    
    CPAN::Meta          2.150010
    Cwd                 3.74    
    ExtUtils::CBuilder  0.280230
    ExtUtils::Command   7.32    
    ExtUtils::Install   2.14    
    ExtUtils::MakeMaker 7.32    
    ExtUtils::Manifest  1.70    
    ExtUtils::ParseXS   3.34    
    File::Spec          3.74    
    JSON                2.97001 
    JSON::PP            2.94    
    Module::Build       0.4224  
    Module::Signature   0.81    
    Parse::CPAN::Meta   2.150010
    Test::Harness       3.39    
    Test::More          1.302125
    YAML                1.24    
    YAML::Syck          1.30    
    version             0.9917  


--

Summary of my perl5 (revision 5 version 26 subversion 0) configuration:
   
  Platform:
    osname=freebsd
    osvers=10.3-release-p11
    archname=amd64-freebsd
    uname='freebsd cvrsnica-freebsd-101.herceg.de 10.3-release-p11 freebsd 10.3-release-p11 #0: mon oct 24 18:49:24 utc 2016 root@amd64-builder.daemonology.net:usrobjusrsrcsysgeneric amd64 '
    config_args='-ds -e -Dprefix=/usr/perl5.26.0p -Dcf_email=srezic@cpan.org -Doptimize=-O2 -pipe'
    hint=recommended
    useposix=true
    d_sigaction=define
    useithreads=undef
    usemultiplicity=undef
    use64bitint=define
    use64bitall=define
    uselongdouble=undef
    usemymalloc=n
    default_inc_excludes_dot=define
    bincompat5005=undef
  Compiler:
    cc='cc'
    ccflags ='-DHAS_FPSETMASK -DHAS_FLOATINGPOINT_H -fno-strict-aliasing -pipe -fstack-protector -I/usr/local/include -D_FORTIFY_SOURCE=2'
    optimize='-O2 -pipe'
    cppflags='-DHAS_FPSETMASK -DHAS_FLOATINGPOINT_H -fno-strict-aliasing -pipe -fstack-protector -I/usr/local/include'
    ccversion=''
    gccversion='4.2.1 Compatible FreeBSD Clang 3.4.1 (tags/RELEASE_34/dot1-final 208032)'
    gccosandvers=''
    intsize=4
    longsize=8
    ptrsize=8
    doublesize=8
    byteorder=12345678
    doublekind=3
    d_longlong=define
    longlongsize=8
    d_longdbl=define
    longdblsize=16
    longdblkind=3
    ivtype='long'
    ivsize=8
    nvtype='double'
    nvsize=8
    Off_t='off_t'
    lseeksize=8
    alignbytes=8
    prototype=define
  Linker and Libraries:
    ld='cc'
    ldflags ='-pthread -Wl,-E  -fstack-protector -L/usr/local/lib'
    libpth=/usr/lib /usr/local/lib /usr/include/clang/3.4.1 /usr/lib
    libs=-lpthread -lgdbm -lm -lcrypt -lutil -lc -lelf
    perllibs=-lpthread -lm -lcrypt -lutil -lc -lelf
    libc=
    so=so
    useshrplib=false
    libperl=libperl.a
    gnulibc_version=''
  Dynamic Linking:
    dlsrc=dl_dlopen.xs
    dlext=so
    d_dlsymun=undef
    ccdlflags=' '
    cccdlflags='-DPIC -fPIC'
    lddlflags='-shared  -L/usr/local/lib -fstack-protector'


Characteristics of this binary (from libperl): 
  Compile-time options:
    HAS_TIMES
    PERLIO_LAYERS
    PERL_COPY_ON_WRITE
    PERL_DONT_CREATE_GVSV
    PERL_MALLOC_WRAP
    PERL_OP_PARENT
    PERL_PRESERVE_IVUV
    USE_64_BIT_ALL
    USE_64_BIT_INT
    USE_LARGE_FILES
    USE_LOCALE
    USE_LOCALE_COLLATE
    USE_LOCALE_CTYPE
    USE_LOCALE_NUMERIC
    USE_LOCALE_TIME
    USE_PERLIO
    USE_PERL_ATOF
  Built under freebsd
  Compiled at Jun  3 2017 22:58:33
  %ENV:
    PERL5LIB="/home/cpansand/.cpan/build/2018030221/Date-Lectionary-1.20180302-2/blib/arch:/home/cpansand/.cpan/build/2018030221/Date-Lectionary-1.20180302-2/blib/lib"
    PERL5OPT=""
    PERL5_CPANPLUS_IS_RUNNING="1970"
    PERL5_CPAN_IS_RUNNING="1970"
    PERL5_CPAN_IS_RUNNING_IN_RECURSION="459,1970"
    PERLDOC="-MPod::Perldoc::ToTextOverstrike"
    PERL_BATCH="yes"
    PERL_CANARY_STABILITY_NOPROMPT="1"
    PERL_CPAN_REPORTER_CONFIG="/var/tmp/cpansmoker-1023/2018030221/cpanreporter_000_config.ini"
    PERL_EXTUTILS_AUTOINSTALL="--defaultdeps"
    PERL_USE_UNSAFE_INC="1"
  @INC:
    /home/cpansand/.cpan/build/2018030221/Date-Lectionary-1.20180302-2/blib/arch
    /home/cpansand/.cpan/build/2018030221/Date-Lectionary-1.20180302-2/blib/lib
    /usr/perl5.26.0p/lib/site_perl/5.26.0/amd64-freebsd
    /usr/perl5.26.0p/lib/site_perl/5.26.0
    /usr/perl5.26.0p/lib/5.26.0/amd64-freebsd
    /usr/perl5.26.0p/lib/5.26.0
    .