Back
From: metabase:user:31d414ea-2aae-11df-837a-5e0a49663a4f
Subject: PASS Text-SenseClusters-LabelEvaluation-Driver-0.08 v5.16.0 GNU/Linux
Date: 2013-03-11T12:56:42Z
This distribution has been tested as part of the CPAN Testers
project, supporting the Perl programming language. See
http://wiki.cpantesters.org/ for more information or email
questions to cpan-testers-discuss@perl.org
--
Dear Anand Jha,
This is a computer-generated report for Text-SenseClusters-LabelEvaluation-Driver-0.08
on perl 5.16.0, created by CPAN-Reporter-1.2006.
Thank you for uploading your work to CPAN. Congratulations!
All tests were successful.
Sections of this report:
* Tester comments
* Program output
* Prerequisites
* Environment and other context
------------------------------
TESTER COMMENTS
------------------------------
Additional comments from tester:
this report is from an automated smoke testing program
and was not reviewed by a human for accuracy
------------------------------
PROGRAM OUTPUT
------------------------------
Output from '/usr/bin/make test':
PERL_DL_NONLAZY=1 /home/david/cpantesting/perl-5.16.0/bin/perl "-MExtUtils::Command::MM" "-e" "test_harness(0, 'blib/lib', 'blib/arch')" t/*.t
Wide character in print at /home/david/cpantesting/perl-5.16.0/.cpan/build/Text-SenseClusters-LabelEvaluation-Driver-0.08-ZnOC1I/blib/lib/Text/SenseClusters/LabelEvaluation/Wikipedia/GetWikiData.pm line 108.
t/getWikiData.t ............... ok
Original Contigency Matrix:
Tony Blair Bill Clinton
-------------------------------------------------
Cluster0 83 65
-------------------------------------------------
Cluster1 28 69
-------------------------------------------------
Contigency Matrix after Hungarian Algorithm:
Tony Blair Bill Clinton
-------------------------------------------------
Cluster0 83 65
-------------------------------------------------
Cluster1 28 69
-------------------------------------------------
Final Conclusion using Hungarian Algorithm::
Cluster0 <--> Tony Blair
Cluster1 <--> Bill Clinton
Accuracy of labels is 62.04%
t/labelEvaluationTestCase1.t .. ok
Original Contigency Matrix:
Bill Clinton Tony Blair
-------------------------------------------------
Cluster0 0 4
-------------------------------------------------
Cluster1 11 4
-------------------------------------------------
Contigency Matrix after Hungarian Algorithm:
Tony Blair Bill Clinton
-------------------------------------------------
Cluster0 4 0
-------------------------------------------------
Cluster1 4 11
-------------------------------------------------
Final Conclusion using Hungarian Algorithm::
Cluster0 <--> Tony Blair
Cluster1 <--> Bill Clinton
Accuracy of labels is 78.95%
t/labelEvaluationTestCase2.t .. ok
Contigency Matrix based on user input::
Bill Clinton Tony Blair
-------------------------------------------------
Cluster0 65 83
-------------------------------------------------
Cluster1 69 28
-------------------------------------------------
Mapping provided by user
Cluster1 <--> Bill Clinton
Cluster0 <--> Tony Blair
Accuracy of assigned labels =62.04%
t/labelEvaluationTestCase3.t .. ok
Bill Clinton Tony Blair
-------------------------------------------------
Cluster0 0 4
-------------------------------------------------
Cluster1 11 4
-------------------------------------------------
Mapping provided by user
Cluster1 <--> Tony Blair
Cluster0 <--> Bill Clinton
Accuracy of assigned labels =21.05%
t/labelEvaluationTestCase4.t .. ok
t/readingFilesData.t .......... ok
t/similarityScore.t ........... ok
Original Contigency Matrix:
BillClinton TonyBlair EhudBarak
-------------------------------------------------
Cluster0 2 4 7
-------------------------------------------------
Cluster1 3 9 5
-------------------------------------------------
Cluster2 8 2 9
-------------------------------------------------
Contigency Matrix after Hungarian Algorithm:
EhudBarak TonyBlair BillClinton
-------------------------------------------------
Cluster0 7 4 2
-------------------------------------------------
Cluster1 5 9 3
-------------------------------------------------
Cluster2 9 2 8
-------------------------------------------------
Final Conclusion using Hungarian Algorithm::
Cluster0 <--> EhudBarak
Cluster1 <--> TonyBlair
Cluster2 <--> BillClinton
t/usingHungarianAlgo.t ........ ok
All tests successful.
Files=8, Tests=37, 22 wallclock secs ( 0.02 usr 0.05 sys + 10.05 cusr 0.29 csys = 10.41 CPU)
Result: PASS
------------------------------
PREREQUISITES
------------------------------
Prerequisite modules loaded:
requires:
Module Need Have
------------------- ---- -------
Algorithm::Munkres 0.08 0.08
Test::More 0 0.98
Text::Similarity 0.09 0.09
WWW::Wikipedia 2 2.01
build_requires:
Module Need Have
------------------- ---- -------
ExtUtils::MakeMaker 0 6.63_02
configure_requires:
Module Need Have
------------------- ---- -------
ExtUtils::MakeMaker 0 6.63_02
------------------------------
ENVIRONMENT AND OTHER CONTEXT
------------------------------
Environment variables:
AUTOMATED_TESTING = 1
PATH = /usr/local/bin:/usr/bin:/bin:/usr/games
PERL = 5.16.0
PERL5LIB =
PERL5OPT =
PERL5_CPANPLUS_IS_RUNNING = 13074
PERL5_CPAN_IS_RUNNING = 13074
PERLVER = 5.16.0
PERL_INLINE_DIRECTORY = /home/david/.Inline-5.16.0
PERL_MM_USE_DEFAULT = 1
SHELL = /bin/bash
TERM = screen
Perl special variables (and OS-specific diagnostics, for MSWin32):
$^X = /home/david/cpantesting/perl-5.16.0/bin/perl
$UID/$EUID = 1000 / 1000
$GID = 1000 1000
$EGID = 1000 1000
Perl module toolchain versions installed:
Module Have
------------------- --------
CPAN 1.9800
CPAN::Meta 2.120630
Cwd 3.39_02
ExtUtils::CBuilder 0.280206
ExtUtils::Command 1.17
ExtUtils::Install 1.58
ExtUtils::MakeMaker 6.63_02
ExtUtils::Manifest 1.61
ExtUtils::ParseXS 3.16
File::Spec 3.39_02
JSON 2.53
JSON::PP 2.27200
Module::Build 0.4003
Module::Signature n/a
Parse::CPAN::Meta 1.4402
Test::Harness 3.23
Test::More 0.98
YAML 0.84
YAML::Syck n/a
version 0.99
--
Summary of my perl5 (revision 5 version 16 subversion 0) configuration:
Platform:
osname=linux, osvers=2.6.32-5-xen-amd64, archname=x86_64-linux-thread-multi
uname='linux pigsty.barnyard.co.uk 2.6.32-5-xen-amd64 #1 smp mon jan 16 20:48:30 utc 2012 x86_64 gnulinux '
config_args='-de -Dprefix=/home/david/cpantesting/perl-5.16.0 -Dusethreads -Duse64bitall'
hint=recommended, useposix=true, d_sigaction=define
useithreads=define, usemultiplicity=define
useperlio=define, d_sfio=undef, uselargefiles=define, usesocks=undef
use64bitint=define, use64bitall=define, uselongdouble=undef
usemymalloc=n, bincompat5005=undef
Compiler:
cc='cc', ccflags ='-D_REENTRANT -D_GNU_SOURCE -fno-strict-aliasing -pipe -fstack-protector -I/usr/local/include -D_LARGEFILE_SOURCE -D_FILE_OFFSET_BITS=64',
optimize='-O2',
cppflags='-D_REENTRANT -D_GNU_SOURCE -fno-strict-aliasing -pipe -fstack-protector -I/usr/local/include'
ccversion='', gccversion='4.1.2 20061115 (prerelease) (Debian 4.1.1-21)', gccosandvers=''
intsize=4, longsize=8, ptrsize=8, doublesize=8, byteorder=12345678
d_longlong=define, longlongsize=8, d_longdbl=define, longdblsize=16
ivtype='long', ivsize=8, nvtype='double', nvsize=8, Off_t='off_t', lseeksize=8
alignbytes=8, prototype=define
Linker and Libraries:
ld='cc', ldflags =' -fstack-protector -L/usr/local/lib'
libpth=/usr/local/lib /lib /usr/lib /lib64 /usr/lib64
libs=-lnsl -lgdbm -ldb -ldl -lm -lcrypt -lutil -lpthread -lc -lgdbm_compat
perllibs=-lnsl -ldl -lm -lcrypt -lutil -lpthread -lc
libc=/lib/libc-2.3.6.so, so=so, useshrplib=false, libperl=libperl.a
gnulibc_version='2.3.6'
Dynamic Linking:
dlsrc=dl_dlopen.xs, dlext=so, d_dlsymun=undef, ccdlflags='-Wl,-E'
cccdlflags='-fPIC', lddlflags='-shared -O2 -L/usr/local/lib -fstack-protector'
Characteristics of this binary (from libperl):
Compile-time options: HAS_TIMES MULTIPLICITY PERLIO_LAYERS
PERL_DONT_CREATE_GVSV PERL_IMPLICIT_CONTEXT
PERL_MALLOC_WRAP PERL_PRESERVE_IVUV USE_64_BIT_ALL
USE_64_BIT_INT USE_ITHREADS USE_LARGE_FILES
USE_LOCALE USE_LOCALE_COLLATE USE_LOCALE_CTYPE
USE_LOCALE_NUMERIC USE_PERLIO USE_PERL_ATOF
USE_REENTRANT_API
Built under linux
Compiled at May 21 2012 14:49:20
%ENV:
PERL="5.16.0"
PERL5LIB=""
PERL5OPT=""
PERL5_CPANPLUS_IS_RUNNING="13074"
PERL5_CPAN_IS_RUNNING="13074"
PERLVER="5.16.0"
PERL_INLINE_DIRECTORY="/home/david/.Inline-5.16.0"
PERL_MM_USE_DEFAULT="1"
@INC:
/home/david/cpantesting/perl-5.16.0/lib/site_perl/5.16.0/x86_64-linux-thread-multi
/home/david/cpantesting/perl-5.16.0/lib/site_perl/5.16.0
/home/david/cpantesting/perl-5.16.0/lib/5.16.0/x86_64-linux-thread-multi
/home/david/cpantesting/perl-5.16.0/lib/5.16.0
.