Test-CleanNamespaces v0.24 Perl 5 v5.32.0 x86_64-linux

Status
Pass
From
Dist
Test-CleanNamespaces v0.24
Platform
Perl 5 v5.32.0 x86_64-linux
Date
2021-01-06 04:39:11
ID
1f382c0c-4fd9-11eb-b2fb-f8543ce16139
This distribution has been tested as part of the CPAN Testers
project, supporting the Perl programming language.  See
http://wiki.cpantesters.org/ for more information or email
questions to cpan-testers-discuss@perl.org


--
Dear ETHER,

This is a computer-generated report for Test-CleanNamespaces-0.24
on perl 5.32.0, created by App::cpanminus::reporter 0.17 (1.7044).

Thank you for uploading your work to CPAN.  Congratulations!
All tests were successful.

Sections of this report:

    * Tester comments
    * Program output
    * Prerequisites
    * Environment and other context

------------------------------
TESTER COMMENTS
------------------------------

Additional comments from tester:

none provided

------------------------------
PROGRAM OUTPUT
------------------------------

Output from '':

Building and testing Test-CleanNamespaces-0.24
cp lib/Test/CleanNamespaces.pm blib/lib/Test/CleanNamespaces.pm
Manifying 1 pod document
PERL_DL_NONLAZY=1 "/home/osboxes/perl5/perlbrew/perls/perl-5.32.0/bin/perl" "-MExtUtils::Command::MM" "-MTest::Harness" "-e" "undef *Test::Harness::Switches; test_harness(0, 'blib/lib', 'blib/arch')" t/*.t
t/class_mop.t ................. skipped: skipping for regular installs, due to possible circular dependency issues
t/basic.t ..................... ok
t/clean-namespaces.t .......... ok
# 
# Versions for all modules listed in MYMETA.json (including optional ones):
# 
# === Configure Requires ===
# 
#     Module                       Want     Have
#     ------------------------ -------- --------
#     CPAN::Meta::Requirements 2.120620    2.140
#     ExtUtils::MakeMaker           any     7.44
#     Module::Metadata              any 1.000037
# 
# === Build Requires ===
# 
#     Module              Want Have
#     ------------------- ---- ----
#     ExtUtils::MakeMaker  any 7.44
# 
# === Test Requires ===
# 
#     Module                 Want     Have
#     --------------------- ----- --------
#     ExtUtils::MakeMaker     any     7.44
#     File::Spec              any     3.78
#     File::Spec::Functions   any     3.78
#     File::pushd             any    1.016
#     Scalar::Util            any     1.55
#     Sub::Exporter           any    0.987
#     Test::Deep              any    1.130
#     Test::More             0.96 1.302175
#     Test::Needs             any 0.002006
#     Test::Tester            any 1.302175
#     Test::Warnings        0.009    0.030
#     constant                any     1.33
#     if                      any   0.0608
#     lib                     any     0.65
#     namespace::clean        any     0.27
#     overload                any     1.31
#     parent                  any    0.238
# 
# === Test Recommends ===
# 
#     Module         Want     Have
#     ---------- -------- --------
#     CPAN::Meta 2.120900 2.150010
# 
# === Test Suggests ===
# 
#     Module                          Want     Have
#     --------------------------- -------- --------
#     Class::MOP::Class                any  missing
#     Moo                              any 2.004004
#     Moo::Role                        any 2.004004
#     Moose                            any  missing
#     Moose::Exporter                  any  missing
#     Moose::Role                      any  missing
#     MooseX::Role::Parameterized      any  missing
#     Mouse                            any  missing
#     Mouse::Role                      any  missing
#     Role::Tiny                  1.003000 2.001004
#     metaclass                        any  missing
# 
# === Runtime Requires ===
# 
#     Module              Want     Have
#     --------------- -------- --------
#     Exporter            5.57     5.74
#     File::Find           any     1.37
#     File::Spec           any     3.78
#     Module::Runtime      any    0.016
#     Package::Stash      0.14     0.39
#     Role::Tiny      1.003000 2.001004
#     Sub::Identify        any     0.14
#     Test::Builder        any 1.302175
#     strict               any     1.11
#     warnings             any     1.47
# 
# === Runtime Recommends ===
# 
#     Module             Want Have
#     ------------------ ---- ----
#     Package::Stash::XS  any 0.29
# 
# === Runtime Suggests ===
# 
#     Module     Want     Have
#     ---------- ---- --------
#     Role::Tiny  any 2.001004
# 
# === Other Modules ===
# 
#     Module             Have
#     --------------- -------
#     Encode             3.06
#     File::Temp       0.2309
#     JSON::PP           4.04
#     Module::Runtime   0.016
#     Pod::Coverage      0.23
#     Sub::Name          0.26
#     YAML            missing
#     autodie            2.32
# 
t/00-report-prereqs.t ......... ok
t/find_modules.t .............. ok
t/moo.t ....................... ok
t/moose-parameterized-role.t .. skipped: skipping for regular installs, due to possible circular dependency issues
t/moose.t ..................... skipped: skipping for regular installs, due to possible circular dependency issues
t/mouse.t ..................... skipped: Need Mouse
t/overload.t .................. ok
t/self.t ...................... ok
t/role_tiny.t ................. ok
t/zzz-check-breaks.t .......... ok
All tests successful.
Files=13, Tests=134,  1 wallclock secs ( 0.07 usr  0.02 sys +  1.19 cusr  0.19 csys =  1.47 CPU)
Result: PASS

------------------------------
PREREQUISITES
------------------------------

Prerequisite modules loaded:

    No requirements found

------------------------------
ENVIRONMENT AND OTHER CONTEXT
------------------------------

Environment variables:

    AUTHOR_TESTING = 1
    HARNESS_OPTIONS = j3
    LANG = en_GB.UTF-8
    LANGUAGE = en_GB:en
    LC_COLLATE = POSIX
    PATH = /home/osboxes/.perlbrew/libs/perl-5.32.0@normal/bin:/home/osboxes/perl5/perlbrew/bin:/home/osboxes/perl5/perlbrew/perls/perl-5.32.0/bin:/home/osboxes/bin:/home/osboxes/.local/bin:/usr/local/sbin:/usr/local/bin:/usr/sbin:/usr/bin:/sbin:/bin:/usr/games:/usr/local/games:/snap/bin
    PERL5LIB = /home/osboxes/.perlbrew/libs/perl-5.32.0@normal/lib/perl5
    PERLBREW_BASHRC_VERSION = 0.74
    PERLBREW_HOME = /home/osboxes/.perlbrew
    PERLBREW_LIB = normal
    PERLBREW_MANPATH = /home/osboxes/.perlbrew/libs/perl-5.32.0@normal/man:/home/osboxes/perl5/perlbrew/perls/perl-5.32.0/man
    PERLBREW_PATH = /home/osboxes/.perlbrew/libs/perl-5.32.0@normal/bin:/home/osboxes/perl5/perlbrew/bin:/home/osboxes/perl5/perlbrew/perls/perl-5.32.0/bin
    PERLBREW_PERL = perl-5.32.0
    PERLBREW_ROOT = /home/osboxes/perl5/perlbrew
    PERLBREW_VERSION = 0.88
    PERL_LOCAL_LIB_ROOT = /home/osboxes/.perlbrew/libs/perl-5.32.0@normal
    PERL_MB_OPT = --install_base /home/osboxes/.perlbrew/libs/perl-5.32.0@normal
    PERL_MM_OPT = INSTALL_BASE=/home/osboxes/.perlbrew/libs/perl-5.32.0@normal
    RELEASE_TESTING = 1
    SHELL = /bin/bash
    TERM = xterm-256color

Perl special variables (and OS-specific diagnostics, for MSWin32):

    EGID = 1000 4 24 27 30 46 113 128 130 1000
    EUID = 1000
    EXECUTABLE_NAME = /home/osboxes/perl5/perlbrew/perls/perl-5.32.0/bin/perl
    GID = 1000 4 24 27 30 46 113 128 130 1000
    UID = 1000

Perl module toolchain versions installed:

    Module              Have    
    ------------------- --------
    CPAN                2.27    
    CPAN::Meta          2.150010
    Cwd                 3.78    
    ExtUtils::CBuilder  0.280234
    ExtUtils::Command   7.44    
    ExtUtils::Install   2.14    
    ExtUtils::MakeMaker 7.44    
    ExtUtils::Manifest  1.72    
    ExtUtils::ParseXS   3.40    
    File::Spec          3.78    
    JSON                n/a     
    JSON::PP            4.04    
    Module::Build       0.4231  
    Module::Signature   n/a     
    Parse::CPAN::Meta   2.150010
    Test::Harness       3.42    
    Test::More          1.302175
    YAML                n/a     
    YAML::Syck          n/a     
    version             0.9924  


--

Summary of my perl5 (revision 5 version 32 subversion 0) configuration:
   
  Platform:
    osname=linux
    osvers=5.4.0-58-generic
    archname=x86_64-linux
    uname='linux osboxes 5.4.0-58-generic #64-ubuntu smp wed dec 9 08:16:25 utc 2020 x86_64 x86_64 x86_64 gnulinux '
    config_args='-de -Dprefix=/home/osboxes/perl5/perlbrew/perls/perl-5.32.0 -Accflags=-fPIC -Aeval:scriptdir=/home/osboxes/perl5/perlbrew/perls/perl-5.32.0/bin'
    hint=recommended
    useposix=true
    d_sigaction=define
    useithreads=undef
    usemultiplicity=undef
    use64bitint=define
    use64bitall=define
    uselongdouble=undef
    usemymalloc=n
    default_inc_excludes_dot=define
    bincompat5005=undef
  Compiler:
    cc='cc'
    ccflags ='-fPIC -fwrapv -fno-strict-aliasing -pipe -fstack-protector-strong -I/usr/local/include -D_LARGEFILE_SOURCE -D_FILE_OFFSET_BITS=64'
    optimize='-O2'
    cppflags='-fPIC -fwrapv -fno-strict-aliasing -pipe -fstack-protector-strong -I/usr/local/include'
    ccversion=''
    gccversion='9.3.0'
    gccosandvers=''
    intsize=4
    longsize=8
    ptrsize=8
    doublesize=8
    byteorder=12345678
    doublekind=3
    d_longlong=define
    longlongsize=8
    d_longdbl=define
    longdblsize=16
    longdblkind=3
    ivtype='long'
    ivsize=8
    nvtype='double'
    nvsize=8
    Off_t='off_t'
    lseeksize=8
    alignbytes=8
    prototype=define
  Linker and Libraries:
    ld='cc'
    ldflags =' -fstack-protector-strong -L/usr/local/lib'
    libpth=/usr/local/lib /usr/include/x86_64-linux-gnu /usr/lib /lib/x86_64-linux-gnu /lib/../lib /usr/lib/x86_64-linux-gnu /usr/lib/../lib /lib
    libs=-lpthread -lnsl -ldb -ldl -lm -lcrypt -lutil -lc
    perllibs=-lpthread -lnsl -ldl -lm -lcrypt -lutil -lc
    libc=libc-2.31.so
    so=so
    useshrplib=false
    libperl=libperl.a
    gnulibc_version='2.31'
  Dynamic Linking:
    dlsrc=dl_dlopen.xs
    dlext=so
    d_dlsymun=undef
    ccdlflags='-Wl,-E'
    cccdlflags='-fPIC'
    lddlflags='-shared -O2 -L/usr/local/lib -fstack-protector-strong'


Characteristics of this binary (from libperl): 
  Compile-time options:
    HAS_TIMES
    PERLIO_LAYERS
    PERL_COPY_ON_WRITE
    PERL_DONT_CREATE_GVSV
    PERL_MALLOC_WRAP
    PERL_OP_PARENT
    PERL_PRESERVE_IVUV
    USE_64_BIT_ALL
    USE_64_BIT_INT
    USE_LARGE_FILES
    USE_LOCALE
    USE_LOCALE_COLLATE
    USE_LOCALE_CTYPE
    USE_LOCALE_NUMERIC
    USE_LOCALE_TIME
    USE_PERLIO
    USE_PERL_ATOF
  Built under linux
  Compiled at Dec 25 2020 17:42:05
  %ENV:
    PERL5LIB="/home/osboxes/.perlbrew/libs/perl-5.32.0@normal/lib/perl5"
    PERLBREW_BASHRC_VERSION="0.74"
    PERLBREW_HOME="/home/osboxes/.perlbrew"
    PERLBREW_LIB="normal"
    PERLBREW_MANPATH="/home/osboxes/.perlbrew/libs/perl-5.32.0@normal/man:/home/osboxes/perl5/perlbrew/perls/perl-5.32.0/man"
    PERLBREW_PATH="/home/osboxes/.perlbrew/libs/perl-5.32.0@normal/bin:/home/osboxes/perl5/perlbrew/bin:/home/osboxes/perl5/perlbrew/perls/perl-5.32.0/bin"
    PERLBREW_PERL="perl-5.32.0"
    PERLBREW_ROOT="/home/osboxes/perl5/perlbrew"
    PERLBREW_VERSION="0.88"
    PERL_LOCAL_LIB_ROOT="/home/osboxes/.perlbrew/libs/perl-5.32.0@normal"
    PERL_MB_OPT="--install_base /home/osboxes/.perlbrew/libs/perl-5.32.0@normal"
    PERL_MM_OPT="INSTALL_BASE=/home/osboxes/.perlbrew/libs/perl-5.32.0@normal"
  @INC:
    /home/osboxes/.perlbrew/libs/perl-5.32.0@normal/lib/perl5/x86_64-linux
    /home/osboxes/.perlbrew/libs/perl-5.32.0@normal/lib/perl5
    /home/osboxes/perl5/perlbrew/perls/perl-5.32.0/lib/site_perl/5.32.0/x86_64-linux
    /home/osboxes/perl5/perlbrew/perls/perl-5.32.0/lib/site_perl/5.32.0
    /home/osboxes/perl5/perlbrew/perls/perl-5.32.0/lib/5.32.0/x86_64-linux
    /home/osboxes/perl5/perlbrew/perls/perl-5.32.0/lib/5.32.0